BEGIN:VCALENDAR
VERSION:2.0
PRODID:-//West Berkeley Fencing Club - ECPv6.15.18//NONSGML v1.0//EN
CALSCALE:GREGORIAN
METHOD:PUBLISH
X-ORIGINAL-URL:https://westberkeleyfencing.com
X-WR-CALDESC:Events for West Berkeley Fencing Club
REFRESH-INTERVAL;VALUE=DURATION:PT1H
X-Robots-Tag:noindex
X-PUBLISHED-TTL:PT1H
BEGIN:VTIMEZONE
TZID:America/Los_Angeles
BEGIN:DAYLIGHT
TZOFFSETFROM:-0800
TZOFFSETTO:-0700
TZNAME:PDT
DTSTART:20240310T100000
END:DAYLIGHT
BEGIN:STANDARD
TZOFFSETFROM:-0700
TZOFFSETTO:-0800
TZNAME:PST
DTSTART:20241103T090000
END:STANDARD
BEGIN:DAYLIGHT
TZOFFSETFROM:-0800
TZOFFSETTO:-0700
TZNAME:PDT
DTSTART:20250309T100000
END:DAYLIGHT
BEGIN:STANDARD
TZOFFSETFROM:-0700
TZOFFSETTO:-0800
TZNAME:PST
DTSTART:20251102T090000
END:STANDARD
BEGIN:DAYLIGHT
TZOFFSETFROM:-0800
TZOFFSETTO:-0700
TZNAME:PDT
DTSTART:20260308T100000
END:DAYLIGHT
BEGIN:STANDARD
TZOFFSETFROM:-0700
TZOFFSETTO:-0800
TZNAME:PST
DTSTART:20261101T090000
END:STANDARD
END:VTIMEZONE
BEGIN:VEVENT
DTSTART;TZID=America/Los_Angeles:20250127T160000
DTEND;TZID=America/Los_Angeles:20250127T170000
DTSTAMP:20260425T083549
CREATED:20240902T025404Z
LAST-MODIFIED:20250518T225328Z
UID:10003439-1737993600-1737997200@westberkeleyfencing.com
SUMMARY:Youth II
DESCRIPTION:Intermediate-level instruction for our continuing Youth Members ages 8-13.\nAthletes need their own standard equipment for participation.
URL:https://westberkeleyfencing.com/event/youth-i-ii-2/2025-01-27
LOCATION:West Berkeley Fencing Club\, 1111 Addison Street\, Berkeley\, CA\, 94706\, United States
CATEGORIES:Youth Classes
GEO:37.8684577;-122.2913141
X-APPLE-STRUCTURED-LOCATION;VALUE=URI;X-ADDRESS=West Berkeley Fencing Club 1111 Addison Street Berkeley CA 94706 United States;X-APPLE-RADIUS=500;X-TITLE=1111 Addison Street:geo:-122.2913141,37.8684577
END:VEVENT
BEGIN:VEVENT
DTSTART;TZID=America/Los_Angeles:20250127T170000
DTEND;TZID=America/Los_Angeles:20250127T183000
DTSTAMP:20260425T083549
CREATED:20241011T002352Z
LAST-MODIFIED:20250518T220103Z
UID:10003486-1737997200-1738002600@westberkeleyfencing.com
SUMMARY:Youth Team - Foil
DESCRIPTION:Youth Team program for our Youth Team Members ages 8-14 with prior experience.\nAthletes need full set of electric foil gear for participation.
URL:https://westberkeleyfencing.com/event/youth-iii-2-2/2025-01-27
LOCATION:West Berkeley Fencing Club\, 1111 Addison Street\, Berkeley\, CA\, 94706\, United States
CATEGORIES:Youth Classes
GEO:37.8684577;-122.2913141
X-APPLE-STRUCTURED-LOCATION;VALUE=URI;X-ADDRESS=West Berkeley Fencing Club 1111 Addison Street Berkeley CA 94706 United States;X-APPLE-RADIUS=500;X-TITLE=1111 Addison Street:geo:-122.2913141,37.8684577
END:VEVENT
BEGIN:VEVENT
DTSTART;TZID=America/Los_Angeles:20250127T180000
DTEND;TZID=America/Los_Angeles:20250127T203000
DTSTAMP:20260425T083549
CREATED:20240902T060322Z
LAST-MODIFIED:20250518T220402Z
UID:10003521-1738000800-1738009800@westberkeleyfencing.com
SUMMARY:Foil Team
DESCRIPTION:Foil-specific training for our experienced Junior+ Team Members.\nAthletes must have coach approval to join and their own electric gear
URL:https://westberkeleyfencing.com/event/jr-foil-team-2-2/2025-01-27
LOCATION:West Berkeley Fencing Club\, 1111 Addison Street\, Berkeley\, CA\, 94706\, United States
CATEGORIES:Jr. Team
GEO:37.8684577;-122.2913141
X-APPLE-STRUCTURED-LOCATION;VALUE=URI;X-ADDRESS=West Berkeley Fencing Club 1111 Addison Street Berkeley CA 94706 United States;X-APPLE-RADIUS=500;X-TITLE=1111 Addison Street:geo:-122.2913141,37.8684577
END:VEVENT
BEGIN:VEVENT
DTSTART;TZID=America/Los_Angeles:20250128T160000
DTEND;TZID=America/Los_Angeles:20250128T170000
DTSTAMP:20260425T083549
CREATED:20240902T055131Z
LAST-MODIFIED:20241227T230933Z
UID:10003549-1738080000-1738083600@westberkeleyfencing.com
SUMMARY:Youth I
DESCRIPTION:For first-time fencers & those reinforcing the basics.\nClass option for Youth Members ages 8-12. Pre-registration required.
URL:https://westberkeleyfencing.com/event/youth-i-3/2025-01-28
LOCATION:West Berkeley Fencing Club\, 1111 Addison Street\, Berkeley\, CA\, 94706\, United States
CATEGORIES:Youth Classes
GEO:37.8684577;-122.2913141
X-APPLE-STRUCTURED-LOCATION;VALUE=URI;X-ADDRESS=West Berkeley Fencing Club 1111 Addison Street Berkeley CA 94706 United States;X-APPLE-RADIUS=500;X-TITLE=1111 Addison Street:geo:-122.2913141,37.8684577
END:VEVENT
BEGIN:VEVENT
DTSTART;TZID=America/Los_Angeles:20250128T183000
DTEND;TZID=America/Los_Angeles:20250128T193000
DTSTAMP:20260425T083549
CREATED:20240902T061204Z
LAST-MODIFIED:20241227T232808Z
UID:10003908-1738089000-1738092600@westberkeleyfencing.com
SUMMARY:Team Bouting
DESCRIPTION:Electric bouting & lesson time for Youth Team & Junior+ Team Members.
URL:https://westberkeleyfencing.com/event/team-bouting-2-2/2025-01-28
LOCATION:West Berkeley Fencing Club\, 1111 Addison Street\, Berkeley\, CA\, 94706\, United States
CATEGORIES:Jr. Team
GEO:37.8684577;-122.2913141
X-APPLE-STRUCTURED-LOCATION;VALUE=URI;X-ADDRESS=West Berkeley Fencing Club 1111 Addison Street Berkeley CA 94706 United States;X-APPLE-RADIUS=500;X-TITLE=1111 Addison Street:geo:-122.2913141,37.8684577
END:VEVENT
BEGIN:VEVENT
DTSTART;TZID=America/Los_Angeles:20250128T193000
DTEND;TZID=America/Los_Angeles:20250128T203000
DTSTAMP:20260425T083549
CREATED:20240902T022503Z
LAST-MODIFIED:20241227T234247Z
UID:10004171-1738092600-1738096200@westberkeleyfencing.com
SUMMARY:Drill Class
DESCRIPTION:Footwork followed by partner drills. Open to our General & Team Members ages 13+ with prior fencing experience.
URL:https://westberkeleyfencing.com/event/3-weapon-drill-class-4/2025-01-28
LOCATION:West Berkeley Fencing Club\, 1111 Addison Street\, Berkeley\, CA\, 94706\, United States
CATEGORIES:Adult Classes
GEO:37.8684577;-122.2913141
X-APPLE-STRUCTURED-LOCATION;VALUE=URI;X-ADDRESS=West Berkeley Fencing Club 1111 Addison Street Berkeley CA 94706 United States;X-APPLE-RADIUS=500;X-TITLE=1111 Addison Street:geo:-122.2913141,37.8684577
END:VEVENT
BEGIN:VEVENT
DTSTART;TZID=America/Los_Angeles:20250128T203000
DTEND;TZID=America/Los_Angeles:20250128T220000
DTSTAMP:20260425T083549
CREATED:20240902T024222Z
LAST-MODIFIED:20251121T052336Z
UID:10002919-1738096200-1738101600@westberkeleyfencing.com
SUMMARY:Open Bouting
DESCRIPTION:Open floor time for electric bouting.\nFor ages 12+ with their own equipment and prior fencing experience.\nNon-Members: $25
URL:https://westberkeleyfencing.com/event/open-bouting-2/2025-01-28
LOCATION:West Berkeley Fencing Club\, 1111 Addison Street\, Berkeley\, CA\, 94706\, United States
CATEGORIES:Open Fencing
GEO:37.8684577;-122.2913141
X-APPLE-STRUCTURED-LOCATION;VALUE=URI;X-ADDRESS=West Berkeley Fencing Club 1111 Addison Street Berkeley CA 94706 United States;X-APPLE-RADIUS=500;X-TITLE=1111 Addison Street:geo:-122.2913141,37.8684577
END:VEVENT
BEGIN:VEVENT
DTSTART;TZID=America/Los_Angeles:20250129T160000
DTEND;TZID=America/Los_Angeles:20250129T170000
DTSTAMP:20260425T083549
CREATED:20240902T025404Z
LAST-MODIFIED:20250518T225328Z
UID:10003440-1738166400-1738170000@westberkeleyfencing.com
SUMMARY:Youth II
DESCRIPTION:Intermediate-level instruction for our continuing Youth Members ages 8-13.\nAthletes need their own standard equipment for participation.
URL:https://westberkeleyfencing.com/event/youth-i-ii-2/2025-01-29
LOCATION:West Berkeley Fencing Club\, 1111 Addison Street\, Berkeley\, CA\, 94706\, United States
CATEGORIES:Youth Classes
GEO:37.8684577;-122.2913141
X-APPLE-STRUCTURED-LOCATION;VALUE=URI;X-ADDRESS=West Berkeley Fencing Club 1111 Addison Street Berkeley CA 94706 United States;X-APPLE-RADIUS=500;X-TITLE=1111 Addison Street:geo:-122.2913141,37.8684577
END:VEVENT
BEGIN:VEVENT
DTSTART;TZID=America/Los_Angeles:20250129T170000
DTEND;TZID=America/Los_Angeles:20250129T183000
DTSTAMP:20260425T083549
CREATED:20240902T055659Z
LAST-MODIFIED:20250823T084148Z
UID:10003596-1738170000-1738175400@westberkeleyfencing.com
SUMMARY:Youth Team - Epée
DESCRIPTION:Youth Team program for our Youth Team Members ages 8-14 with prior experience.\nAthletes need full set of electric épée gear for participation.
URL:https://westberkeleyfencing.com/event/youth-epee-2/2025-01-29
LOCATION:West Berkeley Fencing Club\, 1111 Addison Street\, Berkeley\, CA\, 94706\, United States
CATEGORIES:Jr. Team,Youth Classes
GEO:37.8684577;-122.2913141
X-APPLE-STRUCTURED-LOCATION;VALUE=URI;X-ADDRESS=West Berkeley Fencing Club 1111 Addison Street Berkeley CA 94706 United States;X-APPLE-RADIUS=500;X-TITLE=1111 Addison Street:geo:-122.2913141,37.8684577
END:VEVENT
BEGIN:VEVENT
DTSTART;TZID=America/Los_Angeles:20250129T180000
DTEND;TZID=America/Los_Angeles:20250129T203000
DTSTAMP:20260425T083549
CREATED:20240902T060055Z
LAST-MODIFIED:20241227T231630Z
UID:10003621-1738173600-1738182600@westberkeleyfencing.com
SUMMARY:Epée Team
DESCRIPTION:Epée-specific training for our experienced Junior+ Team Members.\nAthletes must have coach approval to join and their own electric gear.
URL:https://westberkeleyfencing.com/event/jr-epee-team-3/2025-01-29
LOCATION:West Berkeley Fencing Club\, 1111 Addison Street\, Berkeley\, CA\, 94706\, United States
CATEGORIES:Jr. Team
GEO:37.8684577;-122.2913141
X-APPLE-STRUCTURED-LOCATION;VALUE=URI;X-ADDRESS=West Berkeley Fencing Club 1111 Addison Street Berkeley CA 94706 United States;X-APPLE-RADIUS=500;X-TITLE=1111 Addison Street:geo:-122.2913141,37.8684577
END:VEVENT
BEGIN:VEVENT
DTSTART;TZID=America/Los_Angeles:20250130T160000
DTEND;TZID=America/Los_Angeles:20250130T170000
DTSTAMP:20260425T083549
CREATED:20240902T055131Z
LAST-MODIFIED:20241227T230933Z
UID:10003550-1738252800-1738256400@westberkeleyfencing.com
SUMMARY:Youth I
DESCRIPTION:For first-time fencers & those reinforcing the basics.\nClass option for Youth Members ages 8-12. Pre-registration required.
URL:https://westberkeleyfencing.com/event/youth-i-3/2025-01-30
LOCATION:West Berkeley Fencing Club\, 1111 Addison Street\, Berkeley\, CA\, 94706\, United States
CATEGORIES:Youth Classes
GEO:37.8684577;-122.2913141
X-APPLE-STRUCTURED-LOCATION;VALUE=URI;X-ADDRESS=West Berkeley Fencing Club 1111 Addison Street Berkeley CA 94706 United States;X-APPLE-RADIUS=500;X-TITLE=1111 Addison Street:geo:-122.2913141,37.8684577
END:VEVENT
BEGIN:VEVENT
DTSTART;TZID=America/Los_Angeles:20250130T170000
DTEND;TZID=America/Los_Angeles:20250130T183000
DTSTAMP:20260425T083549
CREATED:20240902T063624Z
LAST-MODIFIED:20241227T235423Z
UID:10004688-1738256400-1738261800@westberkeleyfencing.com
SUMMARY:Youth Team - Foil & Epee
DESCRIPTION:Youth Team program for our Youth Team Members ages 8-14 with prior experience\nAthletes need full set of electric gear for participation.
URL:https://westberkeleyfencing.com/event/mixed-team-training/2025-01-30
LOCATION:West Berkeley Fencing Club\, 1111 Addison Street\, Berkeley\, CA\, 94706\, United States
CATEGORIES:Jr. Team
GEO:37.8684577;-122.2913141
X-APPLE-STRUCTURED-LOCATION;VALUE=URI;X-ADDRESS=West Berkeley Fencing Club 1111 Addison Street Berkeley CA 94706 United States;X-APPLE-RADIUS=500;X-TITLE=1111 Addison Street:geo:-122.2913141,37.8684577
END:VEVENT
BEGIN:VEVENT
DTSTART;TZID=America/Los_Angeles:20250130T193000
DTEND;TZID=America/Los_Angeles:20250130T203000
DTSTAMP:20260425T083549
CREATED:20240902T022503Z
LAST-MODIFIED:20241227T234247Z
UID:10004172-1738265400-1738269000@westberkeleyfencing.com
SUMMARY:Drill Class
DESCRIPTION:Footwork followed by partner drills. Open to our General & Team Members ages 13+ with prior fencing experience.
URL:https://westberkeleyfencing.com/event/3-weapon-drill-class-4/2025-01-30
LOCATION:West Berkeley Fencing Club\, 1111 Addison Street\, Berkeley\, CA\, 94706\, United States
CATEGORIES:Adult Classes
GEO:37.8684577;-122.2913141
X-APPLE-STRUCTURED-LOCATION;VALUE=URI;X-ADDRESS=West Berkeley Fencing Club 1111 Addison Street Berkeley CA 94706 United States;X-APPLE-RADIUS=500;X-TITLE=1111 Addison Street:geo:-122.2913141,37.8684577
END:VEVENT
BEGIN:VEVENT
DTSTART;TZID=America/Los_Angeles:20250130T203000
DTEND;TZID=America/Los_Angeles:20250130T220000
DTSTAMP:20260425T083549
CREATED:20240902T024222Z
LAST-MODIFIED:20251121T052336Z
UID:10002920-1738269000-1738274400@westberkeleyfencing.com
SUMMARY:Open Bouting
DESCRIPTION:Open floor time for electric bouting.\nFor ages 12+ with their own equipment and prior fencing experience.\nNon-Members: $25
URL:https://westberkeleyfencing.com/event/open-bouting-2/2025-01-30
LOCATION:West Berkeley Fencing Club\, 1111 Addison Street\, Berkeley\, CA\, 94706\, United States
CATEGORIES:Open Fencing
GEO:37.8684577;-122.2913141
X-APPLE-STRUCTURED-LOCATION;VALUE=URI;X-ADDRESS=West Berkeley Fencing Club 1111 Addison Street Berkeley CA 94706 United States;X-APPLE-RADIUS=500;X-TITLE=1111 Addison Street:geo:-122.2913141,37.8684577
END:VEVENT
BEGIN:VEVENT
DTSTART;TZID=America/Los_Angeles:20250201T090000
DTEND;TZID=America/Los_Angeles:20250201T094500
DTSTAMP:20260425T083549
CREATED:20240902T024421Z
LAST-MODIFIED:20260326T002949Z
UID:10001849-1738400400-1738403100@westberkeleyfencing.com
SUMMARY:Youth Swordplay
DESCRIPTION:A beginning-level class tailored to our Youth Members ages 5-7.\nPre-registration required.
URL:https://westberkeleyfencing.com/event/youth-swordplay-2/2025-02-01
LOCATION:West Berkeley Fencing Club\, 1111 Addison Street\, Berkeley\, CA\, 94706\, United States
CATEGORIES:Youth Classes
GEO:37.8684577;-122.2913141
X-APPLE-STRUCTURED-LOCATION;VALUE=URI;X-ADDRESS=West Berkeley Fencing Club 1111 Addison Street Berkeley CA 94706 United States;X-APPLE-RADIUS=500;X-TITLE=1111 Addison Street:geo:-122.2913141,37.8684577
END:VEVENT
BEGIN:VEVENT
DTSTART;TZID=America/Los_Angeles:20250201T100000
DTEND;TZID=America/Los_Angeles:20250201T110000
DTSTAMP:20260425T083550
CREATED:20241227T212721Z
LAST-MODIFIED:20260326T003514Z
UID:10001875-1738404000-1738407600@westberkeleyfencing.com
SUMMARY:Youth I
DESCRIPTION:For first-time fencers & those reinforcing the basics.\nClass option for our Youth Members ages 8-12. Pre-registration required.
URL:https://westberkeleyfencing.com/event/youth-i-2-2/2025-02-01
LOCATION:West Berkeley Fencing Club\, 1111 Addison Street\, Berkeley\, CA\, 94706\, United States
CATEGORIES:Youth Classes
GEO:37.8684577;-122.2913141
X-APPLE-STRUCTURED-LOCATION;VALUE=URI;X-ADDRESS=West Berkeley Fencing Club 1111 Addison Street Berkeley CA 94706 United States;X-APPLE-RADIUS=500;X-TITLE=1111 Addison Street:geo:-122.2913141,37.8684577
END:VEVENT
BEGIN:VEVENT
DTSTART;TZID=America/Los_Angeles:20250201T110000
DTEND;TZID=America/Los_Angeles:20250201T120000
DTSTAMP:20260425T083550
CREATED:20240902T062026Z
LAST-MODIFIED:20260326T004410Z
UID:10002135-1738407600-1738411200@westberkeleyfencing.com
SUMMARY:Youth II
DESCRIPTION:Intermediate-level instruction for our continuing Youth Members ages 8-13.\nAthletes need their own standard equipment for participation.
URL:https://westberkeleyfencing.com/event/youth-i-ii-3/2025-02-01
LOCATION:West Berkeley Fencing Club\, 1111 Addison Street\, Berkeley\, CA\, 94706\, United States
CATEGORIES:Youth Classes
GEO:37.8684577;-122.2913141
X-APPLE-STRUCTURED-LOCATION;VALUE=URI;X-ADDRESS=West Berkeley Fencing Club 1111 Addison Street Berkeley CA 94706 United States;X-APPLE-RADIUS=500;X-TITLE=1111 Addison Street:geo:-122.2913141,37.8684577
END:VEVENT
BEGIN:VEVENT
DTSTART;TZID=America/Los_Angeles:20250201T120000
DTEND;TZID=America/Los_Angeles:20250201T130000
DTSTAMP:20260425T083550
CREATED:20240902T022245Z
LAST-MODIFIED:20260326T004543Z
UID:10002395-1738411200-1738414800@westberkeleyfencing.com
SUMMARY:Drill Class
DESCRIPTION:Footwork followed by partner drills. Open to our General & Team Members ages 13+ with prior fencing experience.
URL:https://westberkeleyfencing.com/event/3-weapon-drill-class-3/2025-02-01
LOCATION:West Berkeley Fencing Club\, 1111 Addison Street\, Berkeley\, CA\, 94706\, United States
CATEGORIES:Adult Classes
GEO:37.8684577;-122.2913141
X-APPLE-STRUCTURED-LOCATION;VALUE=URI;X-ADDRESS=West Berkeley Fencing Club 1111 Addison Street Berkeley CA 94706 United States;X-APPLE-RADIUS=500;X-TITLE=1111 Addison Street:geo:-122.2913141,37.8684577
END:VEVENT
BEGIN:VEVENT
DTSTART;TZID=America/Los_Angeles:20250201T130000
DTEND;TZID=America/Los_Angeles:20250201T150000
DTSTAMP:20260425T083550
CREATED:20240902T023030Z
LAST-MODIFIED:20260326T004647Z
UID:10002655-1738414800-1738422000@westberkeleyfencing.com
SUMMARY:Open Bouting
DESCRIPTION:Open floor time for electric bouting.\nFor ages 12+ with their own equipment and prior fencing experience.\nNon-Members: $25
URL:https://westberkeleyfencing.com/event/open-bouting-3/2025-02-01
LOCATION:West Berkeley Fencing Club\, 1111 Addison Street\, Berkeley\, CA\, 94706\, United States
CATEGORIES:Open Fencing
GEO:37.8684577;-122.2913141
X-APPLE-STRUCTURED-LOCATION;VALUE=URI;X-ADDRESS=West Berkeley Fencing Club 1111 Addison Street Berkeley CA 94706 United States;X-APPLE-RADIUS=500;X-TITLE=1111 Addison Street:geo:-122.2913141,37.8684577
END:VEVENT
END:VCALENDAR