BEGIN:VCALENDAR
VERSION:2.0
PRODID:-//West Berkeley Fencing Club - ECPv6.15.18//NONSGML v1.0//EN
CALSCALE:GREGORIAN
METHOD:PUBLISH
X-ORIGINAL-URL:https://westberkeleyfencing.com
X-WR-CALDESC:Events for West Berkeley Fencing Club
REFRESH-INTERVAL;VALUE=DURATION:PT1H
X-Robots-Tag:noindex
X-PUBLISHED-TTL:PT1H
BEGIN:VTIMEZONE
TZID:America/Los_Angeles
BEGIN:DAYLIGHT
TZOFFSETFROM:-0800
TZOFFSETTO:-0700
TZNAME:PDT
DTSTART:20230312T100000
END:DAYLIGHT
BEGIN:STANDARD
TZOFFSETFROM:-0700
TZOFFSETTO:-0800
TZNAME:PST
DTSTART:20231105T090000
END:STANDARD
BEGIN:DAYLIGHT
TZOFFSETFROM:-0800
TZOFFSETTO:-0700
TZNAME:PDT
DTSTART:20240310T100000
END:DAYLIGHT
BEGIN:STANDARD
TZOFFSETFROM:-0700
TZOFFSETTO:-0800
TZNAME:PST
DTSTART:20241103T090000
END:STANDARD
BEGIN:DAYLIGHT
TZOFFSETFROM:-0800
TZOFFSETTO:-0700
TZNAME:PDT
DTSTART:20250309T100000
END:DAYLIGHT
BEGIN:STANDARD
TZOFFSETFROM:-0700
TZOFFSETTO:-0800
TZNAME:PST
DTSTART:20251102T090000
END:STANDARD
END:VTIMEZONE
BEGIN:VEVENT
DTSTART;TZID=America/Los_Angeles:20240827T160000
DTEND;TZID=America/Los_Angeles:20240827T170000
DTSTAMP:20260425T194239
CREATED:20240516T022147Z
LAST-MODIFIED:20240516T022147Z
UID:10000024-1724774400-1724778000@westberkeleyfencing.com
SUMMARY:Summer Youth I/II
DESCRIPTION:Summer youth class for beginning-intermediate fencers ages 8-12.
URL:https://westberkeleyfencing.com/event/summer-youth-i-ii/2024-08-27
LOCATION:West Berkeley Fencing Club\, 1111 Addison Street\, Berkeley\, CA\, 94706\, United States
CATEGORIES:Youth Classes
GEO:37.8684577;-122.2913141
X-APPLE-STRUCTURED-LOCATION;VALUE=URI;X-ADDRESS=West Berkeley Fencing Club 1111 Addison Street Berkeley CA 94706 United States;X-APPLE-RADIUS=500;X-TITLE=1111 Addison Street:geo:-122.2913141,37.8684577
END:VEVENT
BEGIN:VEVENT
DTSTART;TZID=America/Los_Angeles:20240827T183000
DTEND;TZID=America/Los_Angeles:20240827T193000
DTSTAMP:20260425T194239
CREATED:20240516T014148Z
LAST-MODIFIED:20240516T014148Z
UID:10000243-1724783400-1724787000@westberkeleyfencing.com
SUMMARY:Summer Team Bouting
DESCRIPTION:Summer schedule electric bouting & lesson time for our Youth & Junior Team members.\n24-25 Season schedule begins in September.
URL:https://westberkeleyfencing.com/event/summer-team-bouting/2024-08-27
LOCATION:West Berkeley Fencing Club\, 1111 Addison Street\, Berkeley\, CA\, 94706\, United States
CATEGORIES:Jr. Team
GEO:37.8684577;-122.2913141
X-APPLE-STRUCTURED-LOCATION;VALUE=URI;X-ADDRESS=West Berkeley Fencing Club 1111 Addison Street Berkeley CA 94706 United States;X-APPLE-RADIUS=500;X-TITLE=1111 Addison Street:geo:-122.2913141,37.8684577
END:VEVENT
BEGIN:VEVENT
DTSTART;TZID=America/Los_Angeles:20240827T193000
DTEND;TZID=America/Los_Angeles:20240827T203000
DTSTAMP:20260425T194239
CREATED:20170726T205846Z
LAST-MODIFIED:20240516T011104Z
UID:10000109-1724787000-1724790600@westberkeleyfencing.com
SUMMARY:3-Weapon Drill
DESCRIPTION:Footwork followed by partner drills in all weapons. Open to WBFC members ages 13+ with prior fencing experience & equipment.
URL:https://westberkeleyfencing.com/event/3-weapon-drill-class/2024-08-27
LOCATION:West Berkeley Fencing Club\, 1111 Addison Street\, Berkeley\, CA\, 94706\, United States
CATEGORIES:Adult Classes
GEO:37.8684577;-122.2913141
X-APPLE-STRUCTURED-LOCATION;VALUE=URI;X-ADDRESS=West Berkeley Fencing Club 1111 Addison Street Berkeley CA 94706 United States;X-APPLE-RADIUS=500;X-TITLE=1111 Addison Street:geo:-122.2913141,37.8684577
END:VEVENT
BEGIN:VEVENT
DTSTART;TZID=America/Los_Angeles:20240828T160000
DTEND;TZID=America/Los_Angeles:20240828T170000
DTSTAMP:20260425T194239
CREATED:20240516T022147Z
LAST-MODIFIED:20240516T022147Z
UID:10000025-1724860800-1724864400@westberkeleyfencing.com
SUMMARY:Summer Youth I/II
DESCRIPTION:Summer youth class for beginning-intermediate fencers ages 8-12.
URL:https://westberkeleyfencing.com/event/summer-youth-i-ii/2024-08-28
LOCATION:West Berkeley Fencing Club\, 1111 Addison Street\, Berkeley\, CA\, 94706\, United States
CATEGORIES:Youth Classes
GEO:37.8684577;-122.2913141
X-APPLE-STRUCTURED-LOCATION;VALUE=URI;X-ADDRESS=West Berkeley Fencing Club 1111 Addison Street Berkeley CA 94706 United States;X-APPLE-RADIUS=500;X-TITLE=1111 Addison Street:geo:-122.2913141,37.8684577
END:VEVENT
BEGIN:VEVENT
DTSTART;TZID=America/Los_Angeles:20240828T180000
DTEND;TZID=America/Los_Angeles:20240828T203000
DTSTAMP:20260425T194239
CREATED:20240523T020831Z
LAST-MODIFIED:20240523T020831Z
UID:10000250-1724868000-1724877000@westberkeleyfencing.com
SUMMARY:Summer Team Bouting
DESCRIPTION:Summer schedule electric bouting & lesson time for our Youth & Junior Team members.\n24-25 Season schedule begins in September.
URL:https://westberkeleyfencing.com/event/summer-team-bouting/2024-08-28
LOCATION:West Berkeley Fencing Club\, 1111 Addison Street\, Berkeley\, CA\, 94706\, United States
CATEGORIES:Jr. Team
GEO:37.8684577;-122.2913141
X-APPLE-STRUCTURED-LOCATION;VALUE=URI;X-ADDRESS=West Berkeley Fencing Club 1111 Addison Street Berkeley CA 94706 United States;X-APPLE-RADIUS=500;X-TITLE=1111 Addison Street:geo:-122.2913141,37.8684577
END:VEVENT
BEGIN:VEVENT
DTSTART;TZID=America/Los_Angeles:20240829T193000
DTEND;TZID=America/Los_Angeles:20240829T200000
DTSTAMP:20260425T194239
CREATED:20170902T090226Z
LAST-MODIFIED:20240516T011345Z
UID:10000661-1724959800-1724961600@westberkeleyfencing.com
SUMMARY:Footwork & Functional
DESCRIPTION:Group footwork and functional warm-up class for teen & adult members.\nOffered in-person and online over Zoom.
URL:https://westberkeleyfencing.com/event/3-weapon-drill-class-2/2024-08-29
LOCATION:West Berkeley Fencing Club\, 1111 Addison Street\, Berkeley\, CA\, 94706\, United States
CATEGORIES:Adult Classes
GEO:37.8684577;-122.2913141
X-APPLE-STRUCTURED-LOCATION;VALUE=URI;X-ADDRESS=West Berkeley Fencing Club 1111 Addison Street Berkeley CA 94706 United States;X-APPLE-RADIUS=500;X-TITLE=1111 Addison Street:geo:-122.2913141,37.8684577
END:VEVENT
BEGIN:VEVENT
DTSTART;TZID=America/Los_Angeles:20240829T200000
DTEND;TZID=America/Los_Angeles:20240829T213000
DTSTAMP:20260425T194239
CREATED:20240523T020907Z
LAST-MODIFIED:20240523T020907Z
UID:10001054-1724961600-1724967000@westberkeleyfencing.com
SUMMARY:Open Bouting
DESCRIPTION:Open floor time for electric bouting.\nFor ages 12+ with equipment and prior fencing experience.
URL:https://westberkeleyfencing.com/event/open-bouting/2024-08-29
LOCATION:West Berkeley Fencing Club\, 1111 Addison Street\, Berkeley\, CA\, 94706\, United States
CATEGORIES:Open Fencing
GEO:37.8684577;-122.2913141
X-APPLE-STRUCTURED-LOCATION;VALUE=URI;X-ADDRESS=West Berkeley Fencing Club 1111 Addison Street Berkeley CA 94706 United States;X-APPLE-RADIUS=500;X-TITLE=1111 Addison Street:geo:-122.2913141,37.8684577
END:VEVENT
BEGIN:VEVENT
DTSTART;TZID=America/Los_Angeles:20240831T091500
DTEND;TZID=America/Los_Angeles:20240831T100000
DTSTAMP:20260425T194239
CREATED:20170926T234615Z
LAST-MODIFIED:20240228T234659Z
UID:10000442-1725095700-1725098400@westberkeleyfencing.com
SUMMARY:Youth Swordplay
DESCRIPTION:A beginning level class tailored to athletes ages 5-7.\nClass size is limited. Pre-registration required.
URL:https://westberkeleyfencing.com/event/youth-swordplay/2024-08-31
LOCATION:West Berkeley Fencing Club\, 1111 Addison Street\, Berkeley\, CA\, 94706\, United States
CATEGORIES:Youth Classes
GEO:37.8684577;-122.2913141
X-APPLE-STRUCTURED-LOCATION;VALUE=URI;X-ADDRESS=West Berkeley Fencing Club 1111 Addison Street Berkeley CA 94706 United States;X-APPLE-RADIUS=500;X-TITLE=1111 Addison Street:geo:-122.2913141,37.8684577
END:VEVENT
BEGIN:VEVENT
DTSTART;TZID=America/Los_Angeles:20240831T101500
DTEND;TZID=America/Los_Angeles:20240831T111500
DTSTAMP:20260425T194239
CREATED:20240523T020909Z
LAST-MODIFIED:20251121T054204Z
UID:10001181-1725099300-1725102900@westberkeleyfencing.com
SUMMARY:Youth I
DESCRIPTION:For first-time fencers & those reinforcing the basics.\nDesigned for ages 8-12. Pre-registration required.
URL:https://westberkeleyfencing.com/event/youth-i-4/2024-08-31
LOCATION:West Berkeley Fencing Club\, 1111 Addison Street\, Berkeley\, CA\, 94706\, United States
CATEGORIES:Youth Classes
GEO:37.8684577;-122.2913141
X-APPLE-STRUCTURED-LOCATION;VALUE=URI;X-ADDRESS=West Berkeley Fencing Club 1111 Addison Street Berkeley CA 94706 United States;X-APPLE-RADIUS=500;X-TITLE=1111 Addison Street:geo:-122.2913141,37.8684577
END:VEVENT
BEGIN:VEVENT
DTSTART;TZID=America/Los_Angeles:20240831T113000
DTEND;TZID=America/Los_Angeles:20240831T123000
DTSTAMP:20260425T194239
CREATED:20240523T020824Z
LAST-MODIFIED:20240523T020824Z
UID:10000159-1725103800-1725107400@westberkeleyfencing.com
SUMMARY:3-Weapon Drill
DESCRIPTION:Footwork followed by partner drills in all weapons. Open to WBFC members ages 13+ with prior fencing experience & equipment.
URL:https://westberkeleyfencing.com/event/3-weapon-drill-class/2024-08-31
LOCATION:West Berkeley Fencing Club\, 1111 Addison Street\, Berkeley\, CA\, 94706\, United States
CATEGORIES:Adult Classes
GEO:37.8684577;-122.2913141
X-APPLE-STRUCTURED-LOCATION;VALUE=URI;X-ADDRESS=West Berkeley Fencing Club 1111 Addison Street Berkeley CA 94706 United States;X-APPLE-RADIUS=500;X-TITLE=1111 Addison Street:geo:-122.2913141,37.8684577
END:VEVENT
END:VCALENDAR