BEGIN:VCALENDAR
VERSION:2.0
PRODID:-//West Berkeley Fencing Club - ECPv6.15.18//NONSGML v1.0//EN
CALSCALE:GREGORIAN
METHOD:PUBLISH
X-ORIGINAL-URL:https://westberkeleyfencing.com
X-WR-CALDESC:Events for West Berkeley Fencing Club
REFRESH-INTERVAL;VALUE=DURATION:PT1H
X-Robots-Tag:noindex
X-PUBLISHED-TTL:PT1H
BEGIN:VTIMEZONE
TZID:America/Los_Angeles
BEGIN:DAYLIGHT
TZOFFSETFROM:-0800
TZOFFSETTO:-0700
TZNAME:PDT
DTSTART:20260308T100000
END:DAYLIGHT
BEGIN:STANDARD
TZOFFSETFROM:-0700
TZOFFSETTO:-0800
TZNAME:PST
DTSTART:20261101T090000
END:STANDARD
BEGIN:DAYLIGHT
TZOFFSETFROM:-0800
TZOFFSETTO:-0700
TZNAME:PDT
DTSTART:20270314T100000
END:DAYLIGHT
BEGIN:STANDARD
TZOFFSETFROM:-0700
TZOFFSETTO:-0800
TZNAME:PST
DTSTART:20271107T090000
END:STANDARD
BEGIN:DAYLIGHT
TZOFFSETFROM:-0800
TZOFFSETTO:-0700
TZNAME:PDT
DTSTART:20280312T100000
END:DAYLIGHT
BEGIN:STANDARD
TZOFFSETFROM:-0700
TZOFFSETTO:-0800
TZNAME:PST
DTSTART:20281105T090000
END:STANDARD
END:VTIMEZONE
BEGIN:VEVENT
DTSTART;TZID=America/Los_Angeles:20270914T203000
DTEND;TZID=America/Los_Angeles:20270914T220000
DTSTAMP:20260425T192553
CREATED:20240902T024222Z
LAST-MODIFIED:20251121T052336Z
UID:10003193-1820953800-1820959200@westberkeleyfencing.com
SUMMARY:Open Bouting
DESCRIPTION:Open floor time for electric bouting.\nFor ages 12+ with their own equipment and prior fencing experience.\nNon-Members: $25
URL:https://westberkeleyfencing.com/event/open-bouting-2/2027-09-14
LOCATION:West Berkeley Fencing Club\, 1111 Addison Street\, Berkeley\, CA\, 94706\, United States
CATEGORIES:Open Fencing
GEO:37.8684577;-122.2913141
X-APPLE-STRUCTURED-LOCATION;VALUE=URI;X-ADDRESS=West Berkeley Fencing Club 1111 Addison Street Berkeley CA 94706 United States;X-APPLE-RADIUS=500;X-TITLE=1111 Addison Street:geo:-122.2913141,37.8684577
END:VEVENT
BEGIN:VEVENT
DTSTART;TZID=America/Los_Angeles:20270915T160000
DTEND;TZID=America/Los_Angeles:20270915T170000
DTSTAMP:20260425T192553
CREATED:20250823T071831Z
LAST-MODIFIED:20260118T195831Z
UID:10006453-1821024000-1821027600@westberkeleyfencing.com
SUMMARY:Youth II
DESCRIPTION:Intermediate-level instruction for our continuing Youth Members ages 8-13.\nAthletes need their own standard equipment for participation.
URL:https://westberkeleyfencing.com/event/youth-i-ii-2-2/2027-09-15
LOCATION:West Berkeley Fencing Club\, 1111 Addison Street\, Berkeley\, CA\, 94706\, United States
CATEGORIES:Youth Classes
GEO:37.8684577;-122.2913141
X-APPLE-STRUCTURED-LOCATION;VALUE=URI;X-ADDRESS=West Berkeley Fencing Club 1111 Addison Street Berkeley CA 94706 United States;X-APPLE-RADIUS=500;X-TITLE=1111 Addison Street:geo:-122.2913141,37.8684577
END:VEVENT
BEGIN:VEVENT
DTSTART;TZID=America/Los_Angeles:20270916T160000
DTEND;TZID=America/Los_Angeles:20270916T170000
DTSTAMP:20260425T192553
CREATED:20250823T081151Z
LAST-MODIFIED:20260326T004833Z
UID:10006974-1821110400-1821114000@westberkeleyfencing.com
SUMMARY:Youth I
DESCRIPTION:For first-time fencers & those reinforcing the basics.\nClass option for Youth Members ages 8-12. Pre-registration required.
URL:https://westberkeleyfencing.com/event/youth-i-3-2/2027-09-16
LOCATION:West Berkeley Fencing Club\, 1111 Addison Street\, Berkeley\, CA\, 94706\, United States
CATEGORIES:Youth Classes
GEO:37.8684577;-122.2913141
X-APPLE-STRUCTURED-LOCATION;VALUE=URI;X-ADDRESS=West Berkeley Fencing Club 1111 Addison Street Berkeley CA 94706 United States;X-APPLE-RADIUS=500;X-TITLE=1111 Addison Street:geo:-122.2913141,37.8684577
END:VEVENT
BEGIN:VEVENT
DTSTART;TZID=America/Los_Angeles:20270916T171500
DTEND;TZID=America/Los_Angeles:20270916T183000
DTSTAMP:20260425T192553
CREATED:20230810T002951Z
LAST-MODIFIED:20251121T053520Z
UID:10006084-1821114900-1821119400@westberkeleyfencing.com
SUMMARY:Conditioning & Agility
DESCRIPTION:Conditioning and footwork drills for Team members
URL:https://westberkeleyfencing.com/event/conditioning-agility/2027-09-16
LOCATION:West Berkeley Fencing Club\, 1111 Addison Street\, Berkeley\, CA\, 94706\, United States
CATEGORIES:Jr. Team
GEO:37.8684577;-122.2913141
X-APPLE-STRUCTURED-LOCATION;VALUE=URI;X-ADDRESS=West Berkeley Fencing Club 1111 Addison Street Berkeley CA 94706 United States;X-APPLE-RADIUS=500;X-TITLE=1111 Addison Street:geo:-122.2913141,37.8684577
END:VEVENT
BEGIN:VEVENT
DTSTART;TZID=America/Los_Angeles:20270916T183000
DTEND;TZID=America/Los_Angeles:20270916T193000
DTSTAMP:20260425T192553
CREATED:20250518T165848Z
LAST-MODIFIED:20251121T054024Z
UID:10005290-1821119400-1821123000@westberkeleyfencing.com
SUMMARY:Team Bouting
DESCRIPTION:Electric bouting & lesson time for Youth Team & Junior+ Team Members.
URL:https://westberkeleyfencing.com/event/team-bouting-2-2-2/2027-09-16
LOCATION:West Berkeley Fencing Club\, 1111 Addison Street\, Berkeley\, CA\, 94706\, United States
CATEGORIES:Jr. Team
GEO:37.8684577;-122.2913141
X-APPLE-STRUCTURED-LOCATION;VALUE=URI;X-ADDRESS=West Berkeley Fencing Club 1111 Addison Street Berkeley CA 94706 United States;X-APPLE-RADIUS=500;X-TITLE=1111 Addison Street:geo:-122.2913141,37.8684577
END:VEVENT
BEGIN:VEVENT
DTSTART;TZID=America/Los_Angeles:20270916T193000
DTEND;TZID=America/Los_Angeles:20270916T203000
DTSTAMP:20260425T192553
CREATED:20250518T170448Z
LAST-MODIFIED:20251121T054543Z
UID:10004446-1821123000-1821126600@westberkeleyfencing.com
SUMMARY:Drill Class
DESCRIPTION:Footwork followed by partner drills. Open to our General & Team Members ages 13+ with prior fencing experience.
URL:https://westberkeleyfencing.com/event/3-weapon-drill-class-4-2/2027-09-16
LOCATION:West Berkeley Fencing Club\, 1111 Addison Street\, Berkeley\, CA\, 94706\, United States
CATEGORIES:Adult Classes
GEO:37.8684577;-122.2913141
X-APPLE-STRUCTURED-LOCATION;VALUE=URI;X-ADDRESS=West Berkeley Fencing Club 1111 Addison Street Berkeley CA 94706 United States;X-APPLE-RADIUS=500;X-TITLE=1111 Addison Street:geo:-122.2913141,37.8684577
END:VEVENT
BEGIN:VEVENT
DTSTART;TZID=America/Los_Angeles:20270916T203000
DTEND;TZID=America/Los_Angeles:20270916T220000
DTSTAMP:20260425T192553
CREATED:20240902T024222Z
LAST-MODIFIED:20251121T052336Z
UID:10003194-1821126600-1821132000@westberkeleyfencing.com
SUMMARY:Open Bouting
DESCRIPTION:Open floor time for electric bouting.\nFor ages 12+ with their own equipment and prior fencing experience.\nNon-Members: $25
URL:https://westberkeleyfencing.com/event/open-bouting-2/2027-09-16
LOCATION:West Berkeley Fencing Club\, 1111 Addison Street\, Berkeley\, CA\, 94706\, United States
CATEGORIES:Open Fencing
GEO:37.8684577;-122.2913141
X-APPLE-STRUCTURED-LOCATION;VALUE=URI;X-ADDRESS=West Berkeley Fencing Club 1111 Addison Street Berkeley CA 94706 United States;X-APPLE-RADIUS=500;X-TITLE=1111 Addison Street:geo:-122.2913141,37.8684577
END:VEVENT
BEGIN:VEVENT
DTSTART;TZID=America/Los_Angeles:20270918T090000
DTEND;TZID=America/Los_Angeles:20270918T094500
DTSTAMP:20260425T192553
CREATED:20240902T024421Z
LAST-MODIFIED:20260326T002949Z
UID:10005828-1821258000-1821260700@westberkeleyfencing.com
SUMMARY:Youth Swordplay
DESCRIPTION:A beginning-level class tailored to our Youth Members ages 5-7.\nPre-registration required.
URL:https://westberkeleyfencing.com/event/youth-swordplay-2/2027-09-18
LOCATION:West Berkeley Fencing Club\, 1111 Addison Street\, Berkeley\, CA\, 94706\, United States
CATEGORIES:Youth Classes
GEO:37.8684577;-122.2913141
X-APPLE-STRUCTURED-LOCATION;VALUE=URI;X-ADDRESS=West Berkeley Fencing Club 1111 Addison Street Berkeley CA 94706 United States;X-APPLE-RADIUS=500;X-TITLE=1111 Addison Street:geo:-122.2913141,37.8684577
END:VEVENT
BEGIN:VEVENT
DTSTART;TZID=America/Los_Angeles:20270918T100000
DTEND;TZID=America/Los_Angeles:20270918T110000
DTSTAMP:20260425T192553
CREATED:20241227T212721Z
LAST-MODIFIED:20260326T003514Z
UID:10002012-1821261600-1821265200@westberkeleyfencing.com
SUMMARY:Youth I
DESCRIPTION:For first-time fencers & those reinforcing the basics.\nClass option for our Youth Members ages 8-12. Pre-registration required.
URL:https://westberkeleyfencing.com/event/youth-i-2-2/2027-09-18
LOCATION:West Berkeley Fencing Club\, 1111 Addison Street\, Berkeley\, CA\, 94706\, United States
CATEGORIES:Youth Classes
GEO:37.8684577;-122.2913141
X-APPLE-STRUCTURED-LOCATION;VALUE=URI;X-ADDRESS=West Berkeley Fencing Club 1111 Addison Street Berkeley CA 94706 United States;X-APPLE-RADIUS=500;X-TITLE=1111 Addison Street:geo:-122.2913141,37.8684577
END:VEVENT
BEGIN:VEVENT
DTSTART;TZID=America/Los_Angeles:20270918T110000
DTEND;TZID=America/Los_Angeles:20270918T120000
DTSTAMP:20260425T192553
CREATED:20240902T062026Z
LAST-MODIFIED:20260326T004410Z
UID:10002272-1821265200-1821268800@westberkeleyfencing.com
SUMMARY:Youth II
DESCRIPTION:Intermediate-level instruction for our continuing Youth Members ages 8-13.\nAthletes need their own standard equipment for participation.
URL:https://westberkeleyfencing.com/event/youth-i-ii-3/2027-09-18
LOCATION:West Berkeley Fencing Club\, 1111 Addison Street\, Berkeley\, CA\, 94706\, United States
CATEGORIES:Youth Classes
GEO:37.8684577;-122.2913141
X-APPLE-STRUCTURED-LOCATION;VALUE=URI;X-ADDRESS=West Berkeley Fencing Club 1111 Addison Street Berkeley CA 94706 United States;X-APPLE-RADIUS=500;X-TITLE=1111 Addison Street:geo:-122.2913141,37.8684577
END:VEVENT
BEGIN:VEVENT
DTSTART;TZID=America/Los_Angeles:20270918T120000
DTEND;TZID=America/Los_Angeles:20270918T130000
DTSTAMP:20260425T192553
CREATED:20250518T171406Z
LAST-MODIFIED:20251121T054429Z
UID:10002532-1821268800-1821272400@westberkeleyfencing.com
SUMMARY:Drill Class
DESCRIPTION:Footwork followed by partner drills. Open to our General & Team Members ages 13+ with prior fencing experience.
URL:https://westberkeleyfencing.com/event/3-weapon-drill-class-3-2/2027-09-18
LOCATION:West Berkeley Fencing Club\, 1111 Addison Street\, Berkeley\, CA\, 94706\, United States
CATEGORIES:Adult Classes
GEO:37.8684577;-122.2913141
X-APPLE-STRUCTURED-LOCATION;VALUE=URI;X-ADDRESS=West Berkeley Fencing Club 1111 Addison Street Berkeley CA 94706 United States;X-APPLE-RADIUS=500;X-TITLE=1111 Addison Street:geo:-122.2913141,37.8684577
END:VEVENT
BEGIN:VEVENT
DTSTART;TZID=America/Los_Angeles:20270918T130000
DTEND;TZID=America/Los_Angeles:20270918T150000
DTSTAMP:20260425T192553
CREATED:20240902T023030Z
LAST-MODIFIED:20260326T004647Z
UID:10002792-1821272400-1821279600@westberkeleyfencing.com
SUMMARY:Open Bouting
DESCRIPTION:Open floor time for electric bouting.\nFor ages 12+ with their own equipment and prior fencing experience.\nNon-Members: $25
URL:https://westberkeleyfencing.com/event/open-bouting-3/2027-09-18
LOCATION:West Berkeley Fencing Club\, 1111 Addison Street\, Berkeley\, CA\, 94706\, United States
CATEGORIES:Open Fencing
GEO:37.8684577;-122.2913141
X-APPLE-STRUCTURED-LOCATION;VALUE=URI;X-ADDRESS=West Berkeley Fencing Club 1111 Addison Street Berkeley CA 94706 United States;X-APPLE-RADIUS=500;X-TITLE=1111 Addison Street:geo:-122.2913141,37.8684577
END:VEVENT
BEGIN:VEVENT
DTSTART;TZID=America/Los_Angeles:20270920T160000
DTEND;TZID=America/Los_Angeles:20270920T170000
DTSTAMP:20260425T192553
CREATED:20250823T071831Z
LAST-MODIFIED:20260118T195831Z
UID:10006454-1821456000-1821459600@westberkeleyfencing.com
SUMMARY:Youth II
DESCRIPTION:Intermediate-level instruction for our continuing Youth Members ages 8-13.\nAthletes need their own standard equipment for participation.
URL:https://westberkeleyfencing.com/event/youth-i-ii-2-2/2027-09-20
LOCATION:West Berkeley Fencing Club\, 1111 Addison Street\, Berkeley\, CA\, 94706\, United States
CATEGORIES:Youth Classes
GEO:37.8684577;-122.2913141
X-APPLE-STRUCTURED-LOCATION;VALUE=URI;X-ADDRESS=West Berkeley Fencing Club 1111 Addison Street Berkeley CA 94706 United States;X-APPLE-RADIUS=500;X-TITLE=1111 Addison Street:geo:-122.2913141,37.8684577
END:VEVENT
BEGIN:VEVENT
DTSTART;TZID=America/Los_Angeles:20270921T160000
DTEND;TZID=America/Los_Angeles:20270921T170000
DTSTAMP:20260425T192553
CREATED:20250823T081151Z
LAST-MODIFIED:20260326T004833Z
UID:10006975-1821542400-1821546000@westberkeleyfencing.com
SUMMARY:Youth I
DESCRIPTION:For first-time fencers & those reinforcing the basics.\nClass option for Youth Members ages 8-12. Pre-registration required.
URL:https://westberkeleyfencing.com/event/youth-i-3-2/2027-09-21
LOCATION:West Berkeley Fencing Club\, 1111 Addison Street\, Berkeley\, CA\, 94706\, United States
CATEGORIES:Youth Classes
GEO:37.8684577;-122.2913141
X-APPLE-STRUCTURED-LOCATION;VALUE=URI;X-ADDRESS=West Berkeley Fencing Club 1111 Addison Street Berkeley CA 94706 United States;X-APPLE-RADIUS=500;X-TITLE=1111 Addison Street:geo:-122.2913141,37.8684577
END:VEVENT
BEGIN:VEVENT
DTSTART;TZID=America/Los_Angeles:20270921T183000
DTEND;TZID=America/Los_Angeles:20270921T193000
DTSTAMP:20260425T192553
CREATED:20250518T165848Z
LAST-MODIFIED:20251121T054024Z
UID:10004046-1821551400-1821555000@westberkeleyfencing.com
SUMMARY:Team Bouting
DESCRIPTION:Electric bouting & lesson time for Youth Team & Junior+ Team Members.
URL:https://westberkeleyfencing.com/event/team-bouting-2-2-2/2027-09-21
LOCATION:West Berkeley Fencing Club\, 1111 Addison Street\, Berkeley\, CA\, 94706\, United States
CATEGORIES:Jr. Team
GEO:37.8684577;-122.2913141
X-APPLE-STRUCTURED-LOCATION;VALUE=URI;X-ADDRESS=West Berkeley Fencing Club 1111 Addison Street Berkeley CA 94706 United States;X-APPLE-RADIUS=500;X-TITLE=1111 Addison Street:geo:-122.2913141,37.8684577
END:VEVENT
BEGIN:VEVENT
DTSTART;TZID=America/Los_Angeles:20270921T193000
DTEND;TZID=America/Los_Angeles:20270921T203000
DTSTAMP:20260425T192554
CREATED:20250518T170448Z
LAST-MODIFIED:20251121T054543Z
UID:10004447-1821555000-1821558600@westberkeleyfencing.com
SUMMARY:Drill Class
DESCRIPTION:Footwork followed by partner drills. Open to our General & Team Members ages 13+ with prior fencing experience.
URL:https://westberkeleyfencing.com/event/3-weapon-drill-class-4-2/2027-09-21
LOCATION:West Berkeley Fencing Club\, 1111 Addison Street\, Berkeley\, CA\, 94706\, United States
CATEGORIES:Adult Classes
GEO:37.8684577;-122.2913141
X-APPLE-STRUCTURED-LOCATION;VALUE=URI;X-ADDRESS=West Berkeley Fencing Club 1111 Addison Street Berkeley CA 94706 United States;X-APPLE-RADIUS=500;X-TITLE=1111 Addison Street:geo:-122.2913141,37.8684577
END:VEVENT
BEGIN:VEVENT
DTSTART;TZID=America/Los_Angeles:20270921T203000
DTEND;TZID=America/Los_Angeles:20270921T220000
DTSTAMP:20260425T192554
CREATED:20240902T024222Z
LAST-MODIFIED:20251121T052336Z
UID:10003195-1821558600-1821564000@westberkeleyfencing.com
SUMMARY:Open Bouting
DESCRIPTION:Open floor time for electric bouting.\nFor ages 12+ with their own equipment and prior fencing experience.\nNon-Members: $25
URL:https://westberkeleyfencing.com/event/open-bouting-2/2027-09-21
LOCATION:West Berkeley Fencing Club\, 1111 Addison Street\, Berkeley\, CA\, 94706\, United States
CATEGORIES:Open Fencing
GEO:37.8684577;-122.2913141
X-APPLE-STRUCTURED-LOCATION;VALUE=URI;X-ADDRESS=West Berkeley Fencing Club 1111 Addison Street Berkeley CA 94706 United States;X-APPLE-RADIUS=500;X-TITLE=1111 Addison Street:geo:-122.2913141,37.8684577
END:VEVENT
BEGIN:VEVENT
DTSTART;TZID=America/Los_Angeles:20270922T160000
DTEND;TZID=America/Los_Angeles:20270922T170000
DTSTAMP:20260425T192554
CREATED:20250823T071831Z
LAST-MODIFIED:20260118T195831Z
UID:10006455-1821628800-1821632400@westberkeleyfencing.com
SUMMARY:Youth II
DESCRIPTION:Intermediate-level instruction for our continuing Youth Members ages 8-13.\nAthletes need their own standard equipment for participation.
URL:https://westberkeleyfencing.com/event/youth-i-ii-2-2/2027-09-22
LOCATION:West Berkeley Fencing Club\, 1111 Addison Street\, Berkeley\, CA\, 94706\, United States
CATEGORIES:Youth Classes
GEO:37.8684577;-122.2913141
X-APPLE-STRUCTURED-LOCATION;VALUE=URI;X-ADDRESS=West Berkeley Fencing Club 1111 Addison Street Berkeley CA 94706 United States;X-APPLE-RADIUS=500;X-TITLE=1111 Addison Street:geo:-122.2913141,37.8684577
END:VEVENT
BEGIN:VEVENT
DTSTART;TZID=America/Los_Angeles:20270923T160000
DTEND;TZID=America/Los_Angeles:20270923T170000
DTSTAMP:20260425T192554
CREATED:20250823T081151Z
LAST-MODIFIED:20260326T004833Z
UID:10006976-1821715200-1821718800@westberkeleyfencing.com
SUMMARY:Youth I
DESCRIPTION:For first-time fencers & those reinforcing the basics.\nClass option for Youth Members ages 8-12. Pre-registration required.
URL:https://westberkeleyfencing.com/event/youth-i-3-2/2027-09-23
LOCATION:West Berkeley Fencing Club\, 1111 Addison Street\, Berkeley\, CA\, 94706\, United States
CATEGORIES:Youth Classes
GEO:37.8684577;-122.2913141
X-APPLE-STRUCTURED-LOCATION;VALUE=URI;X-ADDRESS=West Berkeley Fencing Club 1111 Addison Street Berkeley CA 94706 United States;X-APPLE-RADIUS=500;X-TITLE=1111 Addison Street:geo:-122.2913141,37.8684577
END:VEVENT
BEGIN:VEVENT
DTSTART;TZID=America/Los_Angeles:20270923T171500
DTEND;TZID=America/Los_Angeles:20270923T183000
DTSTAMP:20260425T192554
CREATED:20230810T002951Z
LAST-MODIFIED:20251121T053520Z
UID:10006085-1821719700-1821724200@westberkeleyfencing.com
SUMMARY:Conditioning & Agility
DESCRIPTION:Conditioning and footwork drills for Team members
URL:https://westberkeleyfencing.com/event/conditioning-agility/2027-09-23
LOCATION:West Berkeley Fencing Club\, 1111 Addison Street\, Berkeley\, CA\, 94706\, United States
CATEGORIES:Jr. Team
GEO:37.8684577;-122.2913141
X-APPLE-STRUCTURED-LOCATION;VALUE=URI;X-ADDRESS=West Berkeley Fencing Club 1111 Addison Street Berkeley CA 94706 United States;X-APPLE-RADIUS=500;X-TITLE=1111 Addison Street:geo:-122.2913141,37.8684577
END:VEVENT
BEGIN:VEVENT
DTSTART;TZID=America/Los_Angeles:20270923T183000
DTEND;TZID=America/Los_Angeles:20270923T193000
DTSTAMP:20260425T192554
CREATED:20250518T165848Z
LAST-MODIFIED:20251121T054024Z
UID:10005291-1821724200-1821727800@westberkeleyfencing.com
SUMMARY:Team Bouting
DESCRIPTION:Electric bouting & lesson time for Youth Team & Junior+ Team Members.
URL:https://westberkeleyfencing.com/event/team-bouting-2-2-2/2027-09-23
LOCATION:West Berkeley Fencing Club\, 1111 Addison Street\, Berkeley\, CA\, 94706\, United States
CATEGORIES:Jr. Team
GEO:37.8684577;-122.2913141
X-APPLE-STRUCTURED-LOCATION;VALUE=URI;X-ADDRESS=West Berkeley Fencing Club 1111 Addison Street Berkeley CA 94706 United States;X-APPLE-RADIUS=500;X-TITLE=1111 Addison Street:geo:-122.2913141,37.8684577
END:VEVENT
BEGIN:VEVENT
DTSTART;TZID=America/Los_Angeles:20270923T193000
DTEND;TZID=America/Los_Angeles:20270923T203000
DTSTAMP:20260425T192554
CREATED:20250518T170448Z
LAST-MODIFIED:20251121T054543Z
UID:10004448-1821727800-1821731400@westberkeleyfencing.com
SUMMARY:Drill Class
DESCRIPTION:Footwork followed by partner drills. Open to our General & Team Members ages 13+ with prior fencing experience.
URL:https://westberkeleyfencing.com/event/3-weapon-drill-class-4-2/2027-09-23
LOCATION:West Berkeley Fencing Club\, 1111 Addison Street\, Berkeley\, CA\, 94706\, United States
CATEGORIES:Adult Classes
GEO:37.8684577;-122.2913141
X-APPLE-STRUCTURED-LOCATION;VALUE=URI;X-ADDRESS=West Berkeley Fencing Club 1111 Addison Street Berkeley CA 94706 United States;X-APPLE-RADIUS=500;X-TITLE=1111 Addison Street:geo:-122.2913141,37.8684577
END:VEVENT
BEGIN:VEVENT
DTSTART;TZID=America/Los_Angeles:20270923T203000
DTEND;TZID=America/Los_Angeles:20270923T220000
DTSTAMP:20260425T192554
CREATED:20240902T024222Z
LAST-MODIFIED:20251121T052336Z
UID:10003196-1821731400-1821736800@westberkeleyfencing.com
SUMMARY:Open Bouting
DESCRIPTION:Open floor time for electric bouting.\nFor ages 12+ with their own equipment and prior fencing experience.\nNon-Members: $25
URL:https://westberkeleyfencing.com/event/open-bouting-2/2027-09-23
LOCATION:West Berkeley Fencing Club\, 1111 Addison Street\, Berkeley\, CA\, 94706\, United States
CATEGORIES:Open Fencing
GEO:37.8684577;-122.2913141
X-APPLE-STRUCTURED-LOCATION;VALUE=URI;X-ADDRESS=West Berkeley Fencing Club 1111 Addison Street Berkeley CA 94706 United States;X-APPLE-RADIUS=500;X-TITLE=1111 Addison Street:geo:-122.2913141,37.8684577
END:VEVENT
BEGIN:VEVENT
DTSTART;TZID=America/Los_Angeles:20270925T090000
DTEND;TZID=America/Los_Angeles:20270925T094500
DTSTAMP:20260425T192554
CREATED:20240902T024421Z
LAST-MODIFIED:20260326T002949Z
UID:10005829-1821862800-1821865500@westberkeleyfencing.com
SUMMARY:Youth Swordplay
DESCRIPTION:A beginning-level class tailored to our Youth Members ages 5-7.\nPre-registration required.
URL:https://westberkeleyfencing.com/event/youth-swordplay-2/2027-09-25
LOCATION:West Berkeley Fencing Club\, 1111 Addison Street\, Berkeley\, CA\, 94706\, United States
CATEGORIES:Youth Classes
GEO:37.8684577;-122.2913141
X-APPLE-STRUCTURED-LOCATION;VALUE=URI;X-ADDRESS=West Berkeley Fencing Club 1111 Addison Street Berkeley CA 94706 United States;X-APPLE-RADIUS=500;X-TITLE=1111 Addison Street:geo:-122.2913141,37.8684577
END:VEVENT
BEGIN:VEVENT
DTSTART;TZID=America/Los_Angeles:20270925T100000
DTEND;TZID=America/Los_Angeles:20270925T110000
DTSTAMP:20260425T192554
CREATED:20241227T212721Z
LAST-MODIFIED:20260326T003514Z
UID:10002013-1821866400-1821870000@westberkeleyfencing.com
SUMMARY:Youth I
DESCRIPTION:For first-time fencers & those reinforcing the basics.\nClass option for our Youth Members ages 8-12. Pre-registration required.
URL:https://westberkeleyfencing.com/event/youth-i-2-2/2027-09-25
LOCATION:West Berkeley Fencing Club\, 1111 Addison Street\, Berkeley\, CA\, 94706\, United States
CATEGORIES:Youth Classes
GEO:37.8684577;-122.2913141
X-APPLE-STRUCTURED-LOCATION;VALUE=URI;X-ADDRESS=West Berkeley Fencing Club 1111 Addison Street Berkeley CA 94706 United States;X-APPLE-RADIUS=500;X-TITLE=1111 Addison Street:geo:-122.2913141,37.8684577
END:VEVENT
BEGIN:VEVENT
DTSTART;TZID=America/Los_Angeles:20270925T110000
DTEND;TZID=America/Los_Angeles:20270925T120000
DTSTAMP:20260425T192554
CREATED:20240902T062026Z
LAST-MODIFIED:20260326T004410Z
UID:10002273-1821870000-1821873600@westberkeleyfencing.com
SUMMARY:Youth II
DESCRIPTION:Intermediate-level instruction for our continuing Youth Members ages 8-13.\nAthletes need their own standard equipment for participation.
URL:https://westberkeleyfencing.com/event/youth-i-ii-3/2027-09-25
LOCATION:West Berkeley Fencing Club\, 1111 Addison Street\, Berkeley\, CA\, 94706\, United States
CATEGORIES:Youth Classes
GEO:37.8684577;-122.2913141
X-APPLE-STRUCTURED-LOCATION;VALUE=URI;X-ADDRESS=West Berkeley Fencing Club 1111 Addison Street Berkeley CA 94706 United States;X-APPLE-RADIUS=500;X-TITLE=1111 Addison Street:geo:-122.2913141,37.8684577
END:VEVENT
BEGIN:VEVENT
DTSTART;TZID=America/Los_Angeles:20270925T120000
DTEND;TZID=America/Los_Angeles:20270925T130000
DTSTAMP:20260425T192554
CREATED:20250518T171406Z
LAST-MODIFIED:20251121T054429Z
UID:10002533-1821873600-1821877200@westberkeleyfencing.com
SUMMARY:Drill Class
DESCRIPTION:Footwork followed by partner drills. Open to our General & Team Members ages 13+ with prior fencing experience.
URL:https://westberkeleyfencing.com/event/3-weapon-drill-class-3-2/2027-09-25
LOCATION:West Berkeley Fencing Club\, 1111 Addison Street\, Berkeley\, CA\, 94706\, United States
CATEGORIES:Adult Classes
GEO:37.8684577;-122.2913141
X-APPLE-STRUCTURED-LOCATION;VALUE=URI;X-ADDRESS=West Berkeley Fencing Club 1111 Addison Street Berkeley CA 94706 United States;X-APPLE-RADIUS=500;X-TITLE=1111 Addison Street:geo:-122.2913141,37.8684577
END:VEVENT
BEGIN:VEVENT
DTSTART;TZID=America/Los_Angeles:20270925T130000
DTEND;TZID=America/Los_Angeles:20270925T150000
DTSTAMP:20260425T192554
CREATED:20240902T023030Z
LAST-MODIFIED:20260326T004647Z
UID:10002793-1821877200-1821884400@westberkeleyfencing.com
SUMMARY:Open Bouting
DESCRIPTION:Open floor time for electric bouting.\nFor ages 12+ with their own equipment and prior fencing experience.\nNon-Members: $25
URL:https://westberkeleyfencing.com/event/open-bouting-3/2027-09-25
LOCATION:West Berkeley Fencing Club\, 1111 Addison Street\, Berkeley\, CA\, 94706\, United States
CATEGORIES:Open Fencing
GEO:37.8684577;-122.2913141
X-APPLE-STRUCTURED-LOCATION;VALUE=URI;X-ADDRESS=West Berkeley Fencing Club 1111 Addison Street Berkeley CA 94706 United States;X-APPLE-RADIUS=500;X-TITLE=1111 Addison Street:geo:-122.2913141,37.8684577
END:VEVENT
BEGIN:VEVENT
DTSTART;TZID=America/Los_Angeles:20270927T160000
DTEND;TZID=America/Los_Angeles:20270927T170000
DTSTAMP:20260425T192554
CREATED:20250823T071831Z
LAST-MODIFIED:20260118T195831Z
UID:10006456-1822060800-1822064400@westberkeleyfencing.com
SUMMARY:Youth II
DESCRIPTION:Intermediate-level instruction for our continuing Youth Members ages 8-13.\nAthletes need their own standard equipment for participation.
URL:https://westberkeleyfencing.com/event/youth-i-ii-2-2/2027-09-27
LOCATION:West Berkeley Fencing Club\, 1111 Addison Street\, Berkeley\, CA\, 94706\, United States
CATEGORIES:Youth Classes
GEO:37.8684577;-122.2913141
X-APPLE-STRUCTURED-LOCATION;VALUE=URI;X-ADDRESS=West Berkeley Fencing Club 1111 Addison Street Berkeley CA 94706 United States;X-APPLE-RADIUS=500;X-TITLE=1111 Addison Street:geo:-122.2913141,37.8684577
END:VEVENT
BEGIN:VEVENT
DTSTART;TZID=America/Los_Angeles:20270928T160000
DTEND;TZID=America/Los_Angeles:20270928T170000
DTSTAMP:20260425T192554
CREATED:20250823T081151Z
LAST-MODIFIED:20260326T004833Z
UID:10006977-1822147200-1822150800@westberkeleyfencing.com
SUMMARY:Youth I
DESCRIPTION:For first-time fencers & those reinforcing the basics.\nClass option for Youth Members ages 8-12. Pre-registration required.
URL:https://westberkeleyfencing.com/event/youth-i-3-2/2027-09-28
LOCATION:West Berkeley Fencing Club\, 1111 Addison Street\, Berkeley\, CA\, 94706\, United States
CATEGORIES:Youth Classes
GEO:37.8684577;-122.2913141
X-APPLE-STRUCTURED-LOCATION;VALUE=URI;X-ADDRESS=West Berkeley Fencing Club 1111 Addison Street Berkeley CA 94706 United States;X-APPLE-RADIUS=500;X-TITLE=1111 Addison Street:geo:-122.2913141,37.8684577
END:VEVENT
END:VCALENDAR