BEGIN:VCALENDAR
VERSION:2.0
PRODID:-//West Berkeley Fencing Club - ECPv6.15.18//NONSGML v1.0//EN
CALSCALE:GREGORIAN
METHOD:PUBLISH
X-WR-CALNAME:West Berkeley Fencing Club
X-ORIGINAL-URL:https://westberkeleyfencing.com
X-WR-CALDESC:Events for West Berkeley Fencing Club
REFRESH-INTERVAL;VALUE=DURATION:PT1H
X-Robots-Tag:noindex
X-PUBLISHED-TTL:PT1H
BEGIN:VTIMEZONE
TZID:America/Los_Angeles
BEGIN:DAYLIGHT
TZOFFSETFROM:-0800
TZOFFSETTO:-0700
TZNAME:PDT
DTSTART:20240310T100000
END:DAYLIGHT
BEGIN:STANDARD
TZOFFSETFROM:-0700
TZOFFSETTO:-0800
TZNAME:PST
DTSTART:20241103T090000
END:STANDARD
BEGIN:DAYLIGHT
TZOFFSETFROM:-0800
TZOFFSETTO:-0700
TZNAME:PDT
DTSTART:20250309T100000
END:DAYLIGHT
BEGIN:STANDARD
TZOFFSETFROM:-0700
TZOFFSETTO:-0800
TZNAME:PST
DTSTART:20251102T090000
END:STANDARD
BEGIN:DAYLIGHT
TZOFFSETFROM:-0800
TZOFFSETTO:-0700
TZNAME:PDT
DTSTART:20260308T100000
END:DAYLIGHT
BEGIN:STANDARD
TZOFFSETFROM:-0700
TZOFFSETTO:-0800
TZNAME:PST
DTSTART:20261101T090000
END:STANDARD
END:VTIMEZONE
BEGIN:VEVENT
DTSTART;TZID=America/Los_Angeles:20251117T160000
DTEND;TZID=America/Los_Angeles:20251117T170000
DTSTAMP:20260425T034607
CREATED:20250823T071831Z
LAST-MODIFIED:20260118T195831Z
UID:10006262-1763395200-1763398800@westberkeleyfencing.com
SUMMARY:Youth II
DESCRIPTION:Intermediate-level instruction for our continuing Youth Members ages 8-13.\nAthletes need their own standard equipment for participation.
URL:https://westberkeleyfencing.com/event/youth-i-ii-2-2/2025-11-17
LOCATION:West Berkeley Fencing Club\, 1111 Addison Street\, Berkeley\, CA\, 94706\, United States
CATEGORIES:Youth Classes
GEO:37.8684577;-122.2913141
X-APPLE-STRUCTURED-LOCATION;VALUE=URI;X-ADDRESS=West Berkeley Fencing Club 1111 Addison Street Berkeley CA 94706 United States;X-APPLE-RADIUS=500;X-TITLE=1111 Addison Street:geo:-122.2913141,37.8684577
END:VEVENT
BEGIN:VEVENT
DTSTART;TZID=America/Los_Angeles:20251115T130000
DTEND;TZID=America/Los_Angeles:20251115T150000
DTSTAMP:20260425T034607
CREATED:20240902T023030Z
LAST-MODIFIED:20260326T004647Z
UID:10002696-1763211600-1763218800@westberkeleyfencing.com
SUMMARY:Open Bouting
DESCRIPTION:Open floor time for electric bouting.\nFor ages 12+ with their own equipment and prior fencing experience.\nNon-Members: $25
URL:https://westberkeleyfencing.com/event/open-bouting-3/2025-11-15
LOCATION:West Berkeley Fencing Club\, 1111 Addison Street\, Berkeley\, CA\, 94706\, United States
CATEGORIES:Open Fencing
GEO:37.8684577;-122.2913141
X-APPLE-STRUCTURED-LOCATION;VALUE=URI;X-ADDRESS=West Berkeley Fencing Club 1111 Addison Street Berkeley CA 94706 United States;X-APPLE-RADIUS=500;X-TITLE=1111 Addison Street:geo:-122.2913141,37.8684577
END:VEVENT
BEGIN:VEVENT
DTSTART;TZID=America/Los_Angeles:20251115T120000
DTEND;TZID=America/Los_Angeles:20251115T130000
DTSTAMP:20260425T034607
CREATED:20250518T171406Z
LAST-MODIFIED:20251121T054429Z
UID:10002436-1763208000-1763211600@westberkeleyfencing.com
SUMMARY:Drill Class
DESCRIPTION:Footwork followed by partner drills. Open to our General & Team Members ages 13+ with prior fencing experience.
URL:https://westberkeleyfencing.com/event/3-weapon-drill-class-3-2/2025-11-15
LOCATION:West Berkeley Fencing Club\, 1111 Addison Street\, Berkeley\, CA\, 94706\, United States
CATEGORIES:Adult Classes
GEO:37.8684577;-122.2913141
X-APPLE-STRUCTURED-LOCATION;VALUE=URI;X-ADDRESS=West Berkeley Fencing Club 1111 Addison Street Berkeley CA 94706 United States;X-APPLE-RADIUS=500;X-TITLE=1111 Addison Street:geo:-122.2913141,37.8684577
END:VEVENT
BEGIN:VEVENT
DTSTART;TZID=America/Los_Angeles:20251115T110000
DTEND;TZID=America/Los_Angeles:20251115T120000
DTSTAMP:20260425T034607
CREATED:20240902T062026Z
LAST-MODIFIED:20260326T004410Z
UID:10002176-1763204400-1763208000@westberkeleyfencing.com
SUMMARY:Youth II
DESCRIPTION:Intermediate-level instruction for our continuing Youth Members ages 8-13.\nAthletes need their own standard equipment for participation.
URL:https://westberkeleyfencing.com/event/youth-i-ii-3/2025-11-15
LOCATION:West Berkeley Fencing Club\, 1111 Addison Street\, Berkeley\, CA\, 94706\, United States
CATEGORIES:Youth Classes
GEO:37.8684577;-122.2913141
X-APPLE-STRUCTURED-LOCATION;VALUE=URI;X-ADDRESS=West Berkeley Fencing Club 1111 Addison Street Berkeley CA 94706 United States;X-APPLE-RADIUS=500;X-TITLE=1111 Addison Street:geo:-122.2913141,37.8684577
END:VEVENT
BEGIN:VEVENT
DTSTART;TZID=America/Los_Angeles:20251115T100000
DTEND;TZID=America/Los_Angeles:20251115T110000
DTSTAMP:20260425T034607
CREATED:20241227T212721Z
LAST-MODIFIED:20260326T003514Z
UID:10001916-1763200800-1763204400@westberkeleyfencing.com
SUMMARY:Youth I
DESCRIPTION:For first-time fencers & those reinforcing the basics.\nClass option for our Youth Members ages 8-12. Pre-registration required.
URL:https://westberkeleyfencing.com/event/youth-i-2-2/2025-11-15
LOCATION:West Berkeley Fencing Club\, 1111 Addison Street\, Berkeley\, CA\, 94706\, United States
CATEGORIES:Youth Classes
GEO:37.8684577;-122.2913141
X-APPLE-STRUCTURED-LOCATION;VALUE=URI;X-ADDRESS=West Berkeley Fencing Club 1111 Addison Street Berkeley CA 94706 United States;X-APPLE-RADIUS=500;X-TITLE=1111 Addison Street:geo:-122.2913141,37.8684577
END:VEVENT
BEGIN:VEVENT
DTSTART;TZID=America/Los_Angeles:20251115T090000
DTEND;TZID=America/Los_Angeles:20251115T094500
DTSTAMP:20260425T034607
CREATED:20240902T024421Z
LAST-MODIFIED:20260326T002949Z
UID:10005732-1763197200-1763199900@westberkeleyfencing.com
SUMMARY:Youth Swordplay
DESCRIPTION:A beginning-level class tailored to our Youth Members ages 5-7.\nPre-registration required.
URL:https://westberkeleyfencing.com/event/youth-swordplay-2/2025-11-15
LOCATION:West Berkeley Fencing Club\, 1111 Addison Street\, Berkeley\, CA\, 94706\, United States
CATEGORIES:Youth Classes
GEO:37.8684577;-122.2913141
X-APPLE-STRUCTURED-LOCATION;VALUE=URI;X-ADDRESS=West Berkeley Fencing Club 1111 Addison Street Berkeley CA 94706 United States;X-APPLE-RADIUS=500;X-TITLE=1111 Addison Street:geo:-122.2913141,37.8684577
END:VEVENT
BEGIN:VEVENT
DTSTART;TZID=America/Los_Angeles:20251113T203000
DTEND;TZID=America/Los_Angeles:20251113T220000
DTSTAMP:20260425T034607
CREATED:20240902T024222Z
LAST-MODIFIED:20251121T052336Z
UID:10003002-1763065800-1763071200@westberkeleyfencing.com
SUMMARY:Open Bouting
DESCRIPTION:Open floor time for electric bouting.\nFor ages 12+ with their own equipment and prior fencing experience.\nNon-Members: $25
URL:https://westberkeleyfencing.com/event/open-bouting-2/2025-11-13
LOCATION:West Berkeley Fencing Club\, 1111 Addison Street\, Berkeley\, CA\, 94706\, United States
CATEGORIES:Open Fencing
GEO:37.8684577;-122.2913141
X-APPLE-STRUCTURED-LOCATION;VALUE=URI;X-ADDRESS=West Berkeley Fencing Club 1111 Addison Street Berkeley CA 94706 United States;X-APPLE-RADIUS=500;X-TITLE=1111 Addison Street:geo:-122.2913141,37.8684577
END:VEVENT
BEGIN:VEVENT
DTSTART;TZID=America/Los_Angeles:20251113T193000
DTEND;TZID=America/Los_Angeles:20251113T203000
DTSTAMP:20260425T034607
CREATED:20250518T170448Z
LAST-MODIFIED:20251121T054543Z
UID:10004254-1763062200-1763065800@westberkeleyfencing.com
SUMMARY:Drill Class
DESCRIPTION:Footwork followed by partner drills. Open to our General & Team Members ages 13+ with prior fencing experience.
URL:https://westberkeleyfencing.com/event/3-weapon-drill-class-4-2/2025-11-13
LOCATION:West Berkeley Fencing Club\, 1111 Addison Street\, Berkeley\, CA\, 94706\, United States
CATEGORIES:Adult Classes
GEO:37.8684577;-122.2913141
X-APPLE-STRUCTURED-LOCATION;VALUE=URI;X-ADDRESS=West Berkeley Fencing Club 1111 Addison Street Berkeley CA 94706 United States;X-APPLE-RADIUS=500;X-TITLE=1111 Addison Street:geo:-122.2913141,37.8684577
END:VEVENT
BEGIN:VEVENT
DTSTART;TZID=America/Los_Angeles:20251113T183000
DTEND;TZID=America/Los_Angeles:20251113T193000
DTSTAMP:20260425T034607
CREATED:20250518T165848Z
LAST-MODIFIED:20251121T054024Z
UID:10005194-1763058600-1763062200@westberkeleyfencing.com
SUMMARY:Team Bouting
DESCRIPTION:Electric bouting & lesson time for Youth Team & Junior+ Team Members.
URL:https://westberkeleyfencing.com/event/team-bouting-2-2-2/2025-11-13
LOCATION:West Berkeley Fencing Club\, 1111 Addison Street\, Berkeley\, CA\, 94706\, United States
CATEGORIES:Jr. Team
GEO:37.8684577;-122.2913141
X-APPLE-STRUCTURED-LOCATION;VALUE=URI;X-ADDRESS=West Berkeley Fencing Club 1111 Addison Street Berkeley CA 94706 United States;X-APPLE-RADIUS=500;X-TITLE=1111 Addison Street:geo:-122.2913141,37.8684577
END:VEVENT
BEGIN:VEVENT
DTSTART;TZID=America/Los_Angeles:20251113T171500
DTEND;TZID=America/Los_Angeles:20251113T183000
DTSTAMP:20260425T034607
CREATED:20230810T002951Z
LAST-MODIFIED:20251121T053520Z
UID:10005988-1763054100-1763058600@westberkeleyfencing.com
SUMMARY:Conditioning & Agility
DESCRIPTION:Conditioning and footwork drills for Team members
URL:https://westberkeleyfencing.com/event/conditioning-agility/2025-11-13
LOCATION:West Berkeley Fencing Club\, 1111 Addison Street\, Berkeley\, CA\, 94706\, United States
CATEGORIES:Jr. Team
GEO:37.8684577;-122.2913141
X-APPLE-STRUCTURED-LOCATION;VALUE=URI;X-ADDRESS=West Berkeley Fencing Club 1111 Addison Street Berkeley CA 94706 United States;X-APPLE-RADIUS=500;X-TITLE=1111 Addison Street:geo:-122.2913141,37.8684577
END:VEVENT
BEGIN:VEVENT
DTSTART;TZID=America/Los_Angeles:20251113T160000
DTEND;TZID=America/Los_Angeles:20251113T170000
DTSTAMP:20260425T034607
CREATED:20250823T081151Z
LAST-MODIFIED:20260326T004833Z
UID:10006784-1763049600-1763053200@westberkeleyfencing.com
SUMMARY:Youth I
DESCRIPTION:For first-time fencers & those reinforcing the basics.\nClass option for Youth Members ages 8-12. Pre-registration required.
URL:https://westberkeleyfencing.com/event/youth-i-3-2/2025-11-13
LOCATION:West Berkeley Fencing Club\, 1111 Addison Street\, Berkeley\, CA\, 94706\, United States
CATEGORIES:Youth Classes
GEO:37.8684577;-122.2913141
X-APPLE-STRUCTURED-LOCATION;VALUE=URI;X-ADDRESS=West Berkeley Fencing Club 1111 Addison Street Berkeley CA 94706 United States;X-APPLE-RADIUS=500;X-TITLE=1111 Addison Street:geo:-122.2913141,37.8684577
END:VEVENT
BEGIN:VEVENT
DTSTART;TZID=America/Los_Angeles:20251112T180000
DTEND;TZID=America/Los_Angeles:20251112T203000
DTSTAMP:20260425T034607
CREATED:20250823T082111Z
LAST-MODIFIED:20251121T043925Z
UID:10007370-1762970400-1762979400@westberkeleyfencing.com
SUMMARY:Epée Team
DESCRIPTION:Epée-specific training for our experienced Junior+ Team Members.\nAthletes must have coach approval to join and their own electric gear.
URL:https://westberkeleyfencing.com/event/jr-epee-team-3-2/2025-11-12
LOCATION:West Berkeley Fencing Club\, 1111 Addison Street\, Berkeley\, CA\, 94706\, United States
CATEGORIES:Jr. Team
GEO:37.8684577;-122.2913141
X-APPLE-STRUCTURED-LOCATION;VALUE=URI;X-ADDRESS=West Berkeley Fencing Club 1111 Addison Street Berkeley CA 94706 United States;X-APPLE-RADIUS=500;X-TITLE=1111 Addison Street:geo:-122.2913141,37.8684577
END:VEVENT
BEGIN:VEVENT
DTSTART;TZID=America/Los_Angeles:20251112T170000
DTEND;TZID=America/Los_Angeles:20251112T183000
DTSTAMP:20260425T034607
CREATED:20250823T082617Z
LAST-MODIFIED:20260118T195914Z
UID:10007426-1762966800-1762972200@westberkeleyfencing.com
SUMMARY:Youth Team
DESCRIPTION:Youth Team program for experienced fencers with increased competitive bouting.\nFor Youth Team Members ages 8-14. Electric gear required.
URL:https://westberkeleyfencing.com/event/youth-iii-3/2025-11-12
LOCATION:West Berkeley Fencing Club\, 1111 Addison Street\, Berkeley\, CA\, 94706\, United States
CATEGORIES:Youth Classes
GEO:37.8684577;-122.2913141
X-APPLE-STRUCTURED-LOCATION;VALUE=URI;X-ADDRESS=West Berkeley Fencing Club 1111 Addison Street Berkeley CA 94706 United States;X-APPLE-RADIUS=500;X-TITLE=1111 Addison Street:geo:-122.2913141,37.8684577
END:VEVENT
BEGIN:VEVENT
DTSTART;TZID=America/Los_Angeles:20251112T160000
DTEND;TZID=America/Los_Angeles:20251112T170000
DTSTAMP:20260425T034607
CREATED:20250823T071831Z
LAST-MODIFIED:20260118T195831Z
UID:10006261-1762963200-1762966800@westberkeleyfencing.com
SUMMARY:Youth II
DESCRIPTION:Intermediate-level instruction for our continuing Youth Members ages 8-13.\nAthletes need their own standard equipment for participation.
URL:https://westberkeleyfencing.com/event/youth-i-ii-2-2/2025-11-12
LOCATION:West Berkeley Fencing Club\, 1111 Addison Street\, Berkeley\, CA\, 94706\, United States
CATEGORIES:Youth Classes
GEO:37.8684577;-122.2913141
X-APPLE-STRUCTURED-LOCATION;VALUE=URI;X-ADDRESS=West Berkeley Fencing Club 1111 Addison Street Berkeley CA 94706 United States;X-APPLE-RADIUS=500;X-TITLE=1111 Addison Street:geo:-122.2913141,37.8684577
END:VEVENT
BEGIN:VEVENT
DTSTART;TZID=America/Los_Angeles:20251111T203000
DTEND;TZID=America/Los_Angeles:20251111T220000
DTSTAMP:20260425T034607
CREATED:20240902T024222Z
LAST-MODIFIED:20251121T052336Z
UID:10003001-1762893000-1762898400@westberkeleyfencing.com
SUMMARY:Open Bouting
DESCRIPTION:Open floor time for electric bouting.\nFor ages 12+ with their own equipment and prior fencing experience.\nNon-Members: $25
URL:https://westberkeleyfencing.com/event/open-bouting-2/2025-11-11
LOCATION:West Berkeley Fencing Club\, 1111 Addison Street\, Berkeley\, CA\, 94706\, United States
CATEGORIES:Open Fencing
GEO:37.8684577;-122.2913141
X-APPLE-STRUCTURED-LOCATION;VALUE=URI;X-ADDRESS=West Berkeley Fencing Club 1111 Addison Street Berkeley CA 94706 United States;X-APPLE-RADIUS=500;X-TITLE=1111 Addison Street:geo:-122.2913141,37.8684577
END:VEVENT
BEGIN:VEVENT
DTSTART;TZID=America/Los_Angeles:20251111T193000
DTEND;TZID=America/Los_Angeles:20251111T203000
DTSTAMP:20260425T034607
CREATED:20250518T170448Z
LAST-MODIFIED:20251121T054543Z
UID:10004253-1762889400-1762893000@westberkeleyfencing.com
SUMMARY:Drill Class
DESCRIPTION:Footwork followed by partner drills. Open to our General & Team Members ages 13+ with prior fencing experience.
URL:https://westberkeleyfencing.com/event/3-weapon-drill-class-4-2/2025-11-11
LOCATION:West Berkeley Fencing Club\, 1111 Addison Street\, Berkeley\, CA\, 94706\, United States
CATEGORIES:Adult Classes
GEO:37.8684577;-122.2913141
X-APPLE-STRUCTURED-LOCATION;VALUE=URI;X-ADDRESS=West Berkeley Fencing Club 1111 Addison Street Berkeley CA 94706 United States;X-APPLE-RADIUS=500;X-TITLE=1111 Addison Street:geo:-122.2913141,37.8684577
END:VEVENT
BEGIN:VEVENT
DTSTART;TZID=America/Los_Angeles:20251111T183000
DTEND;TZID=America/Los_Angeles:20251111T193000
DTSTAMP:20260425T034607
CREATED:20250518T165848Z
LAST-MODIFIED:20251121T054024Z
UID:10003949-1762885800-1762889400@westberkeleyfencing.com
SUMMARY:Team Bouting
DESCRIPTION:Electric bouting & lesson time for Youth Team & Junior+ Team Members.
URL:https://westberkeleyfencing.com/event/team-bouting-2-2-2/2025-11-11
LOCATION:West Berkeley Fencing Club\, 1111 Addison Street\, Berkeley\, CA\, 94706\, United States
CATEGORIES:Jr. Team
GEO:37.8684577;-122.2913141
X-APPLE-STRUCTURED-LOCATION;VALUE=URI;X-ADDRESS=West Berkeley Fencing Club 1111 Addison Street Berkeley CA 94706 United States;X-APPLE-RADIUS=500;X-TITLE=1111 Addison Street:geo:-122.2913141,37.8684577
END:VEVENT
BEGIN:VEVENT
DTSTART;TZID=America/Los_Angeles:20251111T171500
DTEND;TZID=America/Los_Angeles:20251111T183000
DTSTAMP:20260425T034607
CREATED:20250518T213416Z
LAST-MODIFIED:20250518T213417Z
UID:10004787-1762881300-1762885800@westberkeleyfencing.com
SUMMARY:Team Strength Training
DESCRIPTION:A guided strength training workout for our current Team Members.\nOther member levels may join with additional fee and waiver.
URL:https://westberkeleyfencing.com/event/strength-conditioning-2-2-2/2025-11-11
LOCATION:West Berkeley Fencing Club\, 1111 Addison Street\, Berkeley\, CA\, 94706\, United States
CATEGORIES:Jr. Team
GEO:37.8684577;-122.2913141
X-APPLE-STRUCTURED-LOCATION;VALUE=URI;X-ADDRESS=West Berkeley Fencing Club 1111 Addison Street Berkeley CA 94706 United States;X-APPLE-RADIUS=500;X-TITLE=1111 Addison Street:geo:-122.2913141,37.8684577
END:VEVENT
BEGIN:VEVENT
DTSTART;TZID=America/Los_Angeles:20251111T160000
DTEND;TZID=America/Los_Angeles:20251111T170000
DTSTAMP:20260425T034607
CREATED:20250823T081151Z
LAST-MODIFIED:20260326T004833Z
UID:10006783-1762876800-1762880400@westberkeleyfencing.com
SUMMARY:Youth I
DESCRIPTION:For first-time fencers & those reinforcing the basics.\nClass option for Youth Members ages 8-12. Pre-registration required.
URL:https://westberkeleyfencing.com/event/youth-i-3-2/2025-11-11
LOCATION:West Berkeley Fencing Club\, 1111 Addison Street\, Berkeley\, CA\, 94706\, United States
CATEGORIES:Youth Classes
GEO:37.8684577;-122.2913141
X-APPLE-STRUCTURED-LOCATION;VALUE=URI;X-ADDRESS=West Berkeley Fencing Club 1111 Addison Street Berkeley CA 94706 United States;X-APPLE-RADIUS=500;X-TITLE=1111 Addison Street:geo:-122.2913141,37.8684577
END:VEVENT
BEGIN:VEVENT
DTSTART;TZID=America/Los_Angeles:20251110T180000
DTEND;TZID=America/Los_Angeles:20251110T203000
DTSTAMP:20260425T034607
CREATED:20250823T081934Z
LAST-MODIFIED:20260118T195758Z
UID:10007326-1762797600-1762806600@westberkeleyfencing.com
SUMMARY:Foil Team
DESCRIPTION:Foil-specific training for our experienced Junior+ Team Members.\nAthletes must have coach approval to join and their own electric gear
URL:https://westberkeleyfencing.com/event/jr-foil-team-2-2-2-2/2025-11-10
LOCATION:West Berkeley Fencing Club\, 1111 Addison Street\, Berkeley\, CA\, 94706\, United States
CATEGORIES:Jr. Team
GEO:37.8684577;-122.2913141
X-APPLE-STRUCTURED-LOCATION;VALUE=URI;X-ADDRESS=West Berkeley Fencing Club 1111 Addison Street Berkeley CA 94706 United States;X-APPLE-RADIUS=500;X-TITLE=1111 Addison Street:geo:-122.2913141,37.8684577
END:VEVENT
BEGIN:VEVENT
DTSTART;TZID=America/Los_Angeles:20251110T170000
DTEND;TZID=America/Los_Angeles:20251110T183000
DTSTAMP:20260425T034607
CREATED:20250823T082617Z
LAST-MODIFIED:20260118T195914Z
UID:10007425-1762794000-1762799400@westberkeleyfencing.com
SUMMARY:Youth Team
DESCRIPTION:Youth Team program for experienced fencers with increased competitive bouting.\nFor Youth Team Members ages 8-14. Electric gear required.
URL:https://westberkeleyfencing.com/event/youth-iii-3/2025-11-10
LOCATION:West Berkeley Fencing Club\, 1111 Addison Street\, Berkeley\, CA\, 94706\, United States
CATEGORIES:Youth Classes
GEO:37.8684577;-122.2913141
X-APPLE-STRUCTURED-LOCATION;VALUE=URI;X-ADDRESS=West Berkeley Fencing Club 1111 Addison Street Berkeley CA 94706 United States;X-APPLE-RADIUS=500;X-TITLE=1111 Addison Street:geo:-122.2913141,37.8684577
END:VEVENT
BEGIN:VEVENT
DTSTART;TZID=America/Los_Angeles:20251110T160000
DTEND;TZID=America/Los_Angeles:20251110T170000
DTSTAMP:20260425T034607
CREATED:20250823T071831Z
LAST-MODIFIED:20260118T195831Z
UID:10006260-1762790400-1762794000@westberkeleyfencing.com
SUMMARY:Youth II
DESCRIPTION:Intermediate-level instruction for our continuing Youth Members ages 8-13.\nAthletes need their own standard equipment for participation.
URL:https://westberkeleyfencing.com/event/youth-i-ii-2-2/2025-11-10
LOCATION:West Berkeley Fencing Club\, 1111 Addison Street\, Berkeley\, CA\, 94706\, United States
CATEGORIES:Youth Classes
GEO:37.8684577;-122.2913141
X-APPLE-STRUCTURED-LOCATION;VALUE=URI;X-ADDRESS=West Berkeley Fencing Club 1111 Addison Street Berkeley CA 94706 United States;X-APPLE-RADIUS=500;X-TITLE=1111 Addison Street:geo:-122.2913141,37.8684577
END:VEVENT
BEGIN:VEVENT
DTSTART;TZID=America/Los_Angeles:20251108T130000
DTEND;TZID=America/Los_Angeles:20251108T150000
DTSTAMP:20260425T034607
CREATED:20240902T023030Z
LAST-MODIFIED:20260326T004647Z
UID:10002695-1762606800-1762614000@westberkeleyfencing.com
SUMMARY:Open Bouting
DESCRIPTION:Open floor time for electric bouting.\nFor ages 12+ with their own equipment and prior fencing experience.\nNon-Members: $25
URL:https://westberkeleyfencing.com/event/open-bouting-3/2025-11-08
LOCATION:West Berkeley Fencing Club\, 1111 Addison Street\, Berkeley\, CA\, 94706\, United States
CATEGORIES:Open Fencing
GEO:37.8684577;-122.2913141
X-APPLE-STRUCTURED-LOCATION;VALUE=URI;X-ADDRESS=West Berkeley Fencing Club 1111 Addison Street Berkeley CA 94706 United States;X-APPLE-RADIUS=500;X-TITLE=1111 Addison Street:geo:-122.2913141,37.8684577
END:VEVENT
BEGIN:VEVENT
DTSTART;TZID=America/Los_Angeles:20251108T120000
DTEND;TZID=America/Los_Angeles:20251108T130000
DTSTAMP:20260425T034607
CREATED:20250518T171406Z
LAST-MODIFIED:20251121T054429Z
UID:10002435-1762603200-1762606800@westberkeleyfencing.com
SUMMARY:Drill Class
DESCRIPTION:Footwork followed by partner drills. Open to our General & Team Members ages 13+ with prior fencing experience.
URL:https://westberkeleyfencing.com/event/3-weapon-drill-class-3-2/2025-11-08
LOCATION:West Berkeley Fencing Club\, 1111 Addison Street\, Berkeley\, CA\, 94706\, United States
CATEGORIES:Adult Classes
GEO:37.8684577;-122.2913141
X-APPLE-STRUCTURED-LOCATION;VALUE=URI;X-ADDRESS=West Berkeley Fencing Club 1111 Addison Street Berkeley CA 94706 United States;X-APPLE-RADIUS=500;X-TITLE=1111 Addison Street:geo:-122.2913141,37.8684577
END:VEVENT
BEGIN:VEVENT
DTSTART;TZID=America/Los_Angeles:20251108T110000
DTEND;TZID=America/Los_Angeles:20251108T120000
DTSTAMP:20260425T034607
CREATED:20240902T062026Z
LAST-MODIFIED:20260326T004410Z
UID:10002175-1762599600-1762603200@westberkeleyfencing.com
SUMMARY:Youth II
DESCRIPTION:Intermediate-level instruction for our continuing Youth Members ages 8-13.\nAthletes need their own standard equipment for participation.
URL:https://westberkeleyfencing.com/event/youth-i-ii-3/2025-11-08
LOCATION:West Berkeley Fencing Club\, 1111 Addison Street\, Berkeley\, CA\, 94706\, United States
CATEGORIES:Youth Classes
GEO:37.8684577;-122.2913141
X-APPLE-STRUCTURED-LOCATION;VALUE=URI;X-ADDRESS=West Berkeley Fencing Club 1111 Addison Street Berkeley CA 94706 United States;X-APPLE-RADIUS=500;X-TITLE=1111 Addison Street:geo:-122.2913141,37.8684577
END:VEVENT
BEGIN:VEVENT
DTSTART;TZID=America/Los_Angeles:20251108T100000
DTEND;TZID=America/Los_Angeles:20251108T110000
DTSTAMP:20260425T034607
CREATED:20241227T212721Z
LAST-MODIFIED:20260326T003514Z
UID:10001915-1762596000-1762599600@westberkeleyfencing.com
SUMMARY:Youth I
DESCRIPTION:For first-time fencers & those reinforcing the basics.\nClass option for our Youth Members ages 8-12. Pre-registration required.
URL:https://westberkeleyfencing.com/event/youth-i-2-2/2025-11-08
LOCATION:West Berkeley Fencing Club\, 1111 Addison Street\, Berkeley\, CA\, 94706\, United States
CATEGORIES:Youth Classes
GEO:37.8684577;-122.2913141
X-APPLE-STRUCTURED-LOCATION;VALUE=URI;X-ADDRESS=West Berkeley Fencing Club 1111 Addison Street Berkeley CA 94706 United States;X-APPLE-RADIUS=500;X-TITLE=1111 Addison Street:geo:-122.2913141,37.8684577
END:VEVENT
BEGIN:VEVENT
DTSTART;TZID=America/Los_Angeles:20251108T090000
DTEND;TZID=America/Los_Angeles:20251108T094500
DTSTAMP:20260425T034607
CREATED:20240902T024421Z
LAST-MODIFIED:20260326T002949Z
UID:10005731-1762592400-1762595100@westberkeleyfencing.com
SUMMARY:Youth Swordplay
DESCRIPTION:A beginning-level class tailored to our Youth Members ages 5-7.\nPre-registration required.
URL:https://westberkeleyfencing.com/event/youth-swordplay-2/2025-11-08
LOCATION:West Berkeley Fencing Club\, 1111 Addison Street\, Berkeley\, CA\, 94706\, United States
CATEGORIES:Youth Classes
GEO:37.8684577;-122.2913141
X-APPLE-STRUCTURED-LOCATION;VALUE=URI;X-ADDRESS=West Berkeley Fencing Club 1111 Addison Street Berkeley CA 94706 United States;X-APPLE-RADIUS=500;X-TITLE=1111 Addison Street:geo:-122.2913141,37.8684577
END:VEVENT
BEGIN:VEVENT
DTSTART;TZID=America/Los_Angeles:20251106T203000
DTEND;TZID=America/Los_Angeles:20251106T220000
DTSTAMP:20260425T034607
CREATED:20240902T024222Z
LAST-MODIFIED:20251121T052336Z
UID:10003000-1762461000-1762466400@westberkeleyfencing.com
SUMMARY:Open Bouting
DESCRIPTION:Open floor time for electric bouting.\nFor ages 12+ with their own equipment and prior fencing experience.\nNon-Members: $25
URL:https://westberkeleyfencing.com/event/open-bouting-2/2025-11-06
LOCATION:West Berkeley Fencing Club\, 1111 Addison Street\, Berkeley\, CA\, 94706\, United States
CATEGORIES:Open Fencing
GEO:37.8684577;-122.2913141
X-APPLE-STRUCTURED-LOCATION;VALUE=URI;X-ADDRESS=West Berkeley Fencing Club 1111 Addison Street Berkeley CA 94706 United States;X-APPLE-RADIUS=500;X-TITLE=1111 Addison Street:geo:-122.2913141,37.8684577
END:VEVENT
BEGIN:VEVENT
DTSTART;TZID=America/Los_Angeles:20251106T193000
DTEND;TZID=America/Los_Angeles:20251106T203000
DTSTAMP:20260425T034607
CREATED:20250518T170448Z
LAST-MODIFIED:20251121T054543Z
UID:10004252-1762457400-1762461000@westberkeleyfencing.com
SUMMARY:Drill Class
DESCRIPTION:Footwork followed by partner drills. Open to our General & Team Members ages 13+ with prior fencing experience.
URL:https://westberkeleyfencing.com/event/3-weapon-drill-class-4-2/2025-11-06
LOCATION:West Berkeley Fencing Club\, 1111 Addison Street\, Berkeley\, CA\, 94706\, United States
CATEGORIES:Adult Classes
GEO:37.8684577;-122.2913141
X-APPLE-STRUCTURED-LOCATION;VALUE=URI;X-ADDRESS=West Berkeley Fencing Club 1111 Addison Street Berkeley CA 94706 United States;X-APPLE-RADIUS=500;X-TITLE=1111 Addison Street:geo:-122.2913141,37.8684577
END:VEVENT
BEGIN:VEVENT
DTSTART;TZID=America/Los_Angeles:20251106T183000
DTEND;TZID=America/Los_Angeles:20251106T193000
DTSTAMP:20260425T034607
CREATED:20250518T165848Z
LAST-MODIFIED:20251121T054024Z
UID:10005193-1762453800-1762457400@westberkeleyfencing.com
SUMMARY:Team Bouting
DESCRIPTION:Electric bouting & lesson time for Youth Team & Junior+ Team Members.
URL:https://westberkeleyfencing.com/event/team-bouting-2-2-2/2025-11-06
LOCATION:West Berkeley Fencing Club\, 1111 Addison Street\, Berkeley\, CA\, 94706\, United States
CATEGORIES:Jr. Team
GEO:37.8684577;-122.2913141
X-APPLE-STRUCTURED-LOCATION;VALUE=URI;X-ADDRESS=West Berkeley Fencing Club 1111 Addison Street Berkeley CA 94706 United States;X-APPLE-RADIUS=500;X-TITLE=1111 Addison Street:geo:-122.2913141,37.8684577
END:VEVENT
END:VCALENDAR