BEGIN:VCALENDAR
VERSION:2.0
PRODID:-//West Berkeley Fencing Club - ECPv6.15.18//NONSGML v1.0//EN
CALSCALE:GREGORIAN
METHOD:PUBLISH
X-ORIGINAL-URL:https://westberkeleyfencing.com
X-WR-CALDESC:Events for West Berkeley Fencing Club
REFRESH-INTERVAL;VALUE=DURATION:PT1H
X-Robots-Tag:noindex
X-PUBLISHED-TTL:PT1H
BEGIN:VTIMEZONE
TZID:America/Los_Angeles
BEGIN:DAYLIGHT
TZOFFSETFROM:-0800
TZOFFSETTO:-0700
TZNAME:PDT
DTSTART:20230312T100000
END:DAYLIGHT
BEGIN:STANDARD
TZOFFSETFROM:-0700
TZOFFSETTO:-0800
TZNAME:PST
DTSTART:20231105T090000
END:STANDARD
BEGIN:DAYLIGHT
TZOFFSETFROM:-0800
TZOFFSETTO:-0700
TZNAME:PDT
DTSTART:20240310T100000
END:DAYLIGHT
BEGIN:STANDARD
TZOFFSETFROM:-0700
TZOFFSETTO:-0800
TZNAME:PST
DTSTART:20241103T090000
END:STANDARD
BEGIN:DAYLIGHT
TZOFFSETFROM:-0800
TZOFFSETTO:-0700
TZNAME:PDT
DTSTART:20250309T100000
END:DAYLIGHT
BEGIN:STANDARD
TZOFFSETFROM:-0700
TZOFFSETTO:-0800
TZNAME:PST
DTSTART:20251102T090000
END:STANDARD
END:VTIMEZONE
BEGIN:VEVENT
DTSTART;VALUE=DATE:20240711
DTEND;VALUE=DATE:20240712
DTSTAMP:20260425T212021
CREATED:20220620T170948Z
LAST-MODIFIED:20240228T234812Z
UID:10000189-1720656000-1720742399@westberkeleyfencing.com
SUMMARY:CLOSED
DESCRIPTION:We’re in Columbus Ohio for the Summer National Championships. Join us for classes and bouting when we return July 13th.
URL:https://westberkeleyfencing.com/event/closed-summer-nationals/2024-07-11
LOCATION:West Berkeley Fencing Club\, 1111 Addison Street\, Berkeley\, CA\, 94706\, United States
CATEGORIES:Closure
GEO:37.8684577;-122.2913141
X-APPLE-STRUCTURED-LOCATION;VALUE=URI;X-ADDRESS=West Berkeley Fencing Club 1111 Addison Street Berkeley CA 94706 United States;X-APPLE-RADIUS=500;X-TITLE=1111 Addison Street:geo:-122.2913141,37.8684577
END:VEVENT
BEGIN:VEVENT
DTSTART;TZID=America/Los_Angeles:20240713T091500
DTEND;TZID=America/Los_Angeles:20240713T100000
DTSTAMP:20260425T212021
CREATED:20170926T234615Z
LAST-MODIFIED:20240228T234659Z
UID:10000435-1720862100-1720864800@westberkeleyfencing.com
SUMMARY:Youth Swordplay
DESCRIPTION:A beginning level class tailored to athletes ages 5-7.\nClass size is limited. Pre-registration required.
URL:https://westberkeleyfencing.com/event/youth-swordplay/2024-07-13
LOCATION:West Berkeley Fencing Club\, 1111 Addison Street\, Berkeley\, CA\, 94706\, United States
CATEGORIES:Youth Classes
GEO:37.8684577;-122.2913141
X-APPLE-STRUCTURED-LOCATION;VALUE=URI;X-ADDRESS=West Berkeley Fencing Club 1111 Addison Street Berkeley CA 94706 United States;X-APPLE-RADIUS=500;X-TITLE=1111 Addison Street:geo:-122.2913141,37.8684577
END:VEVENT
BEGIN:VEVENT
DTSTART;TZID=America/Los_Angeles:20240713T101500
DTEND;TZID=America/Los_Angeles:20240713T111500
DTSTAMP:20260425T212021
CREATED:20240523T020909Z
LAST-MODIFIED:20251121T054204Z
UID:10001174-1720865700-1720869300@westberkeleyfencing.com
SUMMARY:Youth I
DESCRIPTION:For first-time fencers & those reinforcing the basics.\nDesigned for ages 8-12. Pre-registration required.
URL:https://westberkeleyfencing.com/event/youth-i-4/2024-07-13
LOCATION:West Berkeley Fencing Club\, 1111 Addison Street\, Berkeley\, CA\, 94706\, United States
CATEGORIES:Youth Classes
GEO:37.8684577;-122.2913141
X-APPLE-STRUCTURED-LOCATION;VALUE=URI;X-ADDRESS=West Berkeley Fencing Club 1111 Addison Street Berkeley CA 94706 United States;X-APPLE-RADIUS=500;X-TITLE=1111 Addison Street:geo:-122.2913141,37.8684577
END:VEVENT
BEGIN:VEVENT
DTSTART;TZID=America/Los_Angeles:20240713T113000
DTEND;TZID=America/Los_Angeles:20240713T123000
DTSTAMP:20260425T212021
CREATED:20240523T020824Z
LAST-MODIFIED:20240523T020824Z
UID:10000152-1720870200-1720873800@westberkeleyfencing.com
SUMMARY:3-Weapon Drill
DESCRIPTION:Footwork followed by partner drills in all weapons. Open to WBFC members ages 13+ with prior fencing experience & equipment.
URL:https://westberkeleyfencing.com/event/3-weapon-drill-class/2024-07-13
LOCATION:West Berkeley Fencing Club\, 1111 Addison Street\, Berkeley\, CA\, 94706\, United States
CATEGORIES:Adult Classes
GEO:37.8684577;-122.2913141
X-APPLE-STRUCTURED-LOCATION;VALUE=URI;X-ADDRESS=West Berkeley Fencing Club 1111 Addison Street Berkeley CA 94706 United States;X-APPLE-RADIUS=500;X-TITLE=1111 Addison Street:geo:-122.2913141,37.8684577
END:VEVENT
BEGIN:VEVENT
DTSTART;TZID=America/Los_Angeles:20240715T120000
DTEND;TZID=America/Los_Angeles:20240715T153000
DTSTAMP:20260425T212021
CREATED:20200205T034544Z
LAST-MODIFIED:20240228T233722Z
UID:10000403-1721044800-1721057400@westberkeleyfencing.com
SUMMARY:Fantasy Camp
DESCRIPTION:Youth Camp for beginning-intermediate athletes ages 7-12.
URL:https://westberkeleyfencing.com/event/fantasy-camp-2/2024-07-15
LOCATION:West Berkeley Fencing Club\, 1111 Addison Street\, Berkeley\, CA\, 94706\, United States
CATEGORIES:Camp
ATTACH;FMTTYPE=image/jpeg:https://westberkeleyfencing.com/wp-content/uploads/4c0e15dd-51ee-4505-bef6-47b90f3890e7.jpg
GEO:37.8684577;-122.2913141
X-APPLE-STRUCTURED-LOCATION;VALUE=URI;X-ADDRESS=West Berkeley Fencing Club 1111 Addison Street Berkeley CA 94706 United States;X-APPLE-RADIUS=500;X-TITLE=1111 Addison Street:geo:-122.2913141,37.8684577
END:VEVENT
BEGIN:VEVENT
DTSTART;TZID=America/Los_Angeles:20240716T120000
DTEND;TZID=America/Los_Angeles:20240716T153000
DTSTAMP:20260425T212021
CREATED:20200205T034544Z
LAST-MODIFIED:20240228T233722Z
UID:10000404-1721131200-1721143800@westberkeleyfencing.com
SUMMARY:Fantasy Camp
DESCRIPTION:Youth Camp for beginning-intermediate athletes ages 7-12.
URL:https://westberkeleyfencing.com/event/fantasy-camp-2/2024-07-16
LOCATION:West Berkeley Fencing Club\, 1111 Addison Street\, Berkeley\, CA\, 94706\, United States
CATEGORIES:Camp
ATTACH;FMTTYPE=image/jpeg:https://westberkeleyfencing.com/wp-content/uploads/4c0e15dd-51ee-4505-bef6-47b90f3890e7.jpg
GEO:37.8684577;-122.2913141
X-APPLE-STRUCTURED-LOCATION;VALUE=URI;X-ADDRESS=West Berkeley Fencing Club 1111 Addison Street Berkeley CA 94706 United States;X-APPLE-RADIUS=500;X-TITLE=1111 Addison Street:geo:-122.2913141,37.8684577
END:VEVENT
BEGIN:VEVENT
DTSTART;TZID=America/Los_Angeles:20240716T160000
DTEND;TZID=America/Los_Angeles:20240716T170000
DTSTAMP:20260425T212021
CREATED:20240516T022147Z
LAST-MODIFIED:20240516T022147Z
UID:10000006-1721145600-1721149200@westberkeleyfencing.com
SUMMARY:Summer Youth I/II
DESCRIPTION:Summer youth class for beginning-intermediate fencers ages 8-12.
URL:https://westberkeleyfencing.com/event/summer-youth-i-ii/2024-07-16
LOCATION:West Berkeley Fencing Club\, 1111 Addison Street\, Berkeley\, CA\, 94706\, United States
CATEGORIES:Youth Classes
GEO:37.8684577;-122.2913141
X-APPLE-STRUCTURED-LOCATION;VALUE=URI;X-ADDRESS=West Berkeley Fencing Club 1111 Addison Street Berkeley CA 94706 United States;X-APPLE-RADIUS=500;X-TITLE=1111 Addison Street:geo:-122.2913141,37.8684577
END:VEVENT
BEGIN:VEVENT
DTSTART;TZID=America/Los_Angeles:20240716T183000
DTEND;TZID=America/Los_Angeles:20240716T193000
DTSTAMP:20260425T212021
CREATED:20240516T014148Z
LAST-MODIFIED:20240516T014148Z
UID:10000237-1721154600-1721158200@westberkeleyfencing.com
SUMMARY:Summer Team Bouting
DESCRIPTION:Summer schedule electric bouting & lesson time for our Youth & Junior Team members.\n24-25 Season schedule begins in September.
URL:https://westberkeleyfencing.com/event/summer-team-bouting/2024-07-16
LOCATION:West Berkeley Fencing Club\, 1111 Addison Street\, Berkeley\, CA\, 94706\, United States
CATEGORIES:Jr. Team
GEO:37.8684577;-122.2913141
X-APPLE-STRUCTURED-LOCATION;VALUE=URI;X-ADDRESS=West Berkeley Fencing Club 1111 Addison Street Berkeley CA 94706 United States;X-APPLE-RADIUS=500;X-TITLE=1111 Addison Street:geo:-122.2913141,37.8684577
END:VEVENT
BEGIN:VEVENT
DTSTART;TZID=America/Los_Angeles:20240716T193000
DTEND;TZID=America/Los_Angeles:20240716T203000
DTSTAMP:20260425T212021
CREATED:20170726T205846Z
LAST-MODIFIED:20240516T011104Z
UID:10000103-1721158200-1721161800@westberkeleyfencing.com
SUMMARY:3-Weapon Drill
DESCRIPTION:Footwork followed by partner drills in all weapons. Open to WBFC members ages 13+ with prior fencing experience & equipment.
URL:https://westberkeleyfencing.com/event/3-weapon-drill-class/2024-07-16
LOCATION:West Berkeley Fencing Club\, 1111 Addison Street\, Berkeley\, CA\, 94706\, United States
CATEGORIES:Adult Classes
GEO:37.8684577;-122.2913141
X-APPLE-STRUCTURED-LOCATION;VALUE=URI;X-ADDRESS=West Berkeley Fencing Club 1111 Addison Street Berkeley CA 94706 United States;X-APPLE-RADIUS=500;X-TITLE=1111 Addison Street:geo:-122.2913141,37.8684577
END:VEVENT
BEGIN:VEVENT
DTSTART;TZID=America/Los_Angeles:20240717T120000
DTEND;TZID=America/Los_Angeles:20240717T153000
DTSTAMP:20260425T212021
CREATED:20200205T034544Z
LAST-MODIFIED:20240228T233722Z
UID:10000405-1721217600-1721230200@westberkeleyfencing.com
SUMMARY:Fantasy Camp
DESCRIPTION:Youth Camp for beginning-intermediate athletes ages 7-12.
URL:https://westberkeleyfencing.com/event/fantasy-camp-2/2024-07-17
LOCATION:West Berkeley Fencing Club\, 1111 Addison Street\, Berkeley\, CA\, 94706\, United States
CATEGORIES:Camp
ATTACH;FMTTYPE=image/jpeg:https://westberkeleyfencing.com/wp-content/uploads/4c0e15dd-51ee-4505-bef6-47b90f3890e7.jpg
GEO:37.8684577;-122.2913141
X-APPLE-STRUCTURED-LOCATION;VALUE=URI;X-ADDRESS=West Berkeley Fencing Club 1111 Addison Street Berkeley CA 94706 United States;X-APPLE-RADIUS=500;X-TITLE=1111 Addison Street:geo:-122.2913141,37.8684577
END:VEVENT
BEGIN:VEVENT
DTSTART;TZID=America/Los_Angeles:20240717T160000
DTEND;TZID=America/Los_Angeles:20240717T170000
DTSTAMP:20260425T212021
CREATED:20240516T022147Z
LAST-MODIFIED:20240516T022147Z
UID:10000007-1721232000-1721235600@westberkeleyfencing.com
SUMMARY:Summer Youth I/II
DESCRIPTION:Summer youth class for beginning-intermediate fencers ages 8-12.
URL:https://westberkeleyfencing.com/event/summer-youth-i-ii/2024-07-17
LOCATION:West Berkeley Fencing Club\, 1111 Addison Street\, Berkeley\, CA\, 94706\, United States
CATEGORIES:Youth Classes
GEO:37.8684577;-122.2913141
X-APPLE-STRUCTURED-LOCATION;VALUE=URI;X-ADDRESS=West Berkeley Fencing Club 1111 Addison Street Berkeley CA 94706 United States;X-APPLE-RADIUS=500;X-TITLE=1111 Addison Street:geo:-122.2913141,37.8684577
END:VEVENT
BEGIN:VEVENT
DTSTART;TZID=America/Los_Angeles:20240717T180000
DTEND;TZID=America/Los_Angeles:20240717T203000
DTSTAMP:20260425T212021
CREATED:20240523T020831Z
LAST-MODIFIED:20240523T020831Z
UID:10000244-1721239200-1721248200@westberkeleyfencing.com
SUMMARY:Summer Team Bouting
DESCRIPTION:Summer schedule electric bouting & lesson time for our Youth & Junior Team members.\n24-25 Season schedule begins in September.
URL:https://westberkeleyfencing.com/event/summer-team-bouting/2024-07-17
LOCATION:West Berkeley Fencing Club\, 1111 Addison Street\, Berkeley\, CA\, 94706\, United States
CATEGORIES:Jr. Team
GEO:37.8684577;-122.2913141
X-APPLE-STRUCTURED-LOCATION;VALUE=URI;X-ADDRESS=West Berkeley Fencing Club 1111 Addison Street Berkeley CA 94706 United States;X-APPLE-RADIUS=500;X-TITLE=1111 Addison Street:geo:-122.2913141,37.8684577
END:VEVENT
BEGIN:VEVENT
DTSTART;TZID=America/Los_Angeles:20240718T120000
DTEND;TZID=America/Los_Angeles:20240718T153000
DTSTAMP:20260425T212021
CREATED:20200205T034544Z
LAST-MODIFIED:20240228T233722Z
UID:10000406-1721304000-1721316600@westberkeleyfencing.com
SUMMARY:Fantasy Camp
DESCRIPTION:Youth Camp for beginning-intermediate athletes ages 7-12.
URL:https://westberkeleyfencing.com/event/fantasy-camp-2/2024-07-18
LOCATION:West Berkeley Fencing Club\, 1111 Addison Street\, Berkeley\, CA\, 94706\, United States
CATEGORIES:Camp
ATTACH;FMTTYPE=image/jpeg:https://westberkeleyfencing.com/wp-content/uploads/4c0e15dd-51ee-4505-bef6-47b90f3890e7.jpg
GEO:37.8684577;-122.2913141
X-APPLE-STRUCTURED-LOCATION;VALUE=URI;X-ADDRESS=West Berkeley Fencing Club 1111 Addison Street Berkeley CA 94706 United States;X-APPLE-RADIUS=500;X-TITLE=1111 Addison Street:geo:-122.2913141,37.8684577
END:VEVENT
BEGIN:VEVENT
DTSTART;TZID=America/Los_Angeles:20240718T160000
DTEND;TZID=America/Los_Angeles:20240718T170000
DTSTAMP:20260425T212021
CREATED:20240516T022147Z
LAST-MODIFIED:20240516T022147Z
UID:10000008-1721318400-1721322000@westberkeleyfencing.com
SUMMARY:Summer Youth I/II
DESCRIPTION:Summer youth class for beginning-intermediate fencers ages 8-12.
URL:https://westberkeleyfencing.com/event/summer-youth-i-ii/2024-07-18
LOCATION:West Berkeley Fencing Club\, 1111 Addison Street\, Berkeley\, CA\, 94706\, United States
CATEGORIES:Youth Classes
GEO:37.8684577;-122.2913141
X-APPLE-STRUCTURED-LOCATION;VALUE=URI;X-ADDRESS=West Berkeley Fencing Club 1111 Addison Street Berkeley CA 94706 United States;X-APPLE-RADIUS=500;X-TITLE=1111 Addison Street:geo:-122.2913141,37.8684577
END:VEVENT
BEGIN:VEVENT
DTSTART;TZID=America/Los_Angeles:20240718T170000
DTEND;TZID=America/Los_Angeles:20240718T193000
DTSTAMP:20260425T212021
CREATED:20240523T020832Z
LAST-MODIFIED:20240523T020832Z
UID:10000251-1721322000-1721331000@westberkeleyfencing.com
SUMMARY:Summer Team Bouting
DESCRIPTION:Summer schedule electric bouting & lesson time for our Youth & Junior Team members.\n24-25 Season schedule begins in September.
URL:https://westberkeleyfencing.com/event/summer-team-bouting/2024-07-18
LOCATION:West Berkeley Fencing Club\, 1111 Addison Street\, Berkeley\, CA\, 94706\, United States
CATEGORIES:Jr. Team
GEO:37.8684577;-122.2913141
X-APPLE-STRUCTURED-LOCATION;VALUE=URI;X-ADDRESS=West Berkeley Fencing Club 1111 Addison Street Berkeley CA 94706 United States;X-APPLE-RADIUS=500;X-TITLE=1111 Addison Street:geo:-122.2913141,37.8684577
END:VEVENT
BEGIN:VEVENT
DTSTART;TZID=America/Los_Angeles:20240718T193000
DTEND;TZID=America/Los_Angeles:20240718T200000
DTSTAMP:20260425T212021
CREATED:20170902T090226Z
LAST-MODIFIED:20240516T011345Z
UID:10000655-1721331000-1721332800@westberkeleyfencing.com
SUMMARY:Footwork & Functional
DESCRIPTION:Group footwork and functional warm-up class for teen & adult members.\nOffered in-person and online over Zoom.
URL:https://westberkeleyfencing.com/event/3-weapon-drill-class-2/2024-07-18
LOCATION:West Berkeley Fencing Club\, 1111 Addison Street\, Berkeley\, CA\, 94706\, United States
CATEGORIES:Adult Classes
GEO:37.8684577;-122.2913141
X-APPLE-STRUCTURED-LOCATION;VALUE=URI;X-ADDRESS=West Berkeley Fencing Club 1111 Addison Street Berkeley CA 94706 United States;X-APPLE-RADIUS=500;X-TITLE=1111 Addison Street:geo:-122.2913141,37.8684577
END:VEVENT
BEGIN:VEVENT
DTSTART;TZID=America/Los_Angeles:20240718T200000
DTEND;TZID=America/Los_Angeles:20240718T213000
DTSTAMP:20260425T212021
CREATED:20240523T020907Z
LAST-MODIFIED:20240523T020907Z
UID:10001048-1721332800-1721338200@westberkeleyfencing.com
SUMMARY:Open Bouting
DESCRIPTION:Open floor time for electric bouting.\nFor ages 12+ with equipment and prior fencing experience.
URL:https://westberkeleyfencing.com/event/open-bouting/2024-07-18
LOCATION:West Berkeley Fencing Club\, 1111 Addison Street\, Berkeley\, CA\, 94706\, United States
CATEGORIES:Open Fencing
GEO:37.8684577;-122.2913141
X-APPLE-STRUCTURED-LOCATION;VALUE=URI;X-ADDRESS=West Berkeley Fencing Club 1111 Addison Street Berkeley CA 94706 United States;X-APPLE-RADIUS=500;X-TITLE=1111 Addison Street:geo:-122.2913141,37.8684577
END:VEVENT
BEGIN:VEVENT
DTSTART;TZID=America/Los_Angeles:20240719T120000
DTEND;TZID=America/Los_Angeles:20240719T153000
DTSTAMP:20260425T212021
CREATED:20200205T034544Z
LAST-MODIFIED:20240228T233722Z
UID:10000407-1721390400-1721403000@westberkeleyfencing.com
SUMMARY:Fantasy Camp
DESCRIPTION:Youth Camp for beginning-intermediate athletes ages 7-12.
URL:https://westberkeleyfencing.com/event/fantasy-camp-2/2024-07-19
LOCATION:West Berkeley Fencing Club\, 1111 Addison Street\, Berkeley\, CA\, 94706\, United States
CATEGORIES:Camp
ATTACH;FMTTYPE=image/jpeg:https://westberkeleyfencing.com/wp-content/uploads/4c0e15dd-51ee-4505-bef6-47b90f3890e7.jpg
GEO:37.8684577;-122.2913141
X-APPLE-STRUCTURED-LOCATION;VALUE=URI;X-ADDRESS=West Berkeley Fencing Club 1111 Addison Street Berkeley CA 94706 United States;X-APPLE-RADIUS=500;X-TITLE=1111 Addison Street:geo:-122.2913141,37.8684577
END:VEVENT
BEGIN:VEVENT
DTSTART;TZID=America/Los_Angeles:20240720T091500
DTEND;TZID=America/Los_Angeles:20240720T100000
DTSTAMP:20260425T212021
CREATED:20170926T234615Z
LAST-MODIFIED:20240228T234659Z
UID:10000436-1721466900-1721469600@westberkeleyfencing.com
SUMMARY:Youth Swordplay
DESCRIPTION:A beginning level class tailored to athletes ages 5-7.\nClass size is limited. Pre-registration required.
URL:https://westberkeleyfencing.com/event/youth-swordplay/2024-07-20
LOCATION:West Berkeley Fencing Club\, 1111 Addison Street\, Berkeley\, CA\, 94706\, United States
CATEGORIES:Youth Classes
GEO:37.8684577;-122.2913141
X-APPLE-STRUCTURED-LOCATION;VALUE=URI;X-ADDRESS=West Berkeley Fencing Club 1111 Addison Street Berkeley CA 94706 United States;X-APPLE-RADIUS=500;X-TITLE=1111 Addison Street:geo:-122.2913141,37.8684577
END:VEVENT
BEGIN:VEVENT
DTSTART;TZID=America/Los_Angeles:20240720T101500
DTEND;TZID=America/Los_Angeles:20240720T111500
DTSTAMP:20260425T212021
CREATED:20240523T020909Z
LAST-MODIFIED:20251121T054204Z
UID:10001175-1721470500-1721474100@westberkeleyfencing.com
SUMMARY:Youth I
DESCRIPTION:For first-time fencers & those reinforcing the basics.\nDesigned for ages 8-12. Pre-registration required.
URL:https://westberkeleyfencing.com/event/youth-i-4/2024-07-20
LOCATION:West Berkeley Fencing Club\, 1111 Addison Street\, Berkeley\, CA\, 94706\, United States
CATEGORIES:Youth Classes
GEO:37.8684577;-122.2913141
X-APPLE-STRUCTURED-LOCATION;VALUE=URI;X-ADDRESS=West Berkeley Fencing Club 1111 Addison Street Berkeley CA 94706 United States;X-APPLE-RADIUS=500;X-TITLE=1111 Addison Street:geo:-122.2913141,37.8684577
END:VEVENT
BEGIN:VEVENT
DTSTART;TZID=America/Los_Angeles:20240720T113000
DTEND;TZID=America/Los_Angeles:20240720T123000
DTSTAMP:20260425T212021
CREATED:20240523T020824Z
LAST-MODIFIED:20240523T020824Z
UID:10000153-1721475000-1721478600@westberkeleyfencing.com
SUMMARY:3-Weapon Drill
DESCRIPTION:Footwork followed by partner drills in all weapons. Open to WBFC members ages 13+ with prior fencing experience & equipment.
URL:https://westberkeleyfencing.com/event/3-weapon-drill-class/2024-07-20
LOCATION:West Berkeley Fencing Club\, 1111 Addison Street\, Berkeley\, CA\, 94706\, United States
CATEGORIES:Adult Classes
GEO:37.8684577;-122.2913141
X-APPLE-STRUCTURED-LOCATION;VALUE=URI;X-ADDRESS=West Berkeley Fencing Club 1111 Addison Street Berkeley CA 94706 United States;X-APPLE-RADIUS=500;X-TITLE=1111 Addison Street:geo:-122.2913141,37.8684577
END:VEVENT
BEGIN:VEVENT
DTSTART;TZID=America/Los_Angeles:20240722T120000
DTEND;TZID=America/Los_Angeles:20240722T153000
DTSTAMP:20260425T212021
CREATED:20220701T021328Z
LAST-MODIFIED:20240228T233810Z
UID:10000001-1721649600-1721662200@westberkeleyfencing.com
SUMMARY:Reality Camp
DESCRIPTION:Youth Camp for experienced athletes ages 7-14.
URL:https://westberkeleyfencing.com/event/reality-camp/2024-07-22
LOCATION:West Berkeley Fencing Club\, 1111 Addison Street\, Berkeley\, CA\, 94706\, United States
CATEGORIES:Camp
ATTACH;FMTTYPE=image/png:https://westberkeleyfencing.com/wp-content/uploads/kidfencers-e1666335566748.png
GEO:37.8684577;-122.2913141
X-APPLE-STRUCTURED-LOCATION;VALUE=URI;X-ADDRESS=West Berkeley Fencing Club 1111 Addison Street Berkeley CA 94706 United States;X-APPLE-RADIUS=500;X-TITLE=1111 Addison Street:geo:-122.2913141,37.8684577
END:VEVENT
BEGIN:VEVENT
DTSTART;TZID=America/Los_Angeles:20240723T120000
DTEND;TZID=America/Los_Angeles:20240723T153000
DTSTAMP:20260425T212021
CREATED:20220701T021328Z
LAST-MODIFIED:20240228T233810Z
UID:10000002-1721736000-1721748600@westberkeleyfencing.com
SUMMARY:Reality Camp
DESCRIPTION:Youth Camp for experienced athletes ages 7-14.
URL:https://westberkeleyfencing.com/event/reality-camp/2024-07-23
LOCATION:West Berkeley Fencing Club\, 1111 Addison Street\, Berkeley\, CA\, 94706\, United States
CATEGORIES:Camp
ATTACH;FMTTYPE=image/png:https://westberkeleyfencing.com/wp-content/uploads/kidfencers-e1666335566748.png
GEO:37.8684577;-122.2913141
X-APPLE-STRUCTURED-LOCATION;VALUE=URI;X-ADDRESS=West Berkeley Fencing Club 1111 Addison Street Berkeley CA 94706 United States;X-APPLE-RADIUS=500;X-TITLE=1111 Addison Street:geo:-122.2913141,37.8684577
END:VEVENT
BEGIN:VEVENT
DTSTART;TZID=America/Los_Angeles:20240723T160000
DTEND;TZID=America/Los_Angeles:20240723T170000
DTSTAMP:20260425T212021
CREATED:20240516T022147Z
LAST-MODIFIED:20240516T022147Z
UID:10000009-1721750400-1721754000@westberkeleyfencing.com
SUMMARY:Summer Youth I/II
DESCRIPTION:Summer youth class for beginning-intermediate fencers ages 8-12.
URL:https://westberkeleyfencing.com/event/summer-youth-i-ii/2024-07-23
LOCATION:West Berkeley Fencing Club\, 1111 Addison Street\, Berkeley\, CA\, 94706\, United States
CATEGORIES:Youth Classes
GEO:37.8684577;-122.2913141
X-APPLE-STRUCTURED-LOCATION;VALUE=URI;X-ADDRESS=West Berkeley Fencing Club 1111 Addison Street Berkeley CA 94706 United States;X-APPLE-RADIUS=500;X-TITLE=1111 Addison Street:geo:-122.2913141,37.8684577
END:VEVENT
BEGIN:VEVENT
DTSTART;TZID=America/Los_Angeles:20240723T183000
DTEND;TZID=America/Los_Angeles:20240723T193000
DTSTAMP:20260425T212021
CREATED:20240516T014148Z
LAST-MODIFIED:20240516T014148Z
UID:10000238-1721759400-1721763000@westberkeleyfencing.com
SUMMARY:Summer Team Bouting
DESCRIPTION:Summer schedule electric bouting & lesson time for our Youth & Junior Team members.\n24-25 Season schedule begins in September.
URL:https://westberkeleyfencing.com/event/summer-team-bouting/2024-07-23
LOCATION:West Berkeley Fencing Club\, 1111 Addison Street\, Berkeley\, CA\, 94706\, United States
CATEGORIES:Jr. Team
GEO:37.8684577;-122.2913141
X-APPLE-STRUCTURED-LOCATION;VALUE=URI;X-ADDRESS=West Berkeley Fencing Club 1111 Addison Street Berkeley CA 94706 United States;X-APPLE-RADIUS=500;X-TITLE=1111 Addison Street:geo:-122.2913141,37.8684577
END:VEVENT
BEGIN:VEVENT
DTSTART;TZID=America/Los_Angeles:20240723T193000
DTEND;TZID=America/Los_Angeles:20240723T203000
DTSTAMP:20260425T212021
CREATED:20170726T205846Z
LAST-MODIFIED:20240516T011104Z
UID:10000104-1721763000-1721766600@westberkeleyfencing.com
SUMMARY:3-Weapon Drill
DESCRIPTION:Footwork followed by partner drills in all weapons. Open to WBFC members ages 13+ with prior fencing experience & equipment.
URL:https://westberkeleyfencing.com/event/3-weapon-drill-class/2024-07-23
LOCATION:West Berkeley Fencing Club\, 1111 Addison Street\, Berkeley\, CA\, 94706\, United States
CATEGORIES:Adult Classes
GEO:37.8684577;-122.2913141
X-APPLE-STRUCTURED-LOCATION;VALUE=URI;X-ADDRESS=West Berkeley Fencing Club 1111 Addison Street Berkeley CA 94706 United States;X-APPLE-RADIUS=500;X-TITLE=1111 Addison Street:geo:-122.2913141,37.8684577
END:VEVENT
BEGIN:VEVENT
DTSTART;TZID=America/Los_Angeles:20240724T120000
DTEND;TZID=America/Los_Angeles:20240724T153000
DTSTAMP:20260425T212021
CREATED:20220701T021328Z
LAST-MODIFIED:20240228T233810Z
UID:10000003-1721822400-1721835000@westberkeleyfencing.com
SUMMARY:Reality Camp
DESCRIPTION:Youth Camp for experienced athletes ages 7-14.
URL:https://westberkeleyfencing.com/event/reality-camp/2024-07-24
LOCATION:West Berkeley Fencing Club\, 1111 Addison Street\, Berkeley\, CA\, 94706\, United States
CATEGORIES:Camp
ATTACH;FMTTYPE=image/png:https://westberkeleyfencing.com/wp-content/uploads/kidfencers-e1666335566748.png
GEO:37.8684577;-122.2913141
X-APPLE-STRUCTURED-LOCATION;VALUE=URI;X-ADDRESS=West Berkeley Fencing Club 1111 Addison Street Berkeley CA 94706 United States;X-APPLE-RADIUS=500;X-TITLE=1111 Addison Street:geo:-122.2913141,37.8684577
END:VEVENT
BEGIN:VEVENT
DTSTART;TZID=America/Los_Angeles:20240724T160000
DTEND;TZID=America/Los_Angeles:20240724T170000
DTSTAMP:20260425T212021
CREATED:20240516T022147Z
LAST-MODIFIED:20240516T022147Z
UID:10000010-1721836800-1721840400@westberkeleyfencing.com
SUMMARY:Summer Youth I/II
DESCRIPTION:Summer youth class for beginning-intermediate fencers ages 8-12.
URL:https://westberkeleyfencing.com/event/summer-youth-i-ii/2024-07-24
LOCATION:West Berkeley Fencing Club\, 1111 Addison Street\, Berkeley\, CA\, 94706\, United States
CATEGORIES:Youth Classes
GEO:37.8684577;-122.2913141
X-APPLE-STRUCTURED-LOCATION;VALUE=URI;X-ADDRESS=West Berkeley Fencing Club 1111 Addison Street Berkeley CA 94706 United States;X-APPLE-RADIUS=500;X-TITLE=1111 Addison Street:geo:-122.2913141,37.8684577
END:VEVENT
BEGIN:VEVENT
DTSTART;TZID=America/Los_Angeles:20240724T180000
DTEND;TZID=America/Los_Angeles:20240724T203000
DTSTAMP:20260425T212021
CREATED:20240523T020831Z
LAST-MODIFIED:20240523T020831Z
UID:10000245-1721844000-1721853000@westberkeleyfencing.com
SUMMARY:Summer Team Bouting
DESCRIPTION:Summer schedule electric bouting & lesson time for our Youth & Junior Team members.\n24-25 Season schedule begins in September.
URL:https://westberkeleyfencing.com/event/summer-team-bouting/2024-07-24
LOCATION:West Berkeley Fencing Club\, 1111 Addison Street\, Berkeley\, CA\, 94706\, United States
CATEGORIES:Jr. Team
GEO:37.8684577;-122.2913141
X-APPLE-STRUCTURED-LOCATION;VALUE=URI;X-ADDRESS=West Berkeley Fencing Club 1111 Addison Street Berkeley CA 94706 United States;X-APPLE-RADIUS=500;X-TITLE=1111 Addison Street:geo:-122.2913141,37.8684577
END:VEVENT
BEGIN:VEVENT
DTSTART;TZID=America/Los_Angeles:20240725T120000
DTEND;TZID=America/Los_Angeles:20240725T153000
DTSTAMP:20260425T212021
CREATED:20220701T021328Z
LAST-MODIFIED:20240228T233810Z
UID:10000004-1721908800-1721921400@westberkeleyfencing.com
SUMMARY:Reality Camp
DESCRIPTION:Youth Camp for experienced athletes ages 7-14.
URL:https://westberkeleyfencing.com/event/reality-camp/2024-07-25
LOCATION:West Berkeley Fencing Club\, 1111 Addison Street\, Berkeley\, CA\, 94706\, United States
CATEGORIES:Camp
ATTACH;FMTTYPE=image/png:https://westberkeleyfencing.com/wp-content/uploads/kidfencers-e1666335566748.png
GEO:37.8684577;-122.2913141
X-APPLE-STRUCTURED-LOCATION;VALUE=URI;X-ADDRESS=West Berkeley Fencing Club 1111 Addison Street Berkeley CA 94706 United States;X-APPLE-RADIUS=500;X-TITLE=1111 Addison Street:geo:-122.2913141,37.8684577
END:VEVENT
END:VCALENDAR