BEGIN:VCALENDAR
VERSION:2.0
PRODID:-//West Berkeley Fencing Club - ECPv6.15.18//NONSGML v1.0//EN
CALSCALE:GREGORIAN
METHOD:PUBLISH
X-WR-CALNAME:West Berkeley Fencing Club
X-ORIGINAL-URL:https://westberkeleyfencing.com
X-WR-CALDESC:Events for West Berkeley Fencing Club
REFRESH-INTERVAL;VALUE=DURATION:PT1H
X-Robots-Tag:noindex
X-PUBLISHED-TTL:PT1H
BEGIN:VTIMEZONE
TZID:America/Los_Angeles
BEGIN:DAYLIGHT
TZOFFSETFROM:-0800
TZOFFSETTO:-0700
TZNAME:PDT
DTSTART:20230312T100000
END:DAYLIGHT
BEGIN:STANDARD
TZOFFSETFROM:-0700
TZOFFSETTO:-0800
TZNAME:PST
DTSTART:20231105T090000
END:STANDARD
BEGIN:DAYLIGHT
TZOFFSETFROM:-0800
TZOFFSETTO:-0700
TZNAME:PDT
DTSTART:20240310T100000
END:DAYLIGHT
BEGIN:STANDARD
TZOFFSETFROM:-0700
TZOFFSETTO:-0800
TZNAME:PST
DTSTART:20241103T090000
END:STANDARD
BEGIN:DAYLIGHT
TZOFFSETFROM:-0800
TZOFFSETTO:-0700
TZNAME:PDT
DTSTART:20250309T100000
END:DAYLIGHT
BEGIN:STANDARD
TZOFFSETFROM:-0700
TZOFFSETTO:-0800
TZNAME:PST
DTSTART:20251102T090000
END:STANDARD
END:VTIMEZONE
BEGIN:VEVENT
DTSTART;TZID=America/Los_Angeles:20240807T160000
DTEND;TZID=America/Los_Angeles:20240807T170000
DTSTAMP:20260425T195258
CREATED:20240516T022147Z
LAST-MODIFIED:20240516T022147Z
UID:10000016-1723046400-1723050000@westberkeleyfencing.com
SUMMARY:Summer Youth I/II
DESCRIPTION:Summer youth class for beginning-intermediate fencers ages 8-12.
URL:https://westberkeleyfencing.com/event/summer-youth-i-ii/2024-08-07
LOCATION:West Berkeley Fencing Club\, 1111 Addison Street\, Berkeley\, CA\, 94706\, United States
CATEGORIES:Youth Classes
GEO:37.8684577;-122.2913141
X-APPLE-STRUCTURED-LOCATION;VALUE=URI;X-ADDRESS=West Berkeley Fencing Club 1111 Addison Street Berkeley CA 94706 United States;X-APPLE-RADIUS=500;X-TITLE=1111 Addison Street:geo:-122.2913141,37.8684577
END:VEVENT
BEGIN:VEVENT
DTSTART;TZID=America/Los_Angeles:20240807T180000
DTEND;TZID=America/Los_Angeles:20240807T203000
DTSTAMP:20260425T195258
CREATED:20240523T020831Z
LAST-MODIFIED:20240523T020831Z
UID:10000247-1723053600-1723062600@westberkeleyfencing.com
SUMMARY:Summer Team Bouting
DESCRIPTION:Summer schedule electric bouting & lesson time for our Youth & Junior Team members.\n24-25 Season schedule begins in September.
URL:https://westberkeleyfencing.com/event/summer-team-bouting/2024-08-07
LOCATION:West Berkeley Fencing Club\, 1111 Addison Street\, Berkeley\, CA\, 94706\, United States
CATEGORIES:Jr. Team
GEO:37.8684577;-122.2913141
X-APPLE-STRUCTURED-LOCATION;VALUE=URI;X-ADDRESS=West Berkeley Fencing Club 1111 Addison Street Berkeley CA 94706 United States;X-APPLE-RADIUS=500;X-TITLE=1111 Addison Street:geo:-122.2913141,37.8684577
END:VEVENT
BEGIN:VEVENT
DTSTART;TZID=America/Los_Angeles:20240808T160000
DTEND;TZID=America/Los_Angeles:20240808T170000
DTSTAMP:20260425T195258
CREATED:20240516T022147Z
LAST-MODIFIED:20240516T022147Z
UID:10000017-1723132800-1723136400@westberkeleyfencing.com
SUMMARY:Summer Youth I/II
DESCRIPTION:Summer youth class for beginning-intermediate fencers ages 8-12.
URL:https://westberkeleyfencing.com/event/summer-youth-i-ii/2024-08-08
LOCATION:West Berkeley Fencing Club\, 1111 Addison Street\, Berkeley\, CA\, 94706\, United States
CATEGORIES:Youth Classes
GEO:37.8684577;-122.2913141
X-APPLE-STRUCTURED-LOCATION;VALUE=URI;X-ADDRESS=West Berkeley Fencing Club 1111 Addison Street Berkeley CA 94706 United States;X-APPLE-RADIUS=500;X-TITLE=1111 Addison Street:geo:-122.2913141,37.8684577
END:VEVENT
BEGIN:VEVENT
DTSTART;TZID=America/Los_Angeles:20240808T170000
DTEND;TZID=America/Los_Angeles:20240808T193000
DTSTAMP:20260425T195258
CREATED:20240523T020832Z
LAST-MODIFIED:20240523T020832Z
UID:10000254-1723136400-1723145400@westberkeleyfencing.com
SUMMARY:Summer Team Bouting
DESCRIPTION:Summer schedule electric bouting & lesson time for our Youth & Junior Team members.\n24-25 Season schedule begins in September.
URL:https://westberkeleyfencing.com/event/summer-team-bouting/2024-08-08
LOCATION:West Berkeley Fencing Club\, 1111 Addison Street\, Berkeley\, CA\, 94706\, United States
CATEGORIES:Jr. Team
GEO:37.8684577;-122.2913141
X-APPLE-STRUCTURED-LOCATION;VALUE=URI;X-ADDRESS=West Berkeley Fencing Club 1111 Addison Street Berkeley CA 94706 United States;X-APPLE-RADIUS=500;X-TITLE=1111 Addison Street:geo:-122.2913141,37.8684577
END:VEVENT
BEGIN:VEVENT
DTSTART;TZID=America/Los_Angeles:20240808T193000
DTEND;TZID=America/Los_Angeles:20240808T200000
DTSTAMP:20260425T195258
CREATED:20170902T090226Z
LAST-MODIFIED:20240516T011345Z
UID:10000658-1723145400-1723147200@westberkeleyfencing.com
SUMMARY:Footwork & Functional
DESCRIPTION:Group footwork and functional warm-up class for teen & adult members.\nOffered in-person and online over Zoom.
URL:https://westberkeleyfencing.com/event/3-weapon-drill-class-2/2024-08-08
LOCATION:West Berkeley Fencing Club\, 1111 Addison Street\, Berkeley\, CA\, 94706\, United States
CATEGORIES:Adult Classes
GEO:37.8684577;-122.2913141
X-APPLE-STRUCTURED-LOCATION;VALUE=URI;X-ADDRESS=West Berkeley Fencing Club 1111 Addison Street Berkeley CA 94706 United States;X-APPLE-RADIUS=500;X-TITLE=1111 Addison Street:geo:-122.2913141,37.8684577
END:VEVENT
BEGIN:VEVENT
DTSTART;TZID=America/Los_Angeles:20240808T200000
DTEND;TZID=America/Los_Angeles:20240808T213000
DTSTAMP:20260425T195258
CREATED:20240523T020907Z
LAST-MODIFIED:20240523T020907Z
UID:10001051-1723147200-1723152600@westberkeleyfencing.com
SUMMARY:Open Bouting
DESCRIPTION:Open floor time for electric bouting.\nFor ages 12+ with equipment and prior fencing experience.
URL:https://westberkeleyfencing.com/event/open-bouting/2024-08-08
LOCATION:West Berkeley Fencing Club\, 1111 Addison Street\, Berkeley\, CA\, 94706\, United States
CATEGORIES:Open Fencing
GEO:37.8684577;-122.2913141
X-APPLE-STRUCTURED-LOCATION;VALUE=URI;X-ADDRESS=West Berkeley Fencing Club 1111 Addison Street Berkeley CA 94706 United States;X-APPLE-RADIUS=500;X-TITLE=1111 Addison Street:geo:-122.2913141,37.8684577
END:VEVENT
BEGIN:VEVENT
DTSTART;TZID=America/Los_Angeles:20240810T091500
DTEND;TZID=America/Los_Angeles:20240810T100000
DTSTAMP:20260425T195258
CREATED:20170926T234615Z
LAST-MODIFIED:20240228T234659Z
UID:10000439-1723281300-1723284000@westberkeleyfencing.com
SUMMARY:Youth Swordplay
DESCRIPTION:A beginning level class tailored to athletes ages 5-7.\nClass size is limited. Pre-registration required.
URL:https://westberkeleyfencing.com/event/youth-swordplay/2024-08-10
LOCATION:West Berkeley Fencing Club\, 1111 Addison Street\, Berkeley\, CA\, 94706\, United States
CATEGORIES:Youth Classes
GEO:37.8684577;-122.2913141
X-APPLE-STRUCTURED-LOCATION;VALUE=URI;X-ADDRESS=West Berkeley Fencing Club 1111 Addison Street Berkeley CA 94706 United States;X-APPLE-RADIUS=500;X-TITLE=1111 Addison Street:geo:-122.2913141,37.8684577
END:VEVENT
BEGIN:VEVENT
DTSTART;TZID=America/Los_Angeles:20240810T101500
DTEND;TZID=America/Los_Angeles:20240810T111500
DTSTAMP:20260425T195258
CREATED:20240523T020909Z
LAST-MODIFIED:20251121T054204Z
UID:10001178-1723284900-1723288500@westberkeleyfencing.com
SUMMARY:Youth I
DESCRIPTION:For first-time fencers & those reinforcing the basics.\nDesigned for ages 8-12. Pre-registration required.
URL:https://westberkeleyfencing.com/event/youth-i-4/2024-08-10
LOCATION:West Berkeley Fencing Club\, 1111 Addison Street\, Berkeley\, CA\, 94706\, United States
CATEGORIES:Youth Classes
GEO:37.8684577;-122.2913141
X-APPLE-STRUCTURED-LOCATION;VALUE=URI;X-ADDRESS=West Berkeley Fencing Club 1111 Addison Street Berkeley CA 94706 United States;X-APPLE-RADIUS=500;X-TITLE=1111 Addison Street:geo:-122.2913141,37.8684577
END:VEVENT
BEGIN:VEVENT
DTSTART;TZID=America/Los_Angeles:20240810T113000
DTEND;TZID=America/Los_Angeles:20240810T123000
DTSTAMP:20260425T195258
CREATED:20240523T020824Z
LAST-MODIFIED:20240523T020824Z
UID:10000156-1723289400-1723293000@westberkeleyfencing.com
SUMMARY:3-Weapon Drill
DESCRIPTION:Footwork followed by partner drills in all weapons. Open to WBFC members ages 13+ with prior fencing experience & equipment.
URL:https://westberkeleyfencing.com/event/3-weapon-drill-class/2024-08-10
LOCATION:West Berkeley Fencing Club\, 1111 Addison Street\, Berkeley\, CA\, 94706\, United States
CATEGORIES:Adult Classes
GEO:37.8684577;-122.2913141
X-APPLE-STRUCTURED-LOCATION;VALUE=URI;X-ADDRESS=West Berkeley Fencing Club 1111 Addison Street Berkeley CA 94706 United States;X-APPLE-RADIUS=500;X-TITLE=1111 Addison Street:geo:-122.2913141,37.8684577
END:VEVENT
BEGIN:VEVENT
DTSTART;TZID=America/Los_Angeles:20240813T160000
DTEND;TZID=America/Los_Angeles:20240813T170000
DTSTAMP:20260425T195258
CREATED:20240516T022147Z
LAST-MODIFIED:20240516T022147Z
UID:10000018-1723564800-1723568400@westberkeleyfencing.com
SUMMARY:Summer Youth I/II
DESCRIPTION:Summer youth class for beginning-intermediate fencers ages 8-12.
URL:https://westberkeleyfencing.com/event/summer-youth-i-ii/2024-08-13
LOCATION:West Berkeley Fencing Club\, 1111 Addison Street\, Berkeley\, CA\, 94706\, United States
CATEGORIES:Youth Classes
GEO:37.8684577;-122.2913141
X-APPLE-STRUCTURED-LOCATION;VALUE=URI;X-ADDRESS=West Berkeley Fencing Club 1111 Addison Street Berkeley CA 94706 United States;X-APPLE-RADIUS=500;X-TITLE=1111 Addison Street:geo:-122.2913141,37.8684577
END:VEVENT
BEGIN:VEVENT
DTSTART;TZID=America/Los_Angeles:20240813T183000
DTEND;TZID=America/Los_Angeles:20240813T193000
DTSTAMP:20260425T195258
CREATED:20240516T014148Z
LAST-MODIFIED:20240516T014148Z
UID:10000241-1723573800-1723577400@westberkeleyfencing.com
SUMMARY:Summer Team Bouting
DESCRIPTION:Summer schedule electric bouting & lesson time for our Youth & Junior Team members.\n24-25 Season schedule begins in September.
URL:https://westberkeleyfencing.com/event/summer-team-bouting/2024-08-13
LOCATION:West Berkeley Fencing Club\, 1111 Addison Street\, Berkeley\, CA\, 94706\, United States
CATEGORIES:Jr. Team
GEO:37.8684577;-122.2913141
X-APPLE-STRUCTURED-LOCATION;VALUE=URI;X-ADDRESS=West Berkeley Fencing Club 1111 Addison Street Berkeley CA 94706 United States;X-APPLE-RADIUS=500;X-TITLE=1111 Addison Street:geo:-122.2913141,37.8684577
END:VEVENT
BEGIN:VEVENT
DTSTART;TZID=America/Los_Angeles:20240813T193000
DTEND;TZID=America/Los_Angeles:20240813T203000
DTSTAMP:20260425T195258
CREATED:20170726T205846Z
LAST-MODIFIED:20240516T011104Z
UID:10000107-1723577400-1723581000@westberkeleyfencing.com
SUMMARY:3-Weapon Drill
DESCRIPTION:Footwork followed by partner drills in all weapons. Open to WBFC members ages 13+ with prior fencing experience & equipment.
URL:https://westberkeleyfencing.com/event/3-weapon-drill-class/2024-08-13
LOCATION:West Berkeley Fencing Club\, 1111 Addison Street\, Berkeley\, CA\, 94706\, United States
CATEGORIES:Adult Classes
GEO:37.8684577;-122.2913141
X-APPLE-STRUCTURED-LOCATION;VALUE=URI;X-ADDRESS=West Berkeley Fencing Club 1111 Addison Street Berkeley CA 94706 United States;X-APPLE-RADIUS=500;X-TITLE=1111 Addison Street:geo:-122.2913141,37.8684577
END:VEVENT
BEGIN:VEVENT
DTSTART;TZID=America/Los_Angeles:20240814T160000
DTEND;TZID=America/Los_Angeles:20240814T170000
DTSTAMP:20260425T195258
CREATED:20240516T022147Z
LAST-MODIFIED:20240516T022147Z
UID:10000019-1723651200-1723654800@westberkeleyfencing.com
SUMMARY:Summer Youth I/II
DESCRIPTION:Summer youth class for beginning-intermediate fencers ages 8-12.
URL:https://westberkeleyfencing.com/event/summer-youth-i-ii/2024-08-14
LOCATION:West Berkeley Fencing Club\, 1111 Addison Street\, Berkeley\, CA\, 94706\, United States
CATEGORIES:Youth Classes
GEO:37.8684577;-122.2913141
X-APPLE-STRUCTURED-LOCATION;VALUE=URI;X-ADDRESS=West Berkeley Fencing Club 1111 Addison Street Berkeley CA 94706 United States;X-APPLE-RADIUS=500;X-TITLE=1111 Addison Street:geo:-122.2913141,37.8684577
END:VEVENT
BEGIN:VEVENT
DTSTART;TZID=America/Los_Angeles:20240814T180000
DTEND;TZID=America/Los_Angeles:20240814T203000
DTSTAMP:20260425T195258
CREATED:20240523T020831Z
LAST-MODIFIED:20240523T020831Z
UID:10000248-1723658400-1723667400@westberkeleyfencing.com
SUMMARY:Summer Team Bouting
DESCRIPTION:Summer schedule electric bouting & lesson time for our Youth & Junior Team members.\n24-25 Season schedule begins in September.
URL:https://westberkeleyfencing.com/event/summer-team-bouting/2024-08-14
LOCATION:West Berkeley Fencing Club\, 1111 Addison Street\, Berkeley\, CA\, 94706\, United States
CATEGORIES:Jr. Team
GEO:37.8684577;-122.2913141
X-APPLE-STRUCTURED-LOCATION;VALUE=URI;X-ADDRESS=West Berkeley Fencing Club 1111 Addison Street Berkeley CA 94706 United States;X-APPLE-RADIUS=500;X-TITLE=1111 Addison Street:geo:-122.2913141,37.8684577
END:VEVENT
BEGIN:VEVENT
DTSTART;TZID=America/Los_Angeles:20240815T160000
DTEND;TZID=America/Los_Angeles:20240815T170000
DTSTAMP:20260425T195258
CREATED:20240516T022147Z
LAST-MODIFIED:20240516T022147Z
UID:10000020-1723737600-1723741200@westberkeleyfencing.com
SUMMARY:Summer Youth I/II
DESCRIPTION:Summer youth class for beginning-intermediate fencers ages 8-12.
URL:https://westberkeleyfencing.com/event/summer-youth-i-ii/2024-08-15
LOCATION:West Berkeley Fencing Club\, 1111 Addison Street\, Berkeley\, CA\, 94706\, United States
CATEGORIES:Youth Classes
GEO:37.8684577;-122.2913141
X-APPLE-STRUCTURED-LOCATION;VALUE=URI;X-ADDRESS=West Berkeley Fencing Club 1111 Addison Street Berkeley CA 94706 United States;X-APPLE-RADIUS=500;X-TITLE=1111 Addison Street:geo:-122.2913141,37.8684577
END:VEVENT
BEGIN:VEVENT
DTSTART;TZID=America/Los_Angeles:20240815T170000
DTEND;TZID=America/Los_Angeles:20240815T193000
DTSTAMP:20260425T195258
CREATED:20240523T020832Z
LAST-MODIFIED:20240523T020832Z
UID:10000255-1723741200-1723750200@westberkeleyfencing.com
SUMMARY:Summer Team Bouting
DESCRIPTION:Summer schedule electric bouting & lesson time for our Youth & Junior Team members.\n24-25 Season schedule begins in September.
URL:https://westberkeleyfencing.com/event/summer-team-bouting/2024-08-15
LOCATION:West Berkeley Fencing Club\, 1111 Addison Street\, Berkeley\, CA\, 94706\, United States
CATEGORIES:Jr. Team
GEO:37.8684577;-122.2913141
X-APPLE-STRUCTURED-LOCATION;VALUE=URI;X-ADDRESS=West Berkeley Fencing Club 1111 Addison Street Berkeley CA 94706 United States;X-APPLE-RADIUS=500;X-TITLE=1111 Addison Street:geo:-122.2913141,37.8684577
END:VEVENT
BEGIN:VEVENT
DTSTART;TZID=America/Los_Angeles:20240815T193000
DTEND;TZID=America/Los_Angeles:20240815T200000
DTSTAMP:20260425T195258
CREATED:20170902T090226Z
LAST-MODIFIED:20240516T011345Z
UID:10000659-1723750200-1723752000@westberkeleyfencing.com
SUMMARY:Footwork & Functional
DESCRIPTION:Group footwork and functional warm-up class for teen & adult members.\nOffered in-person and online over Zoom.
URL:https://westberkeleyfencing.com/event/3-weapon-drill-class-2/2024-08-15
LOCATION:West Berkeley Fencing Club\, 1111 Addison Street\, Berkeley\, CA\, 94706\, United States
CATEGORIES:Adult Classes
GEO:37.8684577;-122.2913141
X-APPLE-STRUCTURED-LOCATION;VALUE=URI;X-ADDRESS=West Berkeley Fencing Club 1111 Addison Street Berkeley CA 94706 United States;X-APPLE-RADIUS=500;X-TITLE=1111 Addison Street:geo:-122.2913141,37.8684577
END:VEVENT
BEGIN:VEVENT
DTSTART;TZID=America/Los_Angeles:20240815T200000
DTEND;TZID=America/Los_Angeles:20240815T213000
DTSTAMP:20260425T195258
CREATED:20240523T020907Z
LAST-MODIFIED:20240523T020907Z
UID:10001052-1723752000-1723757400@westberkeleyfencing.com
SUMMARY:Open Bouting
DESCRIPTION:Open floor time for electric bouting.\nFor ages 12+ with equipment and prior fencing experience.
URL:https://westberkeleyfencing.com/event/open-bouting/2024-08-15
LOCATION:West Berkeley Fencing Club\, 1111 Addison Street\, Berkeley\, CA\, 94706\, United States
CATEGORIES:Open Fencing
GEO:37.8684577;-122.2913141
X-APPLE-STRUCTURED-LOCATION;VALUE=URI;X-ADDRESS=West Berkeley Fencing Club 1111 Addison Street Berkeley CA 94706 United States;X-APPLE-RADIUS=500;X-TITLE=1111 Addison Street:geo:-122.2913141,37.8684577
END:VEVENT
BEGIN:VEVENT
DTSTART;TZID=America/Los_Angeles:20240817T091500
DTEND;TZID=America/Los_Angeles:20240817T100000
DTSTAMP:20260425T195258
CREATED:20170926T234615Z
LAST-MODIFIED:20240228T234659Z
UID:10000440-1723886100-1723888800@westberkeleyfencing.com
SUMMARY:Youth Swordplay
DESCRIPTION:A beginning level class tailored to athletes ages 5-7.\nClass size is limited. Pre-registration required.
URL:https://westberkeleyfencing.com/event/youth-swordplay/2024-08-17
LOCATION:West Berkeley Fencing Club\, 1111 Addison Street\, Berkeley\, CA\, 94706\, United States
CATEGORIES:Youth Classes
GEO:37.8684577;-122.2913141
X-APPLE-STRUCTURED-LOCATION;VALUE=URI;X-ADDRESS=West Berkeley Fencing Club 1111 Addison Street Berkeley CA 94706 United States;X-APPLE-RADIUS=500;X-TITLE=1111 Addison Street:geo:-122.2913141,37.8684577
END:VEVENT
BEGIN:VEVENT
DTSTART;TZID=America/Los_Angeles:20240817T101500
DTEND;TZID=America/Los_Angeles:20240817T111500
DTSTAMP:20260425T195258
CREATED:20240523T020909Z
LAST-MODIFIED:20251121T054204Z
UID:10001179-1723889700-1723893300@westberkeleyfencing.com
SUMMARY:Youth I
DESCRIPTION:For first-time fencers & those reinforcing the basics.\nDesigned for ages 8-12. Pre-registration required.
URL:https://westberkeleyfencing.com/event/youth-i-4/2024-08-17
LOCATION:West Berkeley Fencing Club\, 1111 Addison Street\, Berkeley\, CA\, 94706\, United States
CATEGORIES:Youth Classes
GEO:37.8684577;-122.2913141
X-APPLE-STRUCTURED-LOCATION;VALUE=URI;X-ADDRESS=West Berkeley Fencing Club 1111 Addison Street Berkeley CA 94706 United States;X-APPLE-RADIUS=500;X-TITLE=1111 Addison Street:geo:-122.2913141,37.8684577
END:VEVENT
BEGIN:VEVENT
DTSTART;TZID=America/Los_Angeles:20240817T113000
DTEND;TZID=America/Los_Angeles:20240817T123000
DTSTAMP:20260425T195258
CREATED:20240523T020824Z
LAST-MODIFIED:20240523T020824Z
UID:10000157-1723894200-1723897800@westberkeleyfencing.com
SUMMARY:3-Weapon Drill
DESCRIPTION:Footwork followed by partner drills in all weapons. Open to WBFC members ages 13+ with prior fencing experience & equipment.
URL:https://westberkeleyfencing.com/event/3-weapon-drill-class/2024-08-17
LOCATION:West Berkeley Fencing Club\, 1111 Addison Street\, Berkeley\, CA\, 94706\, United States
CATEGORIES:Adult Classes
GEO:37.8684577;-122.2913141
X-APPLE-STRUCTURED-LOCATION;VALUE=URI;X-ADDRESS=West Berkeley Fencing Club 1111 Addison Street Berkeley CA 94706 United States;X-APPLE-RADIUS=500;X-TITLE=1111 Addison Street:geo:-122.2913141,37.8684577
END:VEVENT
BEGIN:VEVENT
DTSTART;TZID=America/Los_Angeles:20240820T160000
DTEND;TZID=America/Los_Angeles:20240820T170000
DTSTAMP:20260425T195258
CREATED:20240516T022147Z
LAST-MODIFIED:20240516T022147Z
UID:10000021-1724169600-1724173200@westberkeleyfencing.com
SUMMARY:Summer Youth I/II
DESCRIPTION:Summer youth class for beginning-intermediate fencers ages 8-12.
URL:https://westberkeleyfencing.com/event/summer-youth-i-ii/2024-08-20
LOCATION:West Berkeley Fencing Club\, 1111 Addison Street\, Berkeley\, CA\, 94706\, United States
CATEGORIES:Youth Classes
GEO:37.8684577;-122.2913141
X-APPLE-STRUCTURED-LOCATION;VALUE=URI;X-ADDRESS=West Berkeley Fencing Club 1111 Addison Street Berkeley CA 94706 United States;X-APPLE-RADIUS=500;X-TITLE=1111 Addison Street:geo:-122.2913141,37.8684577
END:VEVENT
BEGIN:VEVENT
DTSTART;TZID=America/Los_Angeles:20240820T183000
DTEND;TZID=America/Los_Angeles:20240820T193000
DTSTAMP:20260425T195258
CREATED:20240516T014148Z
LAST-MODIFIED:20240516T014148Z
UID:10000242-1724178600-1724182200@westberkeleyfencing.com
SUMMARY:Summer Team Bouting
DESCRIPTION:Summer schedule electric bouting & lesson time for our Youth & Junior Team members.\n24-25 Season schedule begins in September.
URL:https://westberkeleyfencing.com/event/summer-team-bouting/2024-08-20
LOCATION:West Berkeley Fencing Club\, 1111 Addison Street\, Berkeley\, CA\, 94706\, United States
CATEGORIES:Jr. Team
GEO:37.8684577;-122.2913141
X-APPLE-STRUCTURED-LOCATION;VALUE=URI;X-ADDRESS=West Berkeley Fencing Club 1111 Addison Street Berkeley CA 94706 United States;X-APPLE-RADIUS=500;X-TITLE=1111 Addison Street:geo:-122.2913141,37.8684577
END:VEVENT
BEGIN:VEVENT
DTSTART;TZID=America/Los_Angeles:20240820T193000
DTEND;TZID=America/Los_Angeles:20240820T203000
DTSTAMP:20260425T195258
CREATED:20170726T205846Z
LAST-MODIFIED:20240516T011104Z
UID:10000108-1724182200-1724185800@westberkeleyfencing.com
SUMMARY:3-Weapon Drill
DESCRIPTION:Footwork followed by partner drills in all weapons. Open to WBFC members ages 13+ with prior fencing experience & equipment.
URL:https://westberkeleyfencing.com/event/3-weapon-drill-class/2024-08-20
LOCATION:West Berkeley Fencing Club\, 1111 Addison Street\, Berkeley\, CA\, 94706\, United States
CATEGORIES:Adult Classes
GEO:37.8684577;-122.2913141
X-APPLE-STRUCTURED-LOCATION;VALUE=URI;X-ADDRESS=West Berkeley Fencing Club 1111 Addison Street Berkeley CA 94706 United States;X-APPLE-RADIUS=500;X-TITLE=1111 Addison Street:geo:-122.2913141,37.8684577
END:VEVENT
BEGIN:VEVENT
DTSTART;TZID=America/Los_Angeles:20240821T160000
DTEND;TZID=America/Los_Angeles:20240821T170000
DTSTAMP:20260425T195258
CREATED:20240516T022147Z
LAST-MODIFIED:20240516T022147Z
UID:10000022-1724256000-1724259600@westberkeleyfencing.com
SUMMARY:Summer Youth I/II
DESCRIPTION:Summer youth class for beginning-intermediate fencers ages 8-12.
URL:https://westberkeleyfencing.com/event/summer-youth-i-ii/2024-08-21
LOCATION:West Berkeley Fencing Club\, 1111 Addison Street\, Berkeley\, CA\, 94706\, United States
CATEGORIES:Youth Classes
GEO:37.8684577;-122.2913141
X-APPLE-STRUCTURED-LOCATION;VALUE=URI;X-ADDRESS=West Berkeley Fencing Club 1111 Addison Street Berkeley CA 94706 United States;X-APPLE-RADIUS=500;X-TITLE=1111 Addison Street:geo:-122.2913141,37.8684577
END:VEVENT
BEGIN:VEVENT
DTSTART;TZID=America/Los_Angeles:20240821T180000
DTEND;TZID=America/Los_Angeles:20240821T203000
DTSTAMP:20260425T195258
CREATED:20240523T020831Z
LAST-MODIFIED:20240523T020831Z
UID:10000249-1724263200-1724272200@westberkeleyfencing.com
SUMMARY:Summer Team Bouting
DESCRIPTION:Summer schedule electric bouting & lesson time for our Youth & Junior Team members.\n24-25 Season schedule begins in September.
URL:https://westberkeleyfencing.com/event/summer-team-bouting/2024-08-21
LOCATION:West Berkeley Fencing Club\, 1111 Addison Street\, Berkeley\, CA\, 94706\, United States
CATEGORIES:Jr. Team
GEO:37.8684577;-122.2913141
X-APPLE-STRUCTURED-LOCATION;VALUE=URI;X-ADDRESS=West Berkeley Fencing Club 1111 Addison Street Berkeley CA 94706 United States;X-APPLE-RADIUS=500;X-TITLE=1111 Addison Street:geo:-122.2913141,37.8684577
END:VEVENT
BEGIN:VEVENT
DTSTART;TZID=America/Los_Angeles:20240822T160000
DTEND;TZID=America/Los_Angeles:20240822T170000
DTSTAMP:20260425T195258
CREATED:20240516T022147Z
LAST-MODIFIED:20240516T022147Z
UID:10000023-1724342400-1724346000@westberkeleyfencing.com
SUMMARY:Summer Youth I/II
DESCRIPTION:Summer youth class for beginning-intermediate fencers ages 8-12.
URL:https://westberkeleyfencing.com/event/summer-youth-i-ii/2024-08-22
LOCATION:West Berkeley Fencing Club\, 1111 Addison Street\, Berkeley\, CA\, 94706\, United States
CATEGORIES:Youth Classes
GEO:37.8684577;-122.2913141
X-APPLE-STRUCTURED-LOCATION;VALUE=URI;X-ADDRESS=West Berkeley Fencing Club 1111 Addison Street Berkeley CA 94706 United States;X-APPLE-RADIUS=500;X-TITLE=1111 Addison Street:geo:-122.2913141,37.8684577
END:VEVENT
BEGIN:VEVENT
DTSTART;TZID=America/Los_Angeles:20240822T170000
DTEND;TZID=America/Los_Angeles:20240822T193000
DTSTAMP:20260425T195258
CREATED:20240523T020832Z
LAST-MODIFIED:20240523T020832Z
UID:10000256-1724346000-1724355000@westberkeleyfencing.com
SUMMARY:Summer Team Bouting
DESCRIPTION:Summer schedule electric bouting & lesson time for our Youth & Junior Team members.\n24-25 Season schedule begins in September.
URL:https://westberkeleyfencing.com/event/summer-team-bouting/2024-08-22
LOCATION:West Berkeley Fencing Club\, 1111 Addison Street\, Berkeley\, CA\, 94706\, United States
CATEGORIES:Jr. Team
GEO:37.8684577;-122.2913141
X-APPLE-STRUCTURED-LOCATION;VALUE=URI;X-ADDRESS=West Berkeley Fencing Club 1111 Addison Street Berkeley CA 94706 United States;X-APPLE-RADIUS=500;X-TITLE=1111 Addison Street:geo:-122.2913141,37.8684577
END:VEVENT
BEGIN:VEVENT
DTSTART;TZID=America/Los_Angeles:20240822T193000
DTEND;TZID=America/Los_Angeles:20240822T200000
DTSTAMP:20260425T195258
CREATED:20170902T090226Z
LAST-MODIFIED:20240516T011345Z
UID:10000660-1724355000-1724356800@westberkeleyfencing.com
SUMMARY:Footwork & Functional
DESCRIPTION:Group footwork and functional warm-up class for teen & adult members.\nOffered in-person and online over Zoom.
URL:https://westberkeleyfencing.com/event/3-weapon-drill-class-2/2024-08-22
LOCATION:West Berkeley Fencing Club\, 1111 Addison Street\, Berkeley\, CA\, 94706\, United States
CATEGORIES:Adult Classes
GEO:37.8684577;-122.2913141
X-APPLE-STRUCTURED-LOCATION;VALUE=URI;X-ADDRESS=West Berkeley Fencing Club 1111 Addison Street Berkeley CA 94706 United States;X-APPLE-RADIUS=500;X-TITLE=1111 Addison Street:geo:-122.2913141,37.8684577
END:VEVENT
BEGIN:VEVENT
DTSTART;TZID=America/Los_Angeles:20240822T200000
DTEND;TZID=America/Los_Angeles:20240822T213000
DTSTAMP:20260425T195258
CREATED:20240523T020907Z
LAST-MODIFIED:20240523T020907Z
UID:10001053-1724356800-1724362200@westberkeleyfencing.com
SUMMARY:Open Bouting
DESCRIPTION:Open floor time for electric bouting.\nFor ages 12+ with equipment and prior fencing experience.
URL:https://westberkeleyfencing.com/event/open-bouting/2024-08-22
LOCATION:West Berkeley Fencing Club\, 1111 Addison Street\, Berkeley\, CA\, 94706\, United States
CATEGORIES:Open Fencing
GEO:37.8684577;-122.2913141
X-APPLE-STRUCTURED-LOCATION;VALUE=URI;X-ADDRESS=West Berkeley Fencing Club 1111 Addison Street Berkeley CA 94706 United States;X-APPLE-RADIUS=500;X-TITLE=1111 Addison Street:geo:-122.2913141,37.8684577
END:VEVENT
END:VCALENDAR