BEGIN:VCALENDAR
VERSION:2.0
PRODID:-//West Berkeley Fencing Club - ECPv6.15.18//NONSGML v1.0//EN
CALSCALE:GREGORIAN
METHOD:PUBLISH
X-ORIGINAL-URL:https://westberkeleyfencing.com
X-WR-CALDESC:Events for West Berkeley Fencing Club
REFRESH-INTERVAL;VALUE=DURATION:PT1H
X-Robots-Tag:noindex
X-PUBLISHED-TTL:PT1H
BEGIN:VTIMEZONE
TZID:America/Los_Angeles
BEGIN:DAYLIGHT
TZOFFSETFROM:-0800
TZOFFSETTO:-0700
TZNAME:PDT
DTSTART:20260308T100000
END:DAYLIGHT
BEGIN:STANDARD
TZOFFSETFROM:-0700
TZOFFSETTO:-0800
TZNAME:PST
DTSTART:20261101T090000
END:STANDARD
BEGIN:DAYLIGHT
TZOFFSETFROM:-0800
TZOFFSETTO:-0700
TZNAME:PDT
DTSTART:20270314T100000
END:DAYLIGHT
BEGIN:STANDARD
TZOFFSETFROM:-0700
TZOFFSETTO:-0800
TZNAME:PST
DTSTART:20271107T090000
END:STANDARD
BEGIN:DAYLIGHT
TZOFFSETFROM:-0800
TZOFFSETTO:-0700
TZNAME:PDT
DTSTART:20280312T100000
END:DAYLIGHT
BEGIN:STANDARD
TZOFFSETFROM:-0700
TZOFFSETTO:-0800
TZNAME:PST
DTSTART:20281105T090000
END:STANDARD
END:VTIMEZONE
BEGIN:VEVENT
DTSTART;TZID=America/Los_Angeles:20270809T160000
DTEND;TZID=America/Los_Angeles:20270809T170000
DTSTAMP:20260425T155253
CREATED:20250823T071831Z
LAST-MODIFIED:20260118T195831Z
UID:10006442-1817827200-1817830800@westberkeleyfencing.com
SUMMARY:Youth II
DESCRIPTION:Intermediate-level instruction for our continuing Youth Members ages 8-13.\nAthletes need their own standard equipment for participation.
URL:https://westberkeleyfencing.com/event/youth-i-ii-2-2/2027-08-09
LOCATION:West Berkeley Fencing Club\, 1111 Addison Street\, Berkeley\, CA\, 94706\, United States
CATEGORIES:Youth Classes
GEO:37.8684577;-122.2913141
X-APPLE-STRUCTURED-LOCATION;VALUE=URI;X-ADDRESS=West Berkeley Fencing Club 1111 Addison Street Berkeley CA 94706 United States;X-APPLE-RADIUS=500;X-TITLE=1111 Addison Street:geo:-122.2913141,37.8684577
END:VEVENT
BEGIN:VEVENT
DTSTART;TZID=America/Los_Angeles:20270810T160000
DTEND;TZID=America/Los_Angeles:20270810T170000
DTSTAMP:20260425T155253
CREATED:20250823T081151Z
LAST-MODIFIED:20260326T004833Z
UID:10006963-1817913600-1817917200@westberkeleyfencing.com
SUMMARY:Youth I
DESCRIPTION:For first-time fencers & those reinforcing the basics.\nClass option for Youth Members ages 8-12. Pre-registration required.
URL:https://westberkeleyfencing.com/event/youth-i-3-2/2027-08-10
LOCATION:West Berkeley Fencing Club\, 1111 Addison Street\, Berkeley\, CA\, 94706\, United States
CATEGORIES:Youth Classes
GEO:37.8684577;-122.2913141
X-APPLE-STRUCTURED-LOCATION;VALUE=URI;X-ADDRESS=West Berkeley Fencing Club 1111 Addison Street Berkeley CA 94706 United States;X-APPLE-RADIUS=500;X-TITLE=1111 Addison Street:geo:-122.2913141,37.8684577
END:VEVENT
BEGIN:VEVENT
DTSTART;TZID=America/Los_Angeles:20270810T183000
DTEND;TZID=America/Los_Angeles:20270810T193000
DTSTAMP:20260425T155253
CREATED:20250518T165848Z
LAST-MODIFIED:20251121T054024Z
UID:10004040-1817922600-1817926200@westberkeleyfencing.com
SUMMARY:Team Bouting
DESCRIPTION:Electric bouting & lesson time for Youth Team & Junior+ Team Members.
URL:https://westberkeleyfencing.com/event/team-bouting-2-2-2/2027-08-10
LOCATION:West Berkeley Fencing Club\, 1111 Addison Street\, Berkeley\, CA\, 94706\, United States
CATEGORIES:Jr. Team
GEO:37.8684577;-122.2913141
X-APPLE-STRUCTURED-LOCATION;VALUE=URI;X-ADDRESS=West Berkeley Fencing Club 1111 Addison Street Berkeley CA 94706 United States;X-APPLE-RADIUS=500;X-TITLE=1111 Addison Street:geo:-122.2913141,37.8684577
END:VEVENT
BEGIN:VEVENT
DTSTART;TZID=America/Los_Angeles:20270810T193000
DTEND;TZID=America/Los_Angeles:20270810T203000
DTSTAMP:20260425T155253
CREATED:20250518T170448Z
LAST-MODIFIED:20251121T054543Z
UID:10004435-1817926200-1817929800@westberkeleyfencing.com
SUMMARY:Drill Class
DESCRIPTION:Footwork followed by partner drills. Open to our General & Team Members ages 13+ with prior fencing experience.
URL:https://westberkeleyfencing.com/event/3-weapon-drill-class-4-2/2027-08-10
LOCATION:West Berkeley Fencing Club\, 1111 Addison Street\, Berkeley\, CA\, 94706\, United States
CATEGORIES:Adult Classes
GEO:37.8684577;-122.2913141
X-APPLE-STRUCTURED-LOCATION;VALUE=URI;X-ADDRESS=West Berkeley Fencing Club 1111 Addison Street Berkeley CA 94706 United States;X-APPLE-RADIUS=500;X-TITLE=1111 Addison Street:geo:-122.2913141,37.8684577
END:VEVENT
BEGIN:VEVENT
DTSTART;TZID=America/Los_Angeles:20270810T203000
DTEND;TZID=America/Los_Angeles:20270810T220000
DTSTAMP:20260425T155253
CREATED:20240902T024222Z
LAST-MODIFIED:20251121T052336Z
UID:10003183-1817929800-1817935200@westberkeleyfencing.com
SUMMARY:Open Bouting
DESCRIPTION:Open floor time for electric bouting.\nFor ages 12+ with their own equipment and prior fencing experience.\nNon-Members: $25
URL:https://westberkeleyfencing.com/event/open-bouting-2/2027-08-10
LOCATION:West Berkeley Fencing Club\, 1111 Addison Street\, Berkeley\, CA\, 94706\, United States
CATEGORIES:Open Fencing
GEO:37.8684577;-122.2913141
X-APPLE-STRUCTURED-LOCATION;VALUE=URI;X-ADDRESS=West Berkeley Fencing Club 1111 Addison Street Berkeley CA 94706 United States;X-APPLE-RADIUS=500;X-TITLE=1111 Addison Street:geo:-122.2913141,37.8684577
END:VEVENT
BEGIN:VEVENT
DTSTART;TZID=America/Los_Angeles:20270811T160000
DTEND;TZID=America/Los_Angeles:20270811T170000
DTSTAMP:20260425T155253
CREATED:20250823T071831Z
LAST-MODIFIED:20260118T195831Z
UID:10006443-1818000000-1818003600@westberkeleyfencing.com
SUMMARY:Youth II
DESCRIPTION:Intermediate-level instruction for our continuing Youth Members ages 8-13.\nAthletes need their own standard equipment for participation.
URL:https://westberkeleyfencing.com/event/youth-i-ii-2-2/2027-08-11
LOCATION:West Berkeley Fencing Club\, 1111 Addison Street\, Berkeley\, CA\, 94706\, United States
CATEGORIES:Youth Classes
GEO:37.8684577;-122.2913141
X-APPLE-STRUCTURED-LOCATION;VALUE=URI;X-ADDRESS=West Berkeley Fencing Club 1111 Addison Street Berkeley CA 94706 United States;X-APPLE-RADIUS=500;X-TITLE=1111 Addison Street:geo:-122.2913141,37.8684577
END:VEVENT
BEGIN:VEVENT
DTSTART;TZID=America/Los_Angeles:20270812T160000
DTEND;TZID=America/Los_Angeles:20270812T170000
DTSTAMP:20260425T155253
CREATED:20250823T081151Z
LAST-MODIFIED:20260326T004833Z
UID:10006964-1818086400-1818090000@westberkeleyfencing.com
SUMMARY:Youth I
DESCRIPTION:For first-time fencers & those reinforcing the basics.\nClass option for Youth Members ages 8-12. Pre-registration required.
URL:https://westberkeleyfencing.com/event/youth-i-3-2/2027-08-12
LOCATION:West Berkeley Fencing Club\, 1111 Addison Street\, Berkeley\, CA\, 94706\, United States
CATEGORIES:Youth Classes
GEO:37.8684577;-122.2913141
X-APPLE-STRUCTURED-LOCATION;VALUE=URI;X-ADDRESS=West Berkeley Fencing Club 1111 Addison Street Berkeley CA 94706 United States;X-APPLE-RADIUS=500;X-TITLE=1111 Addison Street:geo:-122.2913141,37.8684577
END:VEVENT
BEGIN:VEVENT
DTSTART;TZID=America/Los_Angeles:20270812T171500
DTEND;TZID=America/Los_Angeles:20270812T183000
DTSTAMP:20260425T155253
CREATED:20230810T002951Z
LAST-MODIFIED:20251121T053520Z
UID:10006079-1818090900-1818095400@westberkeleyfencing.com
SUMMARY:Conditioning & Agility
DESCRIPTION:Conditioning and footwork drills for Team members
URL:https://westberkeleyfencing.com/event/conditioning-agility/2027-08-12
LOCATION:West Berkeley Fencing Club\, 1111 Addison Street\, Berkeley\, CA\, 94706\, United States
CATEGORIES:Jr. Team
GEO:37.8684577;-122.2913141
X-APPLE-STRUCTURED-LOCATION;VALUE=URI;X-ADDRESS=West Berkeley Fencing Club 1111 Addison Street Berkeley CA 94706 United States;X-APPLE-RADIUS=500;X-TITLE=1111 Addison Street:geo:-122.2913141,37.8684577
END:VEVENT
BEGIN:VEVENT
DTSTART;TZID=America/Los_Angeles:20270812T183000
DTEND;TZID=America/Los_Angeles:20270812T193000
DTSTAMP:20260425T155253
CREATED:20250518T165848Z
LAST-MODIFIED:20251121T054024Z
UID:10005285-1818095400-1818099000@westberkeleyfencing.com
SUMMARY:Team Bouting
DESCRIPTION:Electric bouting & lesson time for Youth Team & Junior+ Team Members.
URL:https://westberkeleyfencing.com/event/team-bouting-2-2-2/2027-08-12
LOCATION:West Berkeley Fencing Club\, 1111 Addison Street\, Berkeley\, CA\, 94706\, United States
CATEGORIES:Jr. Team
GEO:37.8684577;-122.2913141
X-APPLE-STRUCTURED-LOCATION;VALUE=URI;X-ADDRESS=West Berkeley Fencing Club 1111 Addison Street Berkeley CA 94706 United States;X-APPLE-RADIUS=500;X-TITLE=1111 Addison Street:geo:-122.2913141,37.8684577
END:VEVENT
BEGIN:VEVENT
DTSTART;TZID=America/Los_Angeles:20270812T193000
DTEND;TZID=America/Los_Angeles:20270812T203000
DTSTAMP:20260425T155253
CREATED:20250518T170448Z
LAST-MODIFIED:20251121T054543Z
UID:10004436-1818099000-1818102600@westberkeleyfencing.com
SUMMARY:Drill Class
DESCRIPTION:Footwork followed by partner drills. Open to our General & Team Members ages 13+ with prior fencing experience.
URL:https://westberkeleyfencing.com/event/3-weapon-drill-class-4-2/2027-08-12
LOCATION:West Berkeley Fencing Club\, 1111 Addison Street\, Berkeley\, CA\, 94706\, United States
CATEGORIES:Adult Classes
GEO:37.8684577;-122.2913141
X-APPLE-STRUCTURED-LOCATION;VALUE=URI;X-ADDRESS=West Berkeley Fencing Club 1111 Addison Street Berkeley CA 94706 United States;X-APPLE-RADIUS=500;X-TITLE=1111 Addison Street:geo:-122.2913141,37.8684577
END:VEVENT
BEGIN:VEVENT
DTSTART;TZID=America/Los_Angeles:20270812T203000
DTEND;TZID=America/Los_Angeles:20270812T220000
DTSTAMP:20260425T155253
CREATED:20240902T024222Z
LAST-MODIFIED:20251121T052336Z
UID:10003184-1818102600-1818108000@westberkeleyfencing.com
SUMMARY:Open Bouting
DESCRIPTION:Open floor time for electric bouting.\nFor ages 12+ with their own equipment and prior fencing experience.\nNon-Members: $25
URL:https://westberkeleyfencing.com/event/open-bouting-2/2027-08-12
LOCATION:West Berkeley Fencing Club\, 1111 Addison Street\, Berkeley\, CA\, 94706\, United States
CATEGORIES:Open Fencing
GEO:37.8684577;-122.2913141
X-APPLE-STRUCTURED-LOCATION;VALUE=URI;X-ADDRESS=West Berkeley Fencing Club 1111 Addison Street Berkeley CA 94706 United States;X-APPLE-RADIUS=500;X-TITLE=1111 Addison Street:geo:-122.2913141,37.8684577
END:VEVENT
BEGIN:VEVENT
DTSTART;TZID=America/Los_Angeles:20270814T090000
DTEND;TZID=America/Los_Angeles:20270814T094500
DTSTAMP:20260425T155253
CREATED:20240902T024421Z
LAST-MODIFIED:20260326T002949Z
UID:10005823-1818234000-1818236700@westberkeleyfencing.com
SUMMARY:Youth Swordplay
DESCRIPTION:A beginning-level class tailored to our Youth Members ages 5-7.\nPre-registration required.
URL:https://westberkeleyfencing.com/event/youth-swordplay-2/2027-08-14
LOCATION:West Berkeley Fencing Club\, 1111 Addison Street\, Berkeley\, CA\, 94706\, United States
CATEGORIES:Youth Classes
GEO:37.8684577;-122.2913141
X-APPLE-STRUCTURED-LOCATION;VALUE=URI;X-ADDRESS=West Berkeley Fencing Club 1111 Addison Street Berkeley CA 94706 United States;X-APPLE-RADIUS=500;X-TITLE=1111 Addison Street:geo:-122.2913141,37.8684577
END:VEVENT
BEGIN:VEVENT
DTSTART;TZID=America/Los_Angeles:20270814T100000
DTEND;TZID=America/Los_Angeles:20270814T110000
DTSTAMP:20260425T155253
CREATED:20241227T212721Z
LAST-MODIFIED:20260326T003514Z
UID:10002007-1818237600-1818241200@westberkeleyfencing.com
SUMMARY:Youth I
DESCRIPTION:For first-time fencers & those reinforcing the basics.\nClass option for our Youth Members ages 8-12. Pre-registration required.
URL:https://westberkeleyfencing.com/event/youth-i-2-2/2027-08-14
LOCATION:West Berkeley Fencing Club\, 1111 Addison Street\, Berkeley\, CA\, 94706\, United States
CATEGORIES:Youth Classes
GEO:37.8684577;-122.2913141
X-APPLE-STRUCTURED-LOCATION;VALUE=URI;X-ADDRESS=West Berkeley Fencing Club 1111 Addison Street Berkeley CA 94706 United States;X-APPLE-RADIUS=500;X-TITLE=1111 Addison Street:geo:-122.2913141,37.8684577
END:VEVENT
BEGIN:VEVENT
DTSTART;TZID=America/Los_Angeles:20270814T110000
DTEND;TZID=America/Los_Angeles:20270814T120000
DTSTAMP:20260425T155253
CREATED:20240902T062026Z
LAST-MODIFIED:20260326T004410Z
UID:10002267-1818241200-1818244800@westberkeleyfencing.com
SUMMARY:Youth II
DESCRIPTION:Intermediate-level instruction for our continuing Youth Members ages 8-13.\nAthletes need their own standard equipment for participation.
URL:https://westberkeleyfencing.com/event/youth-i-ii-3/2027-08-14
LOCATION:West Berkeley Fencing Club\, 1111 Addison Street\, Berkeley\, CA\, 94706\, United States
CATEGORIES:Youth Classes
GEO:37.8684577;-122.2913141
X-APPLE-STRUCTURED-LOCATION;VALUE=URI;X-ADDRESS=West Berkeley Fencing Club 1111 Addison Street Berkeley CA 94706 United States;X-APPLE-RADIUS=500;X-TITLE=1111 Addison Street:geo:-122.2913141,37.8684577
END:VEVENT
BEGIN:VEVENT
DTSTART;TZID=America/Los_Angeles:20270814T120000
DTEND;TZID=America/Los_Angeles:20270814T130000
DTSTAMP:20260425T155253
CREATED:20250518T171406Z
LAST-MODIFIED:20251121T054429Z
UID:10002527-1818244800-1818248400@westberkeleyfencing.com
SUMMARY:Drill Class
DESCRIPTION:Footwork followed by partner drills. Open to our General & Team Members ages 13+ with prior fencing experience.
URL:https://westberkeleyfencing.com/event/3-weapon-drill-class-3-2/2027-08-14
LOCATION:West Berkeley Fencing Club\, 1111 Addison Street\, Berkeley\, CA\, 94706\, United States
CATEGORIES:Adult Classes
GEO:37.8684577;-122.2913141
X-APPLE-STRUCTURED-LOCATION;VALUE=URI;X-ADDRESS=West Berkeley Fencing Club 1111 Addison Street Berkeley CA 94706 United States;X-APPLE-RADIUS=500;X-TITLE=1111 Addison Street:geo:-122.2913141,37.8684577
END:VEVENT
BEGIN:VEVENT
DTSTART;TZID=America/Los_Angeles:20270814T130000
DTEND;TZID=America/Los_Angeles:20270814T150000
DTSTAMP:20260425T155253
CREATED:20240902T023030Z
LAST-MODIFIED:20260326T004647Z
UID:10002787-1818248400-1818255600@westberkeleyfencing.com
SUMMARY:Open Bouting
DESCRIPTION:Open floor time for electric bouting.\nFor ages 12+ with their own equipment and prior fencing experience.\nNon-Members: $25
URL:https://westberkeleyfencing.com/event/open-bouting-3/2027-08-14
LOCATION:West Berkeley Fencing Club\, 1111 Addison Street\, Berkeley\, CA\, 94706\, United States
CATEGORIES:Open Fencing
GEO:37.8684577;-122.2913141
X-APPLE-STRUCTURED-LOCATION;VALUE=URI;X-ADDRESS=West Berkeley Fencing Club 1111 Addison Street Berkeley CA 94706 United States;X-APPLE-RADIUS=500;X-TITLE=1111 Addison Street:geo:-122.2913141,37.8684577
END:VEVENT
BEGIN:VEVENT
DTSTART;TZID=America/Los_Angeles:20270816T160000
DTEND;TZID=America/Los_Angeles:20270816T170000
DTSTAMP:20260425T155253
CREATED:20250823T071831Z
LAST-MODIFIED:20260118T195831Z
UID:10006444-1818432000-1818435600@westberkeleyfencing.com
SUMMARY:Youth II
DESCRIPTION:Intermediate-level instruction for our continuing Youth Members ages 8-13.\nAthletes need their own standard equipment for participation.
URL:https://westberkeleyfencing.com/event/youth-i-ii-2-2/2027-08-16
LOCATION:West Berkeley Fencing Club\, 1111 Addison Street\, Berkeley\, CA\, 94706\, United States
CATEGORIES:Youth Classes
GEO:37.8684577;-122.2913141
X-APPLE-STRUCTURED-LOCATION;VALUE=URI;X-ADDRESS=West Berkeley Fencing Club 1111 Addison Street Berkeley CA 94706 United States;X-APPLE-RADIUS=500;X-TITLE=1111 Addison Street:geo:-122.2913141,37.8684577
END:VEVENT
BEGIN:VEVENT
DTSTART;TZID=America/Los_Angeles:20270817T160000
DTEND;TZID=America/Los_Angeles:20270817T170000
DTSTAMP:20260425T155253
CREATED:20250823T081151Z
LAST-MODIFIED:20260326T004833Z
UID:10006965-1818518400-1818522000@westberkeleyfencing.com
SUMMARY:Youth I
DESCRIPTION:For first-time fencers & those reinforcing the basics.\nClass option for Youth Members ages 8-12. Pre-registration required.
URL:https://westberkeleyfencing.com/event/youth-i-3-2/2027-08-17
LOCATION:West Berkeley Fencing Club\, 1111 Addison Street\, Berkeley\, CA\, 94706\, United States
CATEGORIES:Youth Classes
GEO:37.8684577;-122.2913141
X-APPLE-STRUCTURED-LOCATION;VALUE=URI;X-ADDRESS=West Berkeley Fencing Club 1111 Addison Street Berkeley CA 94706 United States;X-APPLE-RADIUS=500;X-TITLE=1111 Addison Street:geo:-122.2913141,37.8684577
END:VEVENT
BEGIN:VEVENT
DTSTART;TZID=America/Los_Angeles:20270817T183000
DTEND;TZID=America/Los_Angeles:20270817T193000
DTSTAMP:20260425T155253
CREATED:20250518T165848Z
LAST-MODIFIED:20251121T054024Z
UID:10004041-1818527400-1818531000@westberkeleyfencing.com
SUMMARY:Team Bouting
DESCRIPTION:Electric bouting & lesson time for Youth Team & Junior+ Team Members.
URL:https://westberkeleyfencing.com/event/team-bouting-2-2-2/2027-08-17
LOCATION:West Berkeley Fencing Club\, 1111 Addison Street\, Berkeley\, CA\, 94706\, United States
CATEGORIES:Jr. Team
GEO:37.8684577;-122.2913141
X-APPLE-STRUCTURED-LOCATION;VALUE=URI;X-ADDRESS=West Berkeley Fencing Club 1111 Addison Street Berkeley CA 94706 United States;X-APPLE-RADIUS=500;X-TITLE=1111 Addison Street:geo:-122.2913141,37.8684577
END:VEVENT
BEGIN:VEVENT
DTSTART;TZID=America/Los_Angeles:20270817T193000
DTEND;TZID=America/Los_Angeles:20270817T203000
DTSTAMP:20260425T155253
CREATED:20250518T170448Z
LAST-MODIFIED:20251121T054543Z
UID:10004437-1818531000-1818534600@westberkeleyfencing.com
SUMMARY:Drill Class
DESCRIPTION:Footwork followed by partner drills. Open to our General & Team Members ages 13+ with prior fencing experience.
URL:https://westberkeleyfencing.com/event/3-weapon-drill-class-4-2/2027-08-17
LOCATION:West Berkeley Fencing Club\, 1111 Addison Street\, Berkeley\, CA\, 94706\, United States
CATEGORIES:Adult Classes
GEO:37.8684577;-122.2913141
X-APPLE-STRUCTURED-LOCATION;VALUE=URI;X-ADDRESS=West Berkeley Fencing Club 1111 Addison Street Berkeley CA 94706 United States;X-APPLE-RADIUS=500;X-TITLE=1111 Addison Street:geo:-122.2913141,37.8684577
END:VEVENT
BEGIN:VEVENT
DTSTART;TZID=America/Los_Angeles:20270817T203000
DTEND;TZID=America/Los_Angeles:20270817T220000
DTSTAMP:20260425T155253
CREATED:20240902T024222Z
LAST-MODIFIED:20251121T052336Z
UID:10003185-1818534600-1818540000@westberkeleyfencing.com
SUMMARY:Open Bouting
DESCRIPTION:Open floor time for electric bouting.\nFor ages 12+ with their own equipment and prior fencing experience.\nNon-Members: $25
URL:https://westberkeleyfencing.com/event/open-bouting-2/2027-08-17
LOCATION:West Berkeley Fencing Club\, 1111 Addison Street\, Berkeley\, CA\, 94706\, United States
CATEGORIES:Open Fencing
GEO:37.8684577;-122.2913141
X-APPLE-STRUCTURED-LOCATION;VALUE=URI;X-ADDRESS=West Berkeley Fencing Club 1111 Addison Street Berkeley CA 94706 United States;X-APPLE-RADIUS=500;X-TITLE=1111 Addison Street:geo:-122.2913141,37.8684577
END:VEVENT
BEGIN:VEVENT
DTSTART;TZID=America/Los_Angeles:20270818T160000
DTEND;TZID=America/Los_Angeles:20270818T170000
DTSTAMP:20260425T155253
CREATED:20250823T071831Z
LAST-MODIFIED:20260118T195831Z
UID:10006445-1818604800-1818608400@westberkeleyfencing.com
SUMMARY:Youth II
DESCRIPTION:Intermediate-level instruction for our continuing Youth Members ages 8-13.\nAthletes need their own standard equipment for participation.
URL:https://westberkeleyfencing.com/event/youth-i-ii-2-2/2027-08-18
LOCATION:West Berkeley Fencing Club\, 1111 Addison Street\, Berkeley\, CA\, 94706\, United States
CATEGORIES:Youth Classes
GEO:37.8684577;-122.2913141
X-APPLE-STRUCTURED-LOCATION;VALUE=URI;X-ADDRESS=West Berkeley Fencing Club 1111 Addison Street Berkeley CA 94706 United States;X-APPLE-RADIUS=500;X-TITLE=1111 Addison Street:geo:-122.2913141,37.8684577
END:VEVENT
BEGIN:VEVENT
DTSTART;TZID=America/Los_Angeles:20270819T160000
DTEND;TZID=America/Los_Angeles:20270819T170000
DTSTAMP:20260425T155253
CREATED:20250823T081151Z
LAST-MODIFIED:20260326T004833Z
UID:10006966-1818691200-1818694800@westberkeleyfencing.com
SUMMARY:Youth I
DESCRIPTION:For first-time fencers & those reinforcing the basics.\nClass option for Youth Members ages 8-12. Pre-registration required.
URL:https://westberkeleyfencing.com/event/youth-i-3-2/2027-08-19
LOCATION:West Berkeley Fencing Club\, 1111 Addison Street\, Berkeley\, CA\, 94706\, United States
CATEGORIES:Youth Classes
GEO:37.8684577;-122.2913141
X-APPLE-STRUCTURED-LOCATION;VALUE=URI;X-ADDRESS=West Berkeley Fencing Club 1111 Addison Street Berkeley CA 94706 United States;X-APPLE-RADIUS=500;X-TITLE=1111 Addison Street:geo:-122.2913141,37.8684577
END:VEVENT
BEGIN:VEVENT
DTSTART;TZID=America/Los_Angeles:20270819T171500
DTEND;TZID=America/Los_Angeles:20270819T183000
DTSTAMP:20260425T155253
CREATED:20230810T002951Z
LAST-MODIFIED:20251121T053520Z
UID:10006080-1818695700-1818700200@westberkeleyfencing.com
SUMMARY:Conditioning & Agility
DESCRIPTION:Conditioning and footwork drills for Team members
URL:https://westberkeleyfencing.com/event/conditioning-agility/2027-08-19
LOCATION:West Berkeley Fencing Club\, 1111 Addison Street\, Berkeley\, CA\, 94706\, United States
CATEGORIES:Jr. Team
GEO:37.8684577;-122.2913141
X-APPLE-STRUCTURED-LOCATION;VALUE=URI;X-ADDRESS=West Berkeley Fencing Club 1111 Addison Street Berkeley CA 94706 United States;X-APPLE-RADIUS=500;X-TITLE=1111 Addison Street:geo:-122.2913141,37.8684577
END:VEVENT
BEGIN:VEVENT
DTSTART;TZID=America/Los_Angeles:20270819T183000
DTEND;TZID=America/Los_Angeles:20270819T193000
DTSTAMP:20260425T155253
CREATED:20250518T165848Z
LAST-MODIFIED:20251121T054024Z
UID:10005286-1818700200-1818703800@westberkeleyfencing.com
SUMMARY:Team Bouting
DESCRIPTION:Electric bouting & lesson time for Youth Team & Junior+ Team Members.
URL:https://westberkeleyfencing.com/event/team-bouting-2-2-2/2027-08-19
LOCATION:West Berkeley Fencing Club\, 1111 Addison Street\, Berkeley\, CA\, 94706\, United States
CATEGORIES:Jr. Team
GEO:37.8684577;-122.2913141
X-APPLE-STRUCTURED-LOCATION;VALUE=URI;X-ADDRESS=West Berkeley Fencing Club 1111 Addison Street Berkeley CA 94706 United States;X-APPLE-RADIUS=500;X-TITLE=1111 Addison Street:geo:-122.2913141,37.8684577
END:VEVENT
BEGIN:VEVENT
DTSTART;TZID=America/Los_Angeles:20270819T193000
DTEND;TZID=America/Los_Angeles:20270819T203000
DTSTAMP:20260425T155253
CREATED:20250518T170448Z
LAST-MODIFIED:20251121T054543Z
UID:10004438-1818703800-1818707400@westberkeleyfencing.com
SUMMARY:Drill Class
DESCRIPTION:Footwork followed by partner drills. Open to our General & Team Members ages 13+ with prior fencing experience.
URL:https://westberkeleyfencing.com/event/3-weapon-drill-class-4-2/2027-08-19
LOCATION:West Berkeley Fencing Club\, 1111 Addison Street\, Berkeley\, CA\, 94706\, United States
CATEGORIES:Adult Classes
GEO:37.8684577;-122.2913141
X-APPLE-STRUCTURED-LOCATION;VALUE=URI;X-ADDRESS=West Berkeley Fencing Club 1111 Addison Street Berkeley CA 94706 United States;X-APPLE-RADIUS=500;X-TITLE=1111 Addison Street:geo:-122.2913141,37.8684577
END:VEVENT
BEGIN:VEVENT
DTSTART;TZID=America/Los_Angeles:20270819T203000
DTEND;TZID=America/Los_Angeles:20270819T220000
DTSTAMP:20260425T155253
CREATED:20240902T024222Z
LAST-MODIFIED:20251121T052336Z
UID:10003186-1818707400-1818712800@westberkeleyfencing.com
SUMMARY:Open Bouting
DESCRIPTION:Open floor time for electric bouting.\nFor ages 12+ with their own equipment and prior fencing experience.\nNon-Members: $25
URL:https://westberkeleyfencing.com/event/open-bouting-2/2027-08-19
LOCATION:West Berkeley Fencing Club\, 1111 Addison Street\, Berkeley\, CA\, 94706\, United States
CATEGORIES:Open Fencing
GEO:37.8684577;-122.2913141
X-APPLE-STRUCTURED-LOCATION;VALUE=URI;X-ADDRESS=West Berkeley Fencing Club 1111 Addison Street Berkeley CA 94706 United States;X-APPLE-RADIUS=500;X-TITLE=1111 Addison Street:geo:-122.2913141,37.8684577
END:VEVENT
BEGIN:VEVENT
DTSTART;TZID=America/Los_Angeles:20270821T090000
DTEND;TZID=America/Los_Angeles:20270821T094500
DTSTAMP:20260425T155253
CREATED:20240902T024421Z
LAST-MODIFIED:20260326T002949Z
UID:10005824-1818838800-1818841500@westberkeleyfencing.com
SUMMARY:Youth Swordplay
DESCRIPTION:A beginning-level class tailored to our Youth Members ages 5-7.\nPre-registration required.
URL:https://westberkeleyfencing.com/event/youth-swordplay-2/2027-08-21
LOCATION:West Berkeley Fencing Club\, 1111 Addison Street\, Berkeley\, CA\, 94706\, United States
CATEGORIES:Youth Classes
GEO:37.8684577;-122.2913141
X-APPLE-STRUCTURED-LOCATION;VALUE=URI;X-ADDRESS=West Berkeley Fencing Club 1111 Addison Street Berkeley CA 94706 United States;X-APPLE-RADIUS=500;X-TITLE=1111 Addison Street:geo:-122.2913141,37.8684577
END:VEVENT
BEGIN:VEVENT
DTSTART;TZID=America/Los_Angeles:20270821T100000
DTEND;TZID=America/Los_Angeles:20270821T110000
DTSTAMP:20260425T155253
CREATED:20241227T212721Z
LAST-MODIFIED:20260326T003514Z
UID:10002008-1818842400-1818846000@westberkeleyfencing.com
SUMMARY:Youth I
DESCRIPTION:For first-time fencers & those reinforcing the basics.\nClass option for our Youth Members ages 8-12. Pre-registration required.
URL:https://westberkeleyfencing.com/event/youth-i-2-2/2027-08-21
LOCATION:West Berkeley Fencing Club\, 1111 Addison Street\, Berkeley\, CA\, 94706\, United States
CATEGORIES:Youth Classes
GEO:37.8684577;-122.2913141
X-APPLE-STRUCTURED-LOCATION;VALUE=URI;X-ADDRESS=West Berkeley Fencing Club 1111 Addison Street Berkeley CA 94706 United States;X-APPLE-RADIUS=500;X-TITLE=1111 Addison Street:geo:-122.2913141,37.8684577
END:VEVENT
BEGIN:VEVENT
DTSTART;TZID=America/Los_Angeles:20270821T110000
DTEND;TZID=America/Los_Angeles:20270821T120000
DTSTAMP:20260425T155253
CREATED:20240902T062026Z
LAST-MODIFIED:20260326T004410Z
UID:10002268-1818846000-1818849600@westberkeleyfencing.com
SUMMARY:Youth II
DESCRIPTION:Intermediate-level instruction for our continuing Youth Members ages 8-13.\nAthletes need their own standard equipment for participation.
URL:https://westberkeleyfencing.com/event/youth-i-ii-3/2027-08-21
LOCATION:West Berkeley Fencing Club\, 1111 Addison Street\, Berkeley\, CA\, 94706\, United States
CATEGORIES:Youth Classes
GEO:37.8684577;-122.2913141
X-APPLE-STRUCTURED-LOCATION;VALUE=URI;X-ADDRESS=West Berkeley Fencing Club 1111 Addison Street Berkeley CA 94706 United States;X-APPLE-RADIUS=500;X-TITLE=1111 Addison Street:geo:-122.2913141,37.8684577
END:VEVENT
END:VCALENDAR