BEGIN:VCALENDAR
VERSION:2.0
PRODID:-//West Berkeley Fencing Club - ECPv6.15.18//NONSGML v1.0//EN
CALSCALE:GREGORIAN
METHOD:PUBLISH
X-ORIGINAL-URL:https://westberkeleyfencing.com
X-WR-CALDESC:Events for West Berkeley Fencing Club
REFRESH-INTERVAL;VALUE=DURATION:PT1H
X-Robots-Tag:noindex
X-PUBLISHED-TTL:PT1H
BEGIN:VTIMEZONE
TZID:America/Los_Angeles
BEGIN:DAYLIGHT
TZOFFSETFROM:-0800
TZOFFSETTO:-0700
TZNAME:PDT
DTSTART:20230312T100000
END:DAYLIGHT
BEGIN:STANDARD
TZOFFSETFROM:-0700
TZOFFSETTO:-0800
TZNAME:PST
DTSTART:20231105T090000
END:STANDARD
BEGIN:DAYLIGHT
TZOFFSETFROM:-0800
TZOFFSETTO:-0700
TZNAME:PDT
DTSTART:20240310T100000
END:DAYLIGHT
BEGIN:STANDARD
TZOFFSETFROM:-0700
TZOFFSETTO:-0800
TZNAME:PST
DTSTART:20241103T090000
END:STANDARD
BEGIN:DAYLIGHT
TZOFFSETFROM:-0800
TZOFFSETTO:-0700
TZNAME:PDT
DTSTART:20250309T100000
END:DAYLIGHT
BEGIN:STANDARD
TZOFFSETFROM:-0700
TZOFFSETTO:-0800
TZNAME:PST
DTSTART:20251102T090000
END:STANDARD
END:VTIMEZONE
BEGIN:VEVENT
DTSTART;TZID=America/Los_Angeles:20240923T160000
DTEND;TZID=America/Los_Angeles:20240923T170000
DTSTAMP:20260425T195202
CREATED:20240902T025404Z
LAST-MODIFIED:20250518T225328Z
UID:10001525-1727107200-1727110800@westberkeleyfencing.com
SUMMARY:Youth II
DESCRIPTION:Intermediate-level instruction for our continuing Youth Members ages 8-13.\nAthletes need their own standard equipment for participation.
URL:https://westberkeleyfencing.com/event/youth-i-ii-2/2024-09-23
LOCATION:West Berkeley Fencing Club\, 1111 Addison Street\, Berkeley\, CA\, 94706\, United States
CATEGORIES:Youth Classes
GEO:37.8684577;-122.2913141
X-APPLE-STRUCTURED-LOCATION;VALUE=URI;X-ADDRESS=West Berkeley Fencing Club 1111 Addison Street Berkeley CA 94706 United States;X-APPLE-RADIUS=500;X-TITLE=1111 Addison Street:geo:-122.2913141,37.8684577
END:VEVENT
BEGIN:VEVENT
DTSTART;TZID=America/Los_Angeles:20240923T170000
DTEND;TZID=America/Los_Angeles:20240923T183000
DTSTAMP:20260425T195202
CREATED:20240902T060622Z
LAST-MODIFIED:20241011T003209Z
UID:10001731-1727110800-1727116200@westberkeleyfencing.com
SUMMARY:Youth Team - Foil
DESCRIPTION:Youth Team program for experienced fencers with increased competitive bouting.\nFor Youth Team Members ages 8-14. Electric gear required.
URL:https://westberkeleyfencing.com/event/youth-iii-2/2024-09-23
LOCATION:West Berkeley Fencing Club\, 1111 Addison Street\, Berkeley\, CA\, 94706\, United States
CATEGORIES:Youth Classes
GEO:37.8684577;-122.2913141
X-APPLE-STRUCTURED-LOCATION;VALUE=URI;X-ADDRESS=West Berkeley Fencing Club 1111 Addison Street Berkeley CA 94706 United States;X-APPLE-RADIUS=500;X-TITLE=1111 Addison Street:geo:-122.2913141,37.8684577
END:VEVENT
BEGIN:VEVENT
DTSTART;TZID=America/Los_Angeles:20240924T160000
DTEND;TZID=America/Los_Angeles:20240924T170000
DTSTAMP:20260425T195202
CREATED:20240902T055131Z
LAST-MODIFIED:20241227T230933Z
UID:10001660-1727193600-1727197200@westberkeleyfencing.com
SUMMARY:Youth I
DESCRIPTION:For first-time fencers & those reinforcing the basics.\nClass option for Youth Members ages 8-12. Pre-registration required.
URL:https://westberkeleyfencing.com/event/youth-i-3/2024-09-24
LOCATION:West Berkeley Fencing Club\, 1111 Addison Street\, Berkeley\, CA\, 94706\, United States
CATEGORIES:Youth Classes
GEO:37.8684577;-122.2913141
X-APPLE-STRUCTURED-LOCATION;VALUE=URI;X-ADDRESS=West Berkeley Fencing Club 1111 Addison Street Berkeley CA 94706 United States;X-APPLE-RADIUS=500;X-TITLE=1111 Addison Street:geo:-122.2913141,37.8684577
END:VEVENT
BEGIN:VEVENT
DTSTART;TZID=America/Los_Angeles:20240925T160000
DTEND;TZID=America/Los_Angeles:20240925T170000
DTSTAMP:20260425T195202
CREATED:20240902T025404Z
LAST-MODIFIED:20250518T225328Z
UID:10001526-1727280000-1727283600@westberkeleyfencing.com
SUMMARY:Youth II
DESCRIPTION:Intermediate-level instruction for our continuing Youth Members ages 8-13.\nAthletes need their own standard equipment for participation.
URL:https://westberkeleyfencing.com/event/youth-i-ii-2/2024-09-25
LOCATION:West Berkeley Fencing Club\, 1111 Addison Street\, Berkeley\, CA\, 94706\, United States
CATEGORIES:Youth Classes
GEO:37.8684577;-122.2913141
X-APPLE-STRUCTURED-LOCATION;VALUE=URI;X-ADDRESS=West Berkeley Fencing Club 1111 Addison Street Berkeley CA 94706 United States;X-APPLE-RADIUS=500;X-TITLE=1111 Addison Street:geo:-122.2913141,37.8684577
END:VEVENT
BEGIN:VEVENT
DTSTART;TZID=America/Los_Angeles:20240925T170000
DTEND;TZID=America/Los_Angeles:20240925T183000
DTSTAMP:20260425T195202
CREATED:20240902T055659Z
LAST-MODIFIED:20250823T084148Z
UID:10001688-1727283600-1727289000@westberkeleyfencing.com
SUMMARY:Youth Team - Epée
DESCRIPTION:Youth Team program for our Youth Team Members ages 8-14 with prior experience.\nAthletes need full set of electric épée gear for participation.
URL:https://westberkeleyfencing.com/event/youth-epee-2/2024-09-25
LOCATION:West Berkeley Fencing Club\, 1111 Addison Street\, Berkeley\, CA\, 94706\, United States
CATEGORIES:Jr. Team,Youth Classes
GEO:37.8684577;-122.2913141
X-APPLE-STRUCTURED-LOCATION;VALUE=URI;X-ADDRESS=West Berkeley Fencing Club 1111 Addison Street Berkeley CA 94706 United States;X-APPLE-RADIUS=500;X-TITLE=1111 Addison Street:geo:-122.2913141,37.8684577
END:VEVENT
BEGIN:VEVENT
DTSTART;TZID=America/Los_Angeles:20240926T160000
DTEND;TZID=America/Los_Angeles:20240926T170000
DTSTAMP:20260425T195202
CREATED:20240902T055131Z
LAST-MODIFIED:20241227T230933Z
UID:10001661-1727366400-1727370000@westberkeleyfencing.com
SUMMARY:Youth I
DESCRIPTION:For first-time fencers & those reinforcing the basics.\nClass option for Youth Members ages 8-12. Pre-registration required.
URL:https://westberkeleyfencing.com/event/youth-i-3/2024-09-26
LOCATION:West Berkeley Fencing Club\, 1111 Addison Street\, Berkeley\, CA\, 94706\, United States
CATEGORIES:Youth Classes
GEO:37.8684577;-122.2913141
X-APPLE-STRUCTURED-LOCATION;VALUE=URI;X-ADDRESS=West Berkeley Fencing Club 1111 Addison Street Berkeley CA 94706 United States;X-APPLE-RADIUS=500;X-TITLE=1111 Addison Street:geo:-122.2913141,37.8684577
END:VEVENT
BEGIN:VEVENT
DTSTART;TZID=America/Los_Angeles:20240928T090000
DTEND;TZID=America/Los_Angeles:20240928T094500
DTSTAMP:20260425T195202
CREATED:20240902T024421Z
LAST-MODIFIED:20260326T002949Z
UID:10001493-1727514000-1727516700@westberkeleyfencing.com
SUMMARY:Youth Swordplay
DESCRIPTION:A beginning-level class tailored to our Youth Members ages 5-7.\nPre-registration required.
URL:https://westberkeleyfencing.com/event/youth-swordplay-2/2024-09-28
LOCATION:West Berkeley Fencing Club\, 1111 Addison Street\, Berkeley\, CA\, 94706\, United States
CATEGORIES:Youth Classes
GEO:37.8684577;-122.2913141
X-APPLE-STRUCTURED-LOCATION;VALUE=URI;X-ADDRESS=West Berkeley Fencing Club 1111 Addison Street Berkeley CA 94706 United States;X-APPLE-RADIUS=500;X-TITLE=1111 Addison Street:geo:-122.2913141,37.8684577
END:VEVENT
BEGIN:VEVENT
DTSTART;TZID=America/Los_Angeles:20240928T100000
DTEND;TZID=America/Los_Angeles:20240928T110000
DTSTAMP:20260425T195202
CREATED:20240902T024937Z
LAST-MODIFIED:20240902T024945Z
UID:10001508-1727517600-1727521200@westberkeleyfencing.com
SUMMARY:Youth I
DESCRIPTION:For first-time fencers & those reinforcing the basics.\nDesigned for ages 8-12. Pre-registration required.
URL:https://westberkeleyfencing.com/event/youth-i-2/2024-09-28
LOCATION:West Berkeley Fencing Club\, 1111 Addison Street\, Berkeley\, CA\, 94706\, United States
CATEGORIES:Youth Classes
GEO:37.8684577;-122.2913141
X-APPLE-STRUCTURED-LOCATION;VALUE=URI;X-ADDRESS=West Berkeley Fencing Club 1111 Addison Street Berkeley CA 94706 United States;X-APPLE-RADIUS=500;X-TITLE=1111 Addison Street:geo:-122.2913141,37.8684577
END:VEVENT
BEGIN:VEVENT
DTSTART;TZID=America/Los_Angeles:20240928T110000
DTEND;TZID=America/Los_Angeles:20240928T120000
DTSTAMP:20260425T195202
CREATED:20240902T062026Z
LAST-MODIFIED:20260326T004410Z
UID:10001786-1727521200-1727524800@westberkeleyfencing.com
SUMMARY:Youth II
DESCRIPTION:Intermediate-level instruction for our continuing Youth Members ages 8-13.\nAthletes need their own standard equipment for participation.
URL:https://westberkeleyfencing.com/event/youth-i-ii-3/2024-09-28
LOCATION:West Berkeley Fencing Club\, 1111 Addison Street\, Berkeley\, CA\, 94706\, United States
CATEGORIES:Youth Classes
GEO:37.8684577;-122.2913141
X-APPLE-STRUCTURED-LOCATION;VALUE=URI;X-ADDRESS=West Berkeley Fencing Club 1111 Addison Street Berkeley CA 94706 United States;X-APPLE-RADIUS=500;X-TITLE=1111 Addison Street:geo:-122.2913141,37.8684577
END:VEVENT
END:VCALENDAR