BEGIN:VCALENDAR
VERSION:2.0
PRODID:-//West Berkeley Fencing Club - ECPv6.15.18//NONSGML v1.0//EN
CALSCALE:GREGORIAN
METHOD:PUBLISH
X-WR-CALNAME:West Berkeley Fencing Club
X-ORIGINAL-URL:https://westberkeleyfencing.com
X-WR-CALDESC:Events for West Berkeley Fencing Club
REFRESH-INTERVAL;VALUE=DURATION:PT1H
X-Robots-Tag:noindex
X-PUBLISHED-TTL:PT1H
BEGIN:VTIMEZONE
TZID:America/Los_Angeles
BEGIN:DAYLIGHT
TZOFFSETFROM:-0800
TZOFFSETTO:-0700
TZNAME:PDT
DTSTART:20260308T100000
END:DAYLIGHT
BEGIN:STANDARD
TZOFFSETFROM:-0700
TZOFFSETTO:-0800
TZNAME:PST
DTSTART:20261101T090000
END:STANDARD
BEGIN:DAYLIGHT
TZOFFSETFROM:-0800
TZOFFSETTO:-0700
TZNAME:PDT
DTSTART:20270314T100000
END:DAYLIGHT
BEGIN:STANDARD
TZOFFSETFROM:-0700
TZOFFSETTO:-0800
TZNAME:PST
DTSTART:20271107T090000
END:STANDARD
BEGIN:DAYLIGHT
TZOFFSETFROM:-0800
TZOFFSETTO:-0700
TZNAME:PDT
DTSTART:20280312T100000
END:DAYLIGHT
BEGIN:STANDARD
TZOFFSETFROM:-0700
TZOFFSETTO:-0800
TZNAME:PST
DTSTART:20281105T090000
END:STANDARD
END:VTIMEZONE
BEGIN:VEVENT
DTSTART;TZID=America/Los_Angeles:20270501T090000
DTEND;TZID=America/Los_Angeles:20270501T094500
DTSTAMP:20260425T072714
CREATED:20240902T024421Z
LAST-MODIFIED:20260326T002949Z
UID:10005808-1809162000-1809164700@westberkeleyfencing.com
SUMMARY:Youth Swordplay
DESCRIPTION:A beginning-level class tailored to our Youth Members ages 5-7.\nPre-registration required.
URL:https://westberkeleyfencing.com/event/youth-swordplay-2/2027-05-01
LOCATION:West Berkeley Fencing Club\, 1111 Addison Street\, Berkeley\, CA\, 94706\, United States
CATEGORIES:Youth Classes
GEO:37.8684577;-122.2913141
X-APPLE-STRUCTURED-LOCATION;VALUE=URI;X-ADDRESS=West Berkeley Fencing Club 1111 Addison Street Berkeley CA 94706 United States;X-APPLE-RADIUS=500;X-TITLE=1111 Addison Street:geo:-122.2913141,37.8684577
END:VEVENT
BEGIN:VEVENT
DTSTART;TZID=America/Los_Angeles:20270501T100000
DTEND;TZID=America/Los_Angeles:20270501T110000
DTSTAMP:20260425T072714
CREATED:20241227T212721Z
LAST-MODIFIED:20260326T003514Z
UID:10001992-1809165600-1809169200@westberkeleyfencing.com
SUMMARY:Youth I
DESCRIPTION:For first-time fencers & those reinforcing the basics.\nClass option for our Youth Members ages 8-12. Pre-registration required.
URL:https://westberkeleyfencing.com/event/youth-i-2-2/2027-05-01
LOCATION:West Berkeley Fencing Club\, 1111 Addison Street\, Berkeley\, CA\, 94706\, United States
CATEGORIES:Youth Classes
GEO:37.8684577;-122.2913141
X-APPLE-STRUCTURED-LOCATION;VALUE=URI;X-ADDRESS=West Berkeley Fencing Club 1111 Addison Street Berkeley CA 94706 United States;X-APPLE-RADIUS=500;X-TITLE=1111 Addison Street:geo:-122.2913141,37.8684577
END:VEVENT
BEGIN:VEVENT
DTSTART;TZID=America/Los_Angeles:20270501T110000
DTEND;TZID=America/Los_Angeles:20270501T120000
DTSTAMP:20260425T072714
CREATED:20240902T062026Z
LAST-MODIFIED:20260326T004410Z
UID:10002252-1809169200-1809172800@westberkeleyfencing.com
SUMMARY:Youth II
DESCRIPTION:Intermediate-level instruction for our continuing Youth Members ages 8-13.\nAthletes need their own standard equipment for participation.
URL:https://westberkeleyfencing.com/event/youth-i-ii-3/2027-05-01
LOCATION:West Berkeley Fencing Club\, 1111 Addison Street\, Berkeley\, CA\, 94706\, United States
CATEGORIES:Youth Classes
GEO:37.8684577;-122.2913141
X-APPLE-STRUCTURED-LOCATION;VALUE=URI;X-ADDRESS=West Berkeley Fencing Club 1111 Addison Street Berkeley CA 94706 United States;X-APPLE-RADIUS=500;X-TITLE=1111 Addison Street:geo:-122.2913141,37.8684577
END:VEVENT
BEGIN:VEVENT
DTSTART;TZID=America/Los_Angeles:20270503T160000
DTEND;TZID=America/Los_Angeles:20270503T170000
DTSTAMP:20260425T072715
CREATED:20250823T071831Z
LAST-MODIFIED:20260118T195831Z
UID:10006414-1809360000-1809363600@westberkeleyfencing.com
SUMMARY:Youth II
DESCRIPTION:Intermediate-level instruction for our continuing Youth Members ages 8-13.\nAthletes need their own standard equipment for participation.
URL:https://westberkeleyfencing.com/event/youth-i-ii-2-2/2027-05-03
LOCATION:West Berkeley Fencing Club\, 1111 Addison Street\, Berkeley\, CA\, 94706\, United States
CATEGORIES:Youth Classes
GEO:37.8684577;-122.2913141
X-APPLE-STRUCTURED-LOCATION;VALUE=URI;X-ADDRESS=West Berkeley Fencing Club 1111 Addison Street Berkeley CA 94706 United States;X-APPLE-RADIUS=500;X-TITLE=1111 Addison Street:geo:-122.2913141,37.8684577
END:VEVENT
BEGIN:VEVENT
DTSTART;TZID=America/Los_Angeles:20270504T160000
DTEND;TZID=America/Los_Angeles:20270504T170000
DTSTAMP:20260425T072715
CREATED:20250823T081151Z
LAST-MODIFIED:20260326T004833Z
UID:10006935-1809446400-1809450000@westberkeleyfencing.com
SUMMARY:Youth I
DESCRIPTION:For first-time fencers & those reinforcing the basics.\nClass option for Youth Members ages 8-12. Pre-registration required.
URL:https://westberkeleyfencing.com/event/youth-i-3-2/2027-05-04
LOCATION:West Berkeley Fencing Club\, 1111 Addison Street\, Berkeley\, CA\, 94706\, United States
CATEGORIES:Youth Classes
GEO:37.8684577;-122.2913141
X-APPLE-STRUCTURED-LOCATION;VALUE=URI;X-ADDRESS=West Berkeley Fencing Club 1111 Addison Street Berkeley CA 94706 United States;X-APPLE-RADIUS=500;X-TITLE=1111 Addison Street:geo:-122.2913141,37.8684577
END:VEVENT
BEGIN:VEVENT
DTSTART;TZID=America/Los_Angeles:20270505T160000
DTEND;TZID=America/Los_Angeles:20270505T170000
DTSTAMP:20260425T072715
CREATED:20250823T071831Z
LAST-MODIFIED:20260118T195831Z
UID:10006415-1809532800-1809536400@westberkeleyfencing.com
SUMMARY:Youth II
DESCRIPTION:Intermediate-level instruction for our continuing Youth Members ages 8-13.\nAthletes need their own standard equipment for participation.
URL:https://westberkeleyfencing.com/event/youth-i-ii-2-2/2027-05-05
LOCATION:West Berkeley Fencing Club\, 1111 Addison Street\, Berkeley\, CA\, 94706\, United States
CATEGORIES:Youth Classes
GEO:37.8684577;-122.2913141
X-APPLE-STRUCTURED-LOCATION;VALUE=URI;X-ADDRESS=West Berkeley Fencing Club 1111 Addison Street Berkeley CA 94706 United States;X-APPLE-RADIUS=500;X-TITLE=1111 Addison Street:geo:-122.2913141,37.8684577
END:VEVENT
BEGIN:VEVENT
DTSTART;TZID=America/Los_Angeles:20270506T160000
DTEND;TZID=America/Los_Angeles:20270506T170000
DTSTAMP:20260425T072715
CREATED:20250823T081151Z
LAST-MODIFIED:20260326T004833Z
UID:10006936-1809619200-1809622800@westberkeleyfencing.com
SUMMARY:Youth I
DESCRIPTION:For first-time fencers & those reinforcing the basics.\nClass option for Youth Members ages 8-12. Pre-registration required.
URL:https://westberkeleyfencing.com/event/youth-i-3-2/2027-05-06
LOCATION:West Berkeley Fencing Club\, 1111 Addison Street\, Berkeley\, CA\, 94706\, United States
CATEGORIES:Youth Classes
GEO:37.8684577;-122.2913141
X-APPLE-STRUCTURED-LOCATION;VALUE=URI;X-ADDRESS=West Berkeley Fencing Club 1111 Addison Street Berkeley CA 94706 United States;X-APPLE-RADIUS=500;X-TITLE=1111 Addison Street:geo:-122.2913141,37.8684577
END:VEVENT
BEGIN:VEVENT
DTSTART;TZID=America/Los_Angeles:20270508T090000
DTEND;TZID=America/Los_Angeles:20270508T094500
DTSTAMP:20260425T072715
CREATED:20240902T024421Z
LAST-MODIFIED:20260326T002949Z
UID:10005809-1809766800-1809769500@westberkeleyfencing.com
SUMMARY:Youth Swordplay
DESCRIPTION:A beginning-level class tailored to our Youth Members ages 5-7.\nPre-registration required.
URL:https://westberkeleyfencing.com/event/youth-swordplay-2/2027-05-08
LOCATION:West Berkeley Fencing Club\, 1111 Addison Street\, Berkeley\, CA\, 94706\, United States
CATEGORIES:Youth Classes
GEO:37.8684577;-122.2913141
X-APPLE-STRUCTURED-LOCATION;VALUE=URI;X-ADDRESS=West Berkeley Fencing Club 1111 Addison Street Berkeley CA 94706 United States;X-APPLE-RADIUS=500;X-TITLE=1111 Addison Street:geo:-122.2913141,37.8684577
END:VEVENT
BEGIN:VEVENT
DTSTART;TZID=America/Los_Angeles:20270508T100000
DTEND;TZID=America/Los_Angeles:20270508T110000
DTSTAMP:20260425T072715
CREATED:20241227T212721Z
LAST-MODIFIED:20260326T003514Z
UID:10001993-1809770400-1809774000@westberkeleyfencing.com
SUMMARY:Youth I
DESCRIPTION:For first-time fencers & those reinforcing the basics.\nClass option for our Youth Members ages 8-12. Pre-registration required.
URL:https://westberkeleyfencing.com/event/youth-i-2-2/2027-05-08
LOCATION:West Berkeley Fencing Club\, 1111 Addison Street\, Berkeley\, CA\, 94706\, United States
CATEGORIES:Youth Classes
GEO:37.8684577;-122.2913141
X-APPLE-STRUCTURED-LOCATION;VALUE=URI;X-ADDRESS=West Berkeley Fencing Club 1111 Addison Street Berkeley CA 94706 United States;X-APPLE-RADIUS=500;X-TITLE=1111 Addison Street:geo:-122.2913141,37.8684577
END:VEVENT
BEGIN:VEVENT
DTSTART;TZID=America/Los_Angeles:20270508T110000
DTEND;TZID=America/Los_Angeles:20270508T120000
DTSTAMP:20260425T072715
CREATED:20240902T062026Z
LAST-MODIFIED:20260326T004410Z
UID:10002253-1809774000-1809777600@westberkeleyfencing.com
SUMMARY:Youth II
DESCRIPTION:Intermediate-level instruction for our continuing Youth Members ages 8-13.\nAthletes need their own standard equipment for participation.
URL:https://westberkeleyfencing.com/event/youth-i-ii-3/2027-05-08
LOCATION:West Berkeley Fencing Club\, 1111 Addison Street\, Berkeley\, CA\, 94706\, United States
CATEGORIES:Youth Classes
GEO:37.8684577;-122.2913141
X-APPLE-STRUCTURED-LOCATION;VALUE=URI;X-ADDRESS=West Berkeley Fencing Club 1111 Addison Street Berkeley CA 94706 United States;X-APPLE-RADIUS=500;X-TITLE=1111 Addison Street:geo:-122.2913141,37.8684577
END:VEVENT
BEGIN:VEVENT
DTSTART;TZID=America/Los_Angeles:20270510T160000
DTEND;TZID=America/Los_Angeles:20270510T170000
DTSTAMP:20260425T072715
CREATED:20250823T071831Z
LAST-MODIFIED:20260118T195831Z
UID:10006416-1809964800-1809968400@westberkeleyfencing.com
SUMMARY:Youth II
DESCRIPTION:Intermediate-level instruction for our continuing Youth Members ages 8-13.\nAthletes need their own standard equipment for participation.
URL:https://westberkeleyfencing.com/event/youth-i-ii-2-2/2027-05-10
LOCATION:West Berkeley Fencing Club\, 1111 Addison Street\, Berkeley\, CA\, 94706\, United States
CATEGORIES:Youth Classes
GEO:37.8684577;-122.2913141
X-APPLE-STRUCTURED-LOCATION;VALUE=URI;X-ADDRESS=West Berkeley Fencing Club 1111 Addison Street Berkeley CA 94706 United States;X-APPLE-RADIUS=500;X-TITLE=1111 Addison Street:geo:-122.2913141,37.8684577
END:VEVENT
BEGIN:VEVENT
DTSTART;TZID=America/Los_Angeles:20270511T160000
DTEND;TZID=America/Los_Angeles:20270511T170000
DTSTAMP:20260425T072715
CREATED:20250823T081151Z
LAST-MODIFIED:20260326T004833Z
UID:10006937-1810051200-1810054800@westberkeleyfencing.com
SUMMARY:Youth I
DESCRIPTION:For first-time fencers & those reinforcing the basics.\nClass option for Youth Members ages 8-12. Pre-registration required.
URL:https://westberkeleyfencing.com/event/youth-i-3-2/2027-05-11
LOCATION:West Berkeley Fencing Club\, 1111 Addison Street\, Berkeley\, CA\, 94706\, United States
CATEGORIES:Youth Classes
GEO:37.8684577;-122.2913141
X-APPLE-STRUCTURED-LOCATION;VALUE=URI;X-ADDRESS=West Berkeley Fencing Club 1111 Addison Street Berkeley CA 94706 United States;X-APPLE-RADIUS=500;X-TITLE=1111 Addison Street:geo:-122.2913141,37.8684577
END:VEVENT
BEGIN:VEVENT
DTSTART;TZID=America/Los_Angeles:20270512T160000
DTEND;TZID=America/Los_Angeles:20270512T170000
DTSTAMP:20260425T072715
CREATED:20250823T071831Z
LAST-MODIFIED:20260118T195831Z
UID:10006417-1810137600-1810141200@westberkeleyfencing.com
SUMMARY:Youth II
DESCRIPTION:Intermediate-level instruction for our continuing Youth Members ages 8-13.\nAthletes need their own standard equipment for participation.
URL:https://westberkeleyfencing.com/event/youth-i-ii-2-2/2027-05-12
LOCATION:West Berkeley Fencing Club\, 1111 Addison Street\, Berkeley\, CA\, 94706\, United States
CATEGORIES:Youth Classes
GEO:37.8684577;-122.2913141
X-APPLE-STRUCTURED-LOCATION;VALUE=URI;X-ADDRESS=West Berkeley Fencing Club 1111 Addison Street Berkeley CA 94706 United States;X-APPLE-RADIUS=500;X-TITLE=1111 Addison Street:geo:-122.2913141,37.8684577
END:VEVENT
BEGIN:VEVENT
DTSTART;TZID=America/Los_Angeles:20270513T160000
DTEND;TZID=America/Los_Angeles:20270513T170000
DTSTAMP:20260425T072715
CREATED:20250823T081151Z
LAST-MODIFIED:20260326T004833Z
UID:10006938-1810224000-1810227600@westberkeleyfencing.com
SUMMARY:Youth I
DESCRIPTION:For first-time fencers & those reinforcing the basics.\nClass option for Youth Members ages 8-12. Pre-registration required.
URL:https://westberkeleyfencing.com/event/youth-i-3-2/2027-05-13
LOCATION:West Berkeley Fencing Club\, 1111 Addison Street\, Berkeley\, CA\, 94706\, United States
CATEGORIES:Youth Classes
GEO:37.8684577;-122.2913141
X-APPLE-STRUCTURED-LOCATION;VALUE=URI;X-ADDRESS=West Berkeley Fencing Club 1111 Addison Street Berkeley CA 94706 United States;X-APPLE-RADIUS=500;X-TITLE=1111 Addison Street:geo:-122.2913141,37.8684577
END:VEVENT
BEGIN:VEVENT
DTSTART;TZID=America/Los_Angeles:20270515T090000
DTEND;TZID=America/Los_Angeles:20270515T094500
DTSTAMP:20260425T072715
CREATED:20240902T024421Z
LAST-MODIFIED:20260326T002949Z
UID:10005810-1810371600-1810374300@westberkeleyfencing.com
SUMMARY:Youth Swordplay
DESCRIPTION:A beginning-level class tailored to our Youth Members ages 5-7.\nPre-registration required.
URL:https://westberkeleyfencing.com/event/youth-swordplay-2/2027-05-15
LOCATION:West Berkeley Fencing Club\, 1111 Addison Street\, Berkeley\, CA\, 94706\, United States
CATEGORIES:Youth Classes
GEO:37.8684577;-122.2913141
X-APPLE-STRUCTURED-LOCATION;VALUE=URI;X-ADDRESS=West Berkeley Fencing Club 1111 Addison Street Berkeley CA 94706 United States;X-APPLE-RADIUS=500;X-TITLE=1111 Addison Street:geo:-122.2913141,37.8684577
END:VEVENT
BEGIN:VEVENT
DTSTART;TZID=America/Los_Angeles:20270515T100000
DTEND;TZID=America/Los_Angeles:20270515T110000
DTSTAMP:20260425T072715
CREATED:20241227T212721Z
LAST-MODIFIED:20260326T003514Z
UID:10001994-1810375200-1810378800@westberkeleyfencing.com
SUMMARY:Youth I
DESCRIPTION:For first-time fencers & those reinforcing the basics.\nClass option for our Youth Members ages 8-12. Pre-registration required.
URL:https://westberkeleyfencing.com/event/youth-i-2-2/2027-05-15
LOCATION:West Berkeley Fencing Club\, 1111 Addison Street\, Berkeley\, CA\, 94706\, United States
CATEGORIES:Youth Classes
GEO:37.8684577;-122.2913141
X-APPLE-STRUCTURED-LOCATION;VALUE=URI;X-ADDRESS=West Berkeley Fencing Club 1111 Addison Street Berkeley CA 94706 United States;X-APPLE-RADIUS=500;X-TITLE=1111 Addison Street:geo:-122.2913141,37.8684577
END:VEVENT
BEGIN:VEVENT
DTSTART;TZID=America/Los_Angeles:20270515T110000
DTEND;TZID=America/Los_Angeles:20270515T120000
DTSTAMP:20260425T072715
CREATED:20240902T062026Z
LAST-MODIFIED:20260326T004410Z
UID:10002254-1810378800-1810382400@westberkeleyfencing.com
SUMMARY:Youth II
DESCRIPTION:Intermediate-level instruction for our continuing Youth Members ages 8-13.\nAthletes need their own standard equipment for participation.
URL:https://westberkeleyfencing.com/event/youth-i-ii-3/2027-05-15
LOCATION:West Berkeley Fencing Club\, 1111 Addison Street\, Berkeley\, CA\, 94706\, United States
CATEGORIES:Youth Classes
GEO:37.8684577;-122.2913141
X-APPLE-STRUCTURED-LOCATION;VALUE=URI;X-ADDRESS=West Berkeley Fencing Club 1111 Addison Street Berkeley CA 94706 United States;X-APPLE-RADIUS=500;X-TITLE=1111 Addison Street:geo:-122.2913141,37.8684577
END:VEVENT
BEGIN:VEVENT
DTSTART;TZID=America/Los_Angeles:20270517T160000
DTEND;TZID=America/Los_Angeles:20270517T170000
DTSTAMP:20260425T072715
CREATED:20250823T071831Z
LAST-MODIFIED:20260118T195831Z
UID:10006418-1810569600-1810573200@westberkeleyfencing.com
SUMMARY:Youth II
DESCRIPTION:Intermediate-level instruction for our continuing Youth Members ages 8-13.\nAthletes need their own standard equipment for participation.
URL:https://westberkeleyfencing.com/event/youth-i-ii-2-2/2027-05-17
LOCATION:West Berkeley Fencing Club\, 1111 Addison Street\, Berkeley\, CA\, 94706\, United States
CATEGORIES:Youth Classes
GEO:37.8684577;-122.2913141
X-APPLE-STRUCTURED-LOCATION;VALUE=URI;X-ADDRESS=West Berkeley Fencing Club 1111 Addison Street Berkeley CA 94706 United States;X-APPLE-RADIUS=500;X-TITLE=1111 Addison Street:geo:-122.2913141,37.8684577
END:VEVENT
BEGIN:VEVENT
DTSTART;TZID=America/Los_Angeles:20270518T160000
DTEND;TZID=America/Los_Angeles:20270518T170000
DTSTAMP:20260425T072715
CREATED:20250823T081151Z
LAST-MODIFIED:20260326T004833Z
UID:10006939-1810656000-1810659600@westberkeleyfencing.com
SUMMARY:Youth I
DESCRIPTION:For first-time fencers & those reinforcing the basics.\nClass option for Youth Members ages 8-12. Pre-registration required.
URL:https://westberkeleyfencing.com/event/youth-i-3-2/2027-05-18
LOCATION:West Berkeley Fencing Club\, 1111 Addison Street\, Berkeley\, CA\, 94706\, United States
CATEGORIES:Youth Classes
GEO:37.8684577;-122.2913141
X-APPLE-STRUCTURED-LOCATION;VALUE=URI;X-ADDRESS=West Berkeley Fencing Club 1111 Addison Street Berkeley CA 94706 United States;X-APPLE-RADIUS=500;X-TITLE=1111 Addison Street:geo:-122.2913141,37.8684577
END:VEVENT
BEGIN:VEVENT
DTSTART;TZID=America/Los_Angeles:20270519T160000
DTEND;TZID=America/Los_Angeles:20270519T170000
DTSTAMP:20260425T072715
CREATED:20250823T071831Z
LAST-MODIFIED:20260118T195831Z
UID:10006419-1810742400-1810746000@westberkeleyfencing.com
SUMMARY:Youth II
DESCRIPTION:Intermediate-level instruction for our continuing Youth Members ages 8-13.\nAthletes need their own standard equipment for participation.
URL:https://westberkeleyfencing.com/event/youth-i-ii-2-2/2027-05-19
LOCATION:West Berkeley Fencing Club\, 1111 Addison Street\, Berkeley\, CA\, 94706\, United States
CATEGORIES:Youth Classes
GEO:37.8684577;-122.2913141
X-APPLE-STRUCTURED-LOCATION;VALUE=URI;X-ADDRESS=West Berkeley Fencing Club 1111 Addison Street Berkeley CA 94706 United States;X-APPLE-RADIUS=500;X-TITLE=1111 Addison Street:geo:-122.2913141,37.8684577
END:VEVENT
BEGIN:VEVENT
DTSTART;TZID=America/Los_Angeles:20270520T160000
DTEND;TZID=America/Los_Angeles:20270520T170000
DTSTAMP:20260425T072715
CREATED:20250823T081151Z
LAST-MODIFIED:20260326T004833Z
UID:10006940-1810828800-1810832400@westberkeleyfencing.com
SUMMARY:Youth I
DESCRIPTION:For first-time fencers & those reinforcing the basics.\nClass option for Youth Members ages 8-12. Pre-registration required.
URL:https://westberkeleyfencing.com/event/youth-i-3-2/2027-05-20
LOCATION:West Berkeley Fencing Club\, 1111 Addison Street\, Berkeley\, CA\, 94706\, United States
CATEGORIES:Youth Classes
GEO:37.8684577;-122.2913141
X-APPLE-STRUCTURED-LOCATION;VALUE=URI;X-ADDRESS=West Berkeley Fencing Club 1111 Addison Street Berkeley CA 94706 United States;X-APPLE-RADIUS=500;X-TITLE=1111 Addison Street:geo:-122.2913141,37.8684577
END:VEVENT
BEGIN:VEVENT
DTSTART;TZID=America/Los_Angeles:20270522T090000
DTEND;TZID=America/Los_Angeles:20270522T094500
DTSTAMP:20260425T072715
CREATED:20240902T024421Z
LAST-MODIFIED:20260326T002949Z
UID:10005811-1810976400-1810979100@westberkeleyfencing.com
SUMMARY:Youth Swordplay
DESCRIPTION:A beginning-level class tailored to our Youth Members ages 5-7.\nPre-registration required.
URL:https://westberkeleyfencing.com/event/youth-swordplay-2/2027-05-22
LOCATION:West Berkeley Fencing Club\, 1111 Addison Street\, Berkeley\, CA\, 94706\, United States
CATEGORIES:Youth Classes
GEO:37.8684577;-122.2913141
X-APPLE-STRUCTURED-LOCATION;VALUE=URI;X-ADDRESS=West Berkeley Fencing Club 1111 Addison Street Berkeley CA 94706 United States;X-APPLE-RADIUS=500;X-TITLE=1111 Addison Street:geo:-122.2913141,37.8684577
END:VEVENT
BEGIN:VEVENT
DTSTART;TZID=America/Los_Angeles:20270522T100000
DTEND;TZID=America/Los_Angeles:20270522T110000
DTSTAMP:20260425T072715
CREATED:20241227T212721Z
LAST-MODIFIED:20260326T003514Z
UID:10001995-1810980000-1810983600@westberkeleyfencing.com
SUMMARY:Youth I
DESCRIPTION:For first-time fencers & those reinforcing the basics.\nClass option for our Youth Members ages 8-12. Pre-registration required.
URL:https://westberkeleyfencing.com/event/youth-i-2-2/2027-05-22
LOCATION:West Berkeley Fencing Club\, 1111 Addison Street\, Berkeley\, CA\, 94706\, United States
CATEGORIES:Youth Classes
GEO:37.8684577;-122.2913141
X-APPLE-STRUCTURED-LOCATION;VALUE=URI;X-ADDRESS=West Berkeley Fencing Club 1111 Addison Street Berkeley CA 94706 United States;X-APPLE-RADIUS=500;X-TITLE=1111 Addison Street:geo:-122.2913141,37.8684577
END:VEVENT
BEGIN:VEVENT
DTSTART;TZID=America/Los_Angeles:20270522T110000
DTEND;TZID=America/Los_Angeles:20270522T120000
DTSTAMP:20260425T072715
CREATED:20240902T062026Z
LAST-MODIFIED:20260326T004410Z
UID:10002255-1810983600-1810987200@westberkeleyfencing.com
SUMMARY:Youth II
DESCRIPTION:Intermediate-level instruction for our continuing Youth Members ages 8-13.\nAthletes need their own standard equipment for participation.
URL:https://westberkeleyfencing.com/event/youth-i-ii-3/2027-05-22
LOCATION:West Berkeley Fencing Club\, 1111 Addison Street\, Berkeley\, CA\, 94706\, United States
CATEGORIES:Youth Classes
GEO:37.8684577;-122.2913141
X-APPLE-STRUCTURED-LOCATION;VALUE=URI;X-ADDRESS=West Berkeley Fencing Club 1111 Addison Street Berkeley CA 94706 United States;X-APPLE-RADIUS=500;X-TITLE=1111 Addison Street:geo:-122.2913141,37.8684577
END:VEVENT
BEGIN:VEVENT
DTSTART;TZID=America/Los_Angeles:20270524T160000
DTEND;TZID=America/Los_Angeles:20270524T170000
DTSTAMP:20260425T072715
CREATED:20250823T071831Z
LAST-MODIFIED:20260118T195831Z
UID:10006420-1811174400-1811178000@westberkeleyfencing.com
SUMMARY:Youth II
DESCRIPTION:Intermediate-level instruction for our continuing Youth Members ages 8-13.\nAthletes need their own standard equipment for participation.
URL:https://westberkeleyfencing.com/event/youth-i-ii-2-2/2027-05-24
LOCATION:West Berkeley Fencing Club\, 1111 Addison Street\, Berkeley\, CA\, 94706\, United States
CATEGORIES:Youth Classes
GEO:37.8684577;-122.2913141
X-APPLE-STRUCTURED-LOCATION;VALUE=URI;X-ADDRESS=West Berkeley Fencing Club 1111 Addison Street Berkeley CA 94706 United States;X-APPLE-RADIUS=500;X-TITLE=1111 Addison Street:geo:-122.2913141,37.8684577
END:VEVENT
BEGIN:VEVENT
DTSTART;TZID=America/Los_Angeles:20270525T160000
DTEND;TZID=America/Los_Angeles:20270525T170000
DTSTAMP:20260425T072715
CREATED:20250823T081151Z
LAST-MODIFIED:20260326T004833Z
UID:10006941-1811260800-1811264400@westberkeleyfencing.com
SUMMARY:Youth I
DESCRIPTION:For first-time fencers & those reinforcing the basics.\nClass option for Youth Members ages 8-12. Pre-registration required.
URL:https://westberkeleyfencing.com/event/youth-i-3-2/2027-05-25
LOCATION:West Berkeley Fencing Club\, 1111 Addison Street\, Berkeley\, CA\, 94706\, United States
CATEGORIES:Youth Classes
GEO:37.8684577;-122.2913141
X-APPLE-STRUCTURED-LOCATION;VALUE=URI;X-ADDRESS=West Berkeley Fencing Club 1111 Addison Street Berkeley CA 94706 United States;X-APPLE-RADIUS=500;X-TITLE=1111 Addison Street:geo:-122.2913141,37.8684577
END:VEVENT
BEGIN:VEVENT
DTSTART;TZID=America/Los_Angeles:20270526T160000
DTEND;TZID=America/Los_Angeles:20270526T170000
DTSTAMP:20260425T072715
CREATED:20250823T071831Z
LAST-MODIFIED:20260118T195831Z
UID:10006421-1811347200-1811350800@westberkeleyfencing.com
SUMMARY:Youth II
DESCRIPTION:Intermediate-level instruction for our continuing Youth Members ages 8-13.\nAthletes need their own standard equipment for participation.
URL:https://westberkeleyfencing.com/event/youth-i-ii-2-2/2027-05-26
LOCATION:West Berkeley Fencing Club\, 1111 Addison Street\, Berkeley\, CA\, 94706\, United States
CATEGORIES:Youth Classes
GEO:37.8684577;-122.2913141
X-APPLE-STRUCTURED-LOCATION;VALUE=URI;X-ADDRESS=West Berkeley Fencing Club 1111 Addison Street Berkeley CA 94706 United States;X-APPLE-RADIUS=500;X-TITLE=1111 Addison Street:geo:-122.2913141,37.8684577
END:VEVENT
BEGIN:VEVENT
DTSTART;TZID=America/Los_Angeles:20270527T160000
DTEND;TZID=America/Los_Angeles:20270527T170000
DTSTAMP:20260425T072715
CREATED:20250823T081151Z
LAST-MODIFIED:20260326T004833Z
UID:10006942-1811433600-1811437200@westberkeleyfencing.com
SUMMARY:Youth I
DESCRIPTION:For first-time fencers & those reinforcing the basics.\nClass option for Youth Members ages 8-12. Pre-registration required.
URL:https://westberkeleyfencing.com/event/youth-i-3-2/2027-05-27
LOCATION:West Berkeley Fencing Club\, 1111 Addison Street\, Berkeley\, CA\, 94706\, United States
CATEGORIES:Youth Classes
GEO:37.8684577;-122.2913141
X-APPLE-STRUCTURED-LOCATION;VALUE=URI;X-ADDRESS=West Berkeley Fencing Club 1111 Addison Street Berkeley CA 94706 United States;X-APPLE-RADIUS=500;X-TITLE=1111 Addison Street:geo:-122.2913141,37.8684577
END:VEVENT
BEGIN:VEVENT
DTSTART;TZID=America/Los_Angeles:20270529T090000
DTEND;TZID=America/Los_Angeles:20270529T094500
DTSTAMP:20260425T072715
CREATED:20240902T024421Z
LAST-MODIFIED:20260326T002949Z
UID:10005812-1811581200-1811583900@westberkeleyfencing.com
SUMMARY:Youth Swordplay
DESCRIPTION:A beginning-level class tailored to our Youth Members ages 5-7.\nPre-registration required.
URL:https://westberkeleyfencing.com/event/youth-swordplay-2/2027-05-29
LOCATION:West Berkeley Fencing Club\, 1111 Addison Street\, Berkeley\, CA\, 94706\, United States
CATEGORIES:Youth Classes
GEO:37.8684577;-122.2913141
X-APPLE-STRUCTURED-LOCATION;VALUE=URI;X-ADDRESS=West Berkeley Fencing Club 1111 Addison Street Berkeley CA 94706 United States;X-APPLE-RADIUS=500;X-TITLE=1111 Addison Street:geo:-122.2913141,37.8684577
END:VEVENT
BEGIN:VEVENT
DTSTART;TZID=America/Los_Angeles:20270529T100000
DTEND;TZID=America/Los_Angeles:20270529T110000
DTSTAMP:20260425T072715
CREATED:20241227T212721Z
LAST-MODIFIED:20260326T003514Z
UID:10001996-1811584800-1811588400@westberkeleyfencing.com
SUMMARY:Youth I
DESCRIPTION:For first-time fencers & those reinforcing the basics.\nClass option for our Youth Members ages 8-12. Pre-registration required.
URL:https://westberkeleyfencing.com/event/youth-i-2-2/2027-05-29
LOCATION:West Berkeley Fencing Club\, 1111 Addison Street\, Berkeley\, CA\, 94706\, United States
CATEGORIES:Youth Classes
GEO:37.8684577;-122.2913141
X-APPLE-STRUCTURED-LOCATION;VALUE=URI;X-ADDRESS=West Berkeley Fencing Club 1111 Addison Street Berkeley CA 94706 United States;X-APPLE-RADIUS=500;X-TITLE=1111 Addison Street:geo:-122.2913141,37.8684577
END:VEVENT
END:VCALENDAR