BEGIN:VCALENDAR
VERSION:2.0
PRODID:-//West Berkeley Fencing Club - ECPv6.15.18//NONSGML v1.0//EN
CALSCALE:GREGORIAN
METHOD:PUBLISH
X-ORIGINAL-URL:https://westberkeleyfencing.com
X-WR-CALDESC:Events for West Berkeley Fencing Club
REFRESH-INTERVAL;VALUE=DURATION:PT1H
X-Robots-Tag:noindex
X-PUBLISHED-TTL:PT1H
BEGIN:VTIMEZONE
TZID:America/Los_Angeles
BEGIN:DAYLIGHT
TZOFFSETFROM:-0800
TZOFFSETTO:-0700
TZNAME:PDT
DTSTART:20250309T100000
END:DAYLIGHT
BEGIN:STANDARD
TZOFFSETFROM:-0700
TZOFFSETTO:-0800
TZNAME:PST
DTSTART:20251102T090000
END:STANDARD
BEGIN:DAYLIGHT
TZOFFSETFROM:-0800
TZOFFSETTO:-0700
TZNAME:PDT
DTSTART:20260308T100000
END:DAYLIGHT
BEGIN:STANDARD
TZOFFSETFROM:-0700
TZOFFSETTO:-0800
TZNAME:PST
DTSTART:20261101T090000
END:STANDARD
BEGIN:DAYLIGHT
TZOFFSETFROM:-0800
TZOFFSETTO:-0700
TZNAME:PDT
DTSTART:20270314T100000
END:DAYLIGHT
BEGIN:STANDARD
TZOFFSETFROM:-0700
TZOFFSETTO:-0800
TZNAME:PST
DTSTART:20271107T090000
END:STANDARD
END:VTIMEZONE
BEGIN:VEVENT
DTSTART;TZID=America/Los_Angeles:20260430T203000
DTEND;TZID=America/Los_Angeles:20260430T220000
DTSTAMP:20260425T052636
CREATED:20240902T024222Z
LAST-MODIFIED:20251121T052336Z
UID:10003050-1777581000-1777586400@westberkeleyfencing.com
SUMMARY:Open Bouting
DESCRIPTION:Open floor time for electric bouting.\nFor ages 12+ with their own equipment and prior fencing experience.\nNon-Members: $25
URL:https://westberkeleyfencing.com/event/open-bouting-2/2026-04-30
LOCATION:West Berkeley Fencing Club\, 1111 Addison Street\, Berkeley\, CA\, 94706\, United States
CATEGORIES:Open Fencing
GEO:37.8684577;-122.2913141
X-APPLE-STRUCTURED-LOCATION;VALUE=URI;X-ADDRESS=West Berkeley Fencing Club 1111 Addison Street Berkeley CA 94706 United States;X-APPLE-RADIUS=500;X-TITLE=1111 Addison Street:geo:-122.2913141,37.8684577
END:VEVENT
BEGIN:VEVENT
DTSTART;TZID=America/Los_Angeles:20260502T130000
DTEND;TZID=America/Los_Angeles:20260502T150000
DTSTAMP:20260425T052636
CREATED:20240902T023030Z
LAST-MODIFIED:20260326T004647Z
UID:10002720-1777726800-1777734000@westberkeleyfencing.com
SUMMARY:Open Bouting
DESCRIPTION:Open floor time for electric bouting.\nFor ages 12+ with their own equipment and prior fencing experience.\nNon-Members: $25
URL:https://westberkeleyfencing.com/event/open-bouting-3/2026-05-02
LOCATION:West Berkeley Fencing Club\, 1111 Addison Street\, Berkeley\, CA\, 94706\, United States
CATEGORIES:Open Fencing
GEO:37.8684577;-122.2913141
X-APPLE-STRUCTURED-LOCATION;VALUE=URI;X-ADDRESS=West Berkeley Fencing Club 1111 Addison Street Berkeley CA 94706 United States;X-APPLE-RADIUS=500;X-TITLE=1111 Addison Street:geo:-122.2913141,37.8684577
END:VEVENT
BEGIN:VEVENT
DTSTART;TZID=America/Los_Angeles:20260505T203000
DTEND;TZID=America/Los_Angeles:20260505T220000
DTSTAMP:20260425T052636
CREATED:20240902T024222Z
LAST-MODIFIED:20251121T052336Z
UID:10003051-1778013000-1778018400@westberkeleyfencing.com
SUMMARY:Open Bouting
DESCRIPTION:Open floor time for electric bouting.\nFor ages 12+ with their own equipment and prior fencing experience.\nNon-Members: $25
URL:https://westberkeleyfencing.com/event/open-bouting-2/2026-05-05
LOCATION:West Berkeley Fencing Club\, 1111 Addison Street\, Berkeley\, CA\, 94706\, United States
CATEGORIES:Open Fencing
GEO:37.8684577;-122.2913141
X-APPLE-STRUCTURED-LOCATION;VALUE=URI;X-ADDRESS=West Berkeley Fencing Club 1111 Addison Street Berkeley CA 94706 United States;X-APPLE-RADIUS=500;X-TITLE=1111 Addison Street:geo:-122.2913141,37.8684577
END:VEVENT
BEGIN:VEVENT
DTSTART;TZID=America/Los_Angeles:20260507T203000
DTEND;TZID=America/Los_Angeles:20260507T220000
DTSTAMP:20260425T052636
CREATED:20240902T024222Z
LAST-MODIFIED:20251121T052336Z
UID:10003052-1778185800-1778191200@westberkeleyfencing.com
SUMMARY:Open Bouting
DESCRIPTION:Open floor time for electric bouting.\nFor ages 12+ with their own equipment and prior fencing experience.\nNon-Members: $25
URL:https://westberkeleyfencing.com/event/open-bouting-2/2026-05-07
LOCATION:West Berkeley Fencing Club\, 1111 Addison Street\, Berkeley\, CA\, 94706\, United States
CATEGORIES:Open Fencing
GEO:37.8684577;-122.2913141
X-APPLE-STRUCTURED-LOCATION;VALUE=URI;X-ADDRESS=West Berkeley Fencing Club 1111 Addison Street Berkeley CA 94706 United States;X-APPLE-RADIUS=500;X-TITLE=1111 Addison Street:geo:-122.2913141,37.8684577
END:VEVENT
BEGIN:VEVENT
DTSTART;TZID=America/Los_Angeles:20260509T130000
DTEND;TZID=America/Los_Angeles:20260509T150000
DTSTAMP:20260425T052636
CREATED:20240902T023030Z
LAST-MODIFIED:20260326T004647Z
UID:10002721-1778331600-1778338800@westberkeleyfencing.com
SUMMARY:Open Bouting
DESCRIPTION:Open floor time for electric bouting.\nFor ages 12+ with their own equipment and prior fencing experience.\nNon-Members: $25
URL:https://westberkeleyfencing.com/event/open-bouting-3/2026-05-09
LOCATION:West Berkeley Fencing Club\, 1111 Addison Street\, Berkeley\, CA\, 94706\, United States
CATEGORIES:Open Fencing
GEO:37.8684577;-122.2913141
X-APPLE-STRUCTURED-LOCATION;VALUE=URI;X-ADDRESS=West Berkeley Fencing Club 1111 Addison Street Berkeley CA 94706 United States;X-APPLE-RADIUS=500;X-TITLE=1111 Addison Street:geo:-122.2913141,37.8684577
END:VEVENT
BEGIN:VEVENT
DTSTART;TZID=America/Los_Angeles:20260512T203000
DTEND;TZID=America/Los_Angeles:20260512T220000
DTSTAMP:20260425T052636
CREATED:20240902T024222Z
LAST-MODIFIED:20251121T052336Z
UID:10003053-1778617800-1778623200@westberkeleyfencing.com
SUMMARY:Open Bouting
DESCRIPTION:Open floor time for electric bouting.\nFor ages 12+ with their own equipment and prior fencing experience.\nNon-Members: $25
URL:https://westberkeleyfencing.com/event/open-bouting-2/2026-05-12
LOCATION:West Berkeley Fencing Club\, 1111 Addison Street\, Berkeley\, CA\, 94706\, United States
CATEGORIES:Open Fencing
GEO:37.8684577;-122.2913141
X-APPLE-STRUCTURED-LOCATION;VALUE=URI;X-ADDRESS=West Berkeley Fencing Club 1111 Addison Street Berkeley CA 94706 United States;X-APPLE-RADIUS=500;X-TITLE=1111 Addison Street:geo:-122.2913141,37.8684577
END:VEVENT
BEGIN:VEVENT
DTSTART;TZID=America/Los_Angeles:20260514T203000
DTEND;TZID=America/Los_Angeles:20260514T220000
DTSTAMP:20260425T052636
CREATED:20240902T024222Z
LAST-MODIFIED:20251121T052336Z
UID:10003054-1778790600-1778796000@westberkeleyfencing.com
SUMMARY:Open Bouting
DESCRIPTION:Open floor time for electric bouting.\nFor ages 12+ with their own equipment and prior fencing experience.\nNon-Members: $25
URL:https://westberkeleyfencing.com/event/open-bouting-2/2026-05-14
LOCATION:West Berkeley Fencing Club\, 1111 Addison Street\, Berkeley\, CA\, 94706\, United States
CATEGORIES:Open Fencing
GEO:37.8684577;-122.2913141
X-APPLE-STRUCTURED-LOCATION;VALUE=URI;X-ADDRESS=West Berkeley Fencing Club 1111 Addison Street Berkeley CA 94706 United States;X-APPLE-RADIUS=500;X-TITLE=1111 Addison Street:geo:-122.2913141,37.8684577
END:VEVENT
BEGIN:VEVENT
DTSTART;TZID=America/Los_Angeles:20260516T130000
DTEND;TZID=America/Los_Angeles:20260516T150000
DTSTAMP:20260425T052636
CREATED:20240902T023030Z
LAST-MODIFIED:20260326T004647Z
UID:10002722-1778936400-1778943600@westberkeleyfencing.com
SUMMARY:Open Bouting
DESCRIPTION:Open floor time for electric bouting.\nFor ages 12+ with their own equipment and prior fencing experience.\nNon-Members: $25
URL:https://westberkeleyfencing.com/event/open-bouting-3/2026-05-16
LOCATION:West Berkeley Fencing Club\, 1111 Addison Street\, Berkeley\, CA\, 94706\, United States
CATEGORIES:Open Fencing
GEO:37.8684577;-122.2913141
X-APPLE-STRUCTURED-LOCATION;VALUE=URI;X-ADDRESS=West Berkeley Fencing Club 1111 Addison Street Berkeley CA 94706 United States;X-APPLE-RADIUS=500;X-TITLE=1111 Addison Street:geo:-122.2913141,37.8684577
END:VEVENT
BEGIN:VEVENT
DTSTART;TZID=America/Los_Angeles:20260519T203000
DTEND;TZID=America/Los_Angeles:20260519T220000
DTSTAMP:20260425T052636
CREATED:20240902T024222Z
LAST-MODIFIED:20251121T052336Z
UID:10003055-1779222600-1779228000@westberkeleyfencing.com
SUMMARY:Open Bouting
DESCRIPTION:Open floor time for electric bouting.\nFor ages 12+ with their own equipment and prior fencing experience.\nNon-Members: $25
URL:https://westberkeleyfencing.com/event/open-bouting-2/2026-05-19
LOCATION:West Berkeley Fencing Club\, 1111 Addison Street\, Berkeley\, CA\, 94706\, United States
CATEGORIES:Open Fencing
GEO:37.8684577;-122.2913141
X-APPLE-STRUCTURED-LOCATION;VALUE=URI;X-ADDRESS=West Berkeley Fencing Club 1111 Addison Street Berkeley CA 94706 United States;X-APPLE-RADIUS=500;X-TITLE=1111 Addison Street:geo:-122.2913141,37.8684577
END:VEVENT
BEGIN:VEVENT
DTSTART;TZID=America/Los_Angeles:20260521T203000
DTEND;TZID=America/Los_Angeles:20260521T220000
DTSTAMP:20260425T052636
CREATED:20240902T024222Z
LAST-MODIFIED:20251121T052336Z
UID:10003056-1779395400-1779400800@westberkeleyfencing.com
SUMMARY:Open Bouting
DESCRIPTION:Open floor time for electric bouting.\nFor ages 12+ with their own equipment and prior fencing experience.\nNon-Members: $25
URL:https://westberkeleyfencing.com/event/open-bouting-2/2026-05-21
LOCATION:West Berkeley Fencing Club\, 1111 Addison Street\, Berkeley\, CA\, 94706\, United States
CATEGORIES:Open Fencing
GEO:37.8684577;-122.2913141
X-APPLE-STRUCTURED-LOCATION;VALUE=URI;X-ADDRESS=West Berkeley Fencing Club 1111 Addison Street Berkeley CA 94706 United States;X-APPLE-RADIUS=500;X-TITLE=1111 Addison Street:geo:-122.2913141,37.8684577
END:VEVENT
BEGIN:VEVENT
DTSTART;TZID=America/Los_Angeles:20260523T130000
DTEND;TZID=America/Los_Angeles:20260523T150000
DTSTAMP:20260425T052636
CREATED:20240902T023030Z
LAST-MODIFIED:20260326T004647Z
UID:10002723-1779541200-1779548400@westberkeleyfencing.com
SUMMARY:Open Bouting
DESCRIPTION:Open floor time for electric bouting.\nFor ages 12+ with their own equipment and prior fencing experience.\nNon-Members: $25
URL:https://westberkeleyfencing.com/event/open-bouting-3/2026-05-23
LOCATION:West Berkeley Fencing Club\, 1111 Addison Street\, Berkeley\, CA\, 94706\, United States
CATEGORIES:Open Fencing
GEO:37.8684577;-122.2913141
X-APPLE-STRUCTURED-LOCATION;VALUE=URI;X-ADDRESS=West Berkeley Fencing Club 1111 Addison Street Berkeley CA 94706 United States;X-APPLE-RADIUS=500;X-TITLE=1111 Addison Street:geo:-122.2913141,37.8684577
END:VEVENT
BEGIN:VEVENT
DTSTART;TZID=America/Los_Angeles:20260526T203000
DTEND;TZID=America/Los_Angeles:20260526T220000
DTSTAMP:20260425T052636
CREATED:20240902T024222Z
LAST-MODIFIED:20251121T052336Z
UID:10003057-1779827400-1779832800@westberkeleyfencing.com
SUMMARY:Open Bouting
DESCRIPTION:Open floor time for electric bouting.\nFor ages 12+ with their own equipment and prior fencing experience.\nNon-Members: $25
URL:https://westberkeleyfencing.com/event/open-bouting-2/2026-05-26
LOCATION:West Berkeley Fencing Club\, 1111 Addison Street\, Berkeley\, CA\, 94706\, United States
CATEGORIES:Open Fencing
GEO:37.8684577;-122.2913141
X-APPLE-STRUCTURED-LOCATION;VALUE=URI;X-ADDRESS=West Berkeley Fencing Club 1111 Addison Street Berkeley CA 94706 United States;X-APPLE-RADIUS=500;X-TITLE=1111 Addison Street:geo:-122.2913141,37.8684577
END:VEVENT
BEGIN:VEVENT
DTSTART;TZID=America/Los_Angeles:20260528T203000
DTEND;TZID=America/Los_Angeles:20260528T220000
DTSTAMP:20260425T052636
CREATED:20240902T024222Z
LAST-MODIFIED:20251121T052336Z
UID:10003058-1780000200-1780005600@westberkeleyfencing.com
SUMMARY:Open Bouting
DESCRIPTION:Open floor time for electric bouting.\nFor ages 12+ with their own equipment and prior fencing experience.\nNon-Members: $25
URL:https://westberkeleyfencing.com/event/open-bouting-2/2026-05-28
LOCATION:West Berkeley Fencing Club\, 1111 Addison Street\, Berkeley\, CA\, 94706\, United States
CATEGORIES:Open Fencing
GEO:37.8684577;-122.2913141
X-APPLE-STRUCTURED-LOCATION;VALUE=URI;X-ADDRESS=West Berkeley Fencing Club 1111 Addison Street Berkeley CA 94706 United States;X-APPLE-RADIUS=500;X-TITLE=1111 Addison Street:geo:-122.2913141,37.8684577
END:VEVENT
BEGIN:VEVENT
DTSTART;TZID=America/Los_Angeles:20260530T130000
DTEND;TZID=America/Los_Angeles:20260530T150000
DTSTAMP:20260425T052636
CREATED:20240902T023030Z
LAST-MODIFIED:20260326T004647Z
UID:10002724-1780146000-1780153200@westberkeleyfencing.com
SUMMARY:Open Bouting
DESCRIPTION:Open floor time for electric bouting.\nFor ages 12+ with their own equipment and prior fencing experience.\nNon-Members: $25
URL:https://westberkeleyfencing.com/event/open-bouting-3/2026-05-30
LOCATION:West Berkeley Fencing Club\, 1111 Addison Street\, Berkeley\, CA\, 94706\, United States
CATEGORIES:Open Fencing
GEO:37.8684577;-122.2913141
X-APPLE-STRUCTURED-LOCATION;VALUE=URI;X-ADDRESS=West Berkeley Fencing Club 1111 Addison Street Berkeley CA 94706 United States;X-APPLE-RADIUS=500;X-TITLE=1111 Addison Street:geo:-122.2913141,37.8684577
END:VEVENT
BEGIN:VEVENT
DTSTART;TZID=America/Los_Angeles:20260602T203000
DTEND;TZID=America/Los_Angeles:20260602T220000
DTSTAMP:20260425T052636
CREATED:20240902T024222Z
LAST-MODIFIED:20251121T052336Z
UID:10003059-1780432200-1780437600@westberkeleyfencing.com
SUMMARY:Open Bouting
DESCRIPTION:Open floor time for electric bouting.\nFor ages 12+ with their own equipment and prior fencing experience.\nNon-Members: $25
URL:https://westberkeleyfencing.com/event/open-bouting-2/2026-06-02
LOCATION:West Berkeley Fencing Club\, 1111 Addison Street\, Berkeley\, CA\, 94706\, United States
CATEGORIES:Open Fencing
GEO:37.8684577;-122.2913141
X-APPLE-STRUCTURED-LOCATION;VALUE=URI;X-ADDRESS=West Berkeley Fencing Club 1111 Addison Street Berkeley CA 94706 United States;X-APPLE-RADIUS=500;X-TITLE=1111 Addison Street:geo:-122.2913141,37.8684577
END:VEVENT
BEGIN:VEVENT
DTSTART;TZID=America/Los_Angeles:20260604T203000
DTEND;TZID=America/Los_Angeles:20260604T220000
DTSTAMP:20260425T052636
CREATED:20240902T024222Z
LAST-MODIFIED:20251121T052336Z
UID:10003060-1780605000-1780610400@westberkeleyfencing.com
SUMMARY:Open Bouting
DESCRIPTION:Open floor time for electric bouting.\nFor ages 12+ with their own equipment and prior fencing experience.\nNon-Members: $25
URL:https://westberkeleyfencing.com/event/open-bouting-2/2026-06-04
LOCATION:West Berkeley Fencing Club\, 1111 Addison Street\, Berkeley\, CA\, 94706\, United States
CATEGORIES:Open Fencing
GEO:37.8684577;-122.2913141
X-APPLE-STRUCTURED-LOCATION;VALUE=URI;X-ADDRESS=West Berkeley Fencing Club 1111 Addison Street Berkeley CA 94706 United States;X-APPLE-RADIUS=500;X-TITLE=1111 Addison Street:geo:-122.2913141,37.8684577
END:VEVENT
BEGIN:VEVENT
DTSTART;TZID=America/Los_Angeles:20260606T130000
DTEND;TZID=America/Los_Angeles:20260606T150000
DTSTAMP:20260425T052636
CREATED:20240902T023030Z
LAST-MODIFIED:20260326T004647Z
UID:10002725-1780750800-1780758000@westberkeleyfencing.com
SUMMARY:Open Bouting
DESCRIPTION:Open floor time for electric bouting.\nFor ages 12+ with their own equipment and prior fencing experience.\nNon-Members: $25
URL:https://westberkeleyfencing.com/event/open-bouting-3/2026-06-06
LOCATION:West Berkeley Fencing Club\, 1111 Addison Street\, Berkeley\, CA\, 94706\, United States
CATEGORIES:Open Fencing
GEO:37.8684577;-122.2913141
X-APPLE-STRUCTURED-LOCATION;VALUE=URI;X-ADDRESS=West Berkeley Fencing Club 1111 Addison Street Berkeley CA 94706 United States;X-APPLE-RADIUS=500;X-TITLE=1111 Addison Street:geo:-122.2913141,37.8684577
END:VEVENT
BEGIN:VEVENT
DTSTART;TZID=America/Los_Angeles:20260609T203000
DTEND;TZID=America/Los_Angeles:20260609T220000
DTSTAMP:20260425T052636
CREATED:20240902T024222Z
LAST-MODIFIED:20251121T052336Z
UID:10003061-1781037000-1781042400@westberkeleyfencing.com
SUMMARY:Open Bouting
DESCRIPTION:Open floor time for electric bouting.\nFor ages 12+ with their own equipment and prior fencing experience.\nNon-Members: $25
URL:https://westberkeleyfencing.com/event/open-bouting-2/2026-06-09
LOCATION:West Berkeley Fencing Club\, 1111 Addison Street\, Berkeley\, CA\, 94706\, United States
CATEGORIES:Open Fencing
GEO:37.8684577;-122.2913141
X-APPLE-STRUCTURED-LOCATION;VALUE=URI;X-ADDRESS=West Berkeley Fencing Club 1111 Addison Street Berkeley CA 94706 United States;X-APPLE-RADIUS=500;X-TITLE=1111 Addison Street:geo:-122.2913141,37.8684577
END:VEVENT
BEGIN:VEVENT
DTSTART;TZID=America/Los_Angeles:20260611T203000
DTEND;TZID=America/Los_Angeles:20260611T220000
DTSTAMP:20260425T052636
CREATED:20240902T024222Z
LAST-MODIFIED:20251121T052336Z
UID:10003062-1781209800-1781215200@westberkeleyfencing.com
SUMMARY:Open Bouting
DESCRIPTION:Open floor time for electric bouting.\nFor ages 12+ with their own equipment and prior fencing experience.\nNon-Members: $25
URL:https://westberkeleyfencing.com/event/open-bouting-2/2026-06-11
LOCATION:West Berkeley Fencing Club\, 1111 Addison Street\, Berkeley\, CA\, 94706\, United States
CATEGORIES:Open Fencing
GEO:37.8684577;-122.2913141
X-APPLE-STRUCTURED-LOCATION;VALUE=URI;X-ADDRESS=West Berkeley Fencing Club 1111 Addison Street Berkeley CA 94706 United States;X-APPLE-RADIUS=500;X-TITLE=1111 Addison Street:geo:-122.2913141,37.8684577
END:VEVENT
BEGIN:VEVENT
DTSTART;TZID=America/Los_Angeles:20260613T130000
DTEND;TZID=America/Los_Angeles:20260613T150000
DTSTAMP:20260425T052636
CREATED:20240902T023030Z
LAST-MODIFIED:20260326T004647Z
UID:10002726-1781355600-1781362800@westberkeleyfencing.com
SUMMARY:Open Bouting
DESCRIPTION:Open floor time for electric bouting.\nFor ages 12+ with their own equipment and prior fencing experience.\nNon-Members: $25
URL:https://westberkeleyfencing.com/event/open-bouting-3/2026-06-13
LOCATION:West Berkeley Fencing Club\, 1111 Addison Street\, Berkeley\, CA\, 94706\, United States
CATEGORIES:Open Fencing
GEO:37.8684577;-122.2913141
X-APPLE-STRUCTURED-LOCATION;VALUE=URI;X-ADDRESS=West Berkeley Fencing Club 1111 Addison Street Berkeley CA 94706 United States;X-APPLE-RADIUS=500;X-TITLE=1111 Addison Street:geo:-122.2913141,37.8684577
END:VEVENT
BEGIN:VEVENT
DTSTART;TZID=America/Los_Angeles:20260616T203000
DTEND;TZID=America/Los_Angeles:20260616T220000
DTSTAMP:20260425T052636
CREATED:20240902T024222Z
LAST-MODIFIED:20251121T052336Z
UID:10003063-1781641800-1781647200@westberkeleyfencing.com
SUMMARY:Open Bouting
DESCRIPTION:Open floor time for electric bouting.\nFor ages 12+ with their own equipment and prior fencing experience.\nNon-Members: $25
URL:https://westberkeleyfencing.com/event/open-bouting-2/2026-06-16
LOCATION:West Berkeley Fencing Club\, 1111 Addison Street\, Berkeley\, CA\, 94706\, United States
CATEGORIES:Open Fencing
GEO:37.8684577;-122.2913141
X-APPLE-STRUCTURED-LOCATION;VALUE=URI;X-ADDRESS=West Berkeley Fencing Club 1111 Addison Street Berkeley CA 94706 United States;X-APPLE-RADIUS=500;X-TITLE=1111 Addison Street:geo:-122.2913141,37.8684577
END:VEVENT
BEGIN:VEVENT
DTSTART;TZID=America/Los_Angeles:20260618T203000
DTEND;TZID=America/Los_Angeles:20260618T220000
DTSTAMP:20260425T052636
CREATED:20240902T024222Z
LAST-MODIFIED:20251121T052336Z
UID:10003064-1781814600-1781820000@westberkeleyfencing.com
SUMMARY:Open Bouting
DESCRIPTION:Open floor time for electric bouting.\nFor ages 12+ with their own equipment and prior fencing experience.\nNon-Members: $25
URL:https://westberkeleyfencing.com/event/open-bouting-2/2026-06-18
LOCATION:West Berkeley Fencing Club\, 1111 Addison Street\, Berkeley\, CA\, 94706\, United States
CATEGORIES:Open Fencing
GEO:37.8684577;-122.2913141
X-APPLE-STRUCTURED-LOCATION;VALUE=URI;X-ADDRESS=West Berkeley Fencing Club 1111 Addison Street Berkeley CA 94706 United States;X-APPLE-RADIUS=500;X-TITLE=1111 Addison Street:geo:-122.2913141,37.8684577
END:VEVENT
BEGIN:VEVENT
DTSTART;TZID=America/Los_Angeles:20260620T130000
DTEND;TZID=America/Los_Angeles:20260620T150000
DTSTAMP:20260425T052636
CREATED:20240902T023030Z
LAST-MODIFIED:20260326T004647Z
UID:10002727-1781960400-1781967600@westberkeleyfencing.com
SUMMARY:Open Bouting
DESCRIPTION:Open floor time for electric bouting.\nFor ages 12+ with their own equipment and prior fencing experience.\nNon-Members: $25
URL:https://westberkeleyfencing.com/event/open-bouting-3/2026-06-20
LOCATION:West Berkeley Fencing Club\, 1111 Addison Street\, Berkeley\, CA\, 94706\, United States
CATEGORIES:Open Fencing
GEO:37.8684577;-122.2913141
X-APPLE-STRUCTURED-LOCATION;VALUE=URI;X-ADDRESS=West Berkeley Fencing Club 1111 Addison Street Berkeley CA 94706 United States;X-APPLE-RADIUS=500;X-TITLE=1111 Addison Street:geo:-122.2913141,37.8684577
END:VEVENT
BEGIN:VEVENT
DTSTART;TZID=America/Los_Angeles:20260623T203000
DTEND;TZID=America/Los_Angeles:20260623T220000
DTSTAMP:20260425T052636
CREATED:20240902T024222Z
LAST-MODIFIED:20251121T052336Z
UID:10003065-1782246600-1782252000@westberkeleyfencing.com
SUMMARY:Open Bouting
DESCRIPTION:Open floor time for electric bouting.\nFor ages 12+ with their own equipment and prior fencing experience.\nNon-Members: $25
URL:https://westberkeleyfencing.com/event/open-bouting-2/2026-06-23
LOCATION:West Berkeley Fencing Club\, 1111 Addison Street\, Berkeley\, CA\, 94706\, United States
CATEGORIES:Open Fencing
GEO:37.8684577;-122.2913141
X-APPLE-STRUCTURED-LOCATION;VALUE=URI;X-ADDRESS=West Berkeley Fencing Club 1111 Addison Street Berkeley CA 94706 United States;X-APPLE-RADIUS=500;X-TITLE=1111 Addison Street:geo:-122.2913141,37.8684577
END:VEVENT
BEGIN:VEVENT
DTSTART;TZID=America/Los_Angeles:20260625T203000
DTEND;TZID=America/Los_Angeles:20260625T220000
DTSTAMP:20260425T052636
CREATED:20240902T024222Z
LAST-MODIFIED:20251121T052336Z
UID:10003066-1782419400-1782424800@westberkeleyfencing.com
SUMMARY:Open Bouting
DESCRIPTION:Open floor time for electric bouting.\nFor ages 12+ with their own equipment and prior fencing experience.\nNon-Members: $25
URL:https://westberkeleyfencing.com/event/open-bouting-2/2026-06-25
LOCATION:West Berkeley Fencing Club\, 1111 Addison Street\, Berkeley\, CA\, 94706\, United States
CATEGORIES:Open Fencing
GEO:37.8684577;-122.2913141
X-APPLE-STRUCTURED-LOCATION;VALUE=URI;X-ADDRESS=West Berkeley Fencing Club 1111 Addison Street Berkeley CA 94706 United States;X-APPLE-RADIUS=500;X-TITLE=1111 Addison Street:geo:-122.2913141,37.8684577
END:VEVENT
BEGIN:VEVENT
DTSTART;TZID=America/Los_Angeles:20260627T130000
DTEND;TZID=America/Los_Angeles:20260627T150000
DTSTAMP:20260425T052636
CREATED:20240902T023030Z
LAST-MODIFIED:20260326T004647Z
UID:10002728-1782565200-1782572400@westberkeleyfencing.com
SUMMARY:Open Bouting
DESCRIPTION:Open floor time for electric bouting.\nFor ages 12+ with their own equipment and prior fencing experience.\nNon-Members: $25
URL:https://westberkeleyfencing.com/event/open-bouting-3/2026-06-27
LOCATION:West Berkeley Fencing Club\, 1111 Addison Street\, Berkeley\, CA\, 94706\, United States
CATEGORIES:Open Fencing
GEO:37.8684577;-122.2913141
X-APPLE-STRUCTURED-LOCATION;VALUE=URI;X-ADDRESS=West Berkeley Fencing Club 1111 Addison Street Berkeley CA 94706 United States;X-APPLE-RADIUS=500;X-TITLE=1111 Addison Street:geo:-122.2913141,37.8684577
END:VEVENT
BEGIN:VEVENT
DTSTART;TZID=America/Los_Angeles:20260630T203000
DTEND;TZID=America/Los_Angeles:20260630T220000
DTSTAMP:20260425T052636
CREATED:20240902T024222Z
LAST-MODIFIED:20251121T052336Z
UID:10003067-1782851400-1782856800@westberkeleyfencing.com
SUMMARY:Open Bouting
DESCRIPTION:Open floor time for electric bouting.\nFor ages 12+ with their own equipment and prior fencing experience.\nNon-Members: $25
URL:https://westberkeleyfencing.com/event/open-bouting-2/2026-06-30
LOCATION:West Berkeley Fencing Club\, 1111 Addison Street\, Berkeley\, CA\, 94706\, United States
CATEGORIES:Open Fencing
GEO:37.8684577;-122.2913141
X-APPLE-STRUCTURED-LOCATION;VALUE=URI;X-ADDRESS=West Berkeley Fencing Club 1111 Addison Street Berkeley CA 94706 United States;X-APPLE-RADIUS=500;X-TITLE=1111 Addison Street:geo:-122.2913141,37.8684577
END:VEVENT
BEGIN:VEVENT
DTSTART;TZID=America/Los_Angeles:20260702T203000
DTEND;TZID=America/Los_Angeles:20260702T220000
DTSTAMP:20260425T052636
CREATED:20240902T024222Z
LAST-MODIFIED:20251121T052336Z
UID:10003068-1783024200-1783029600@westberkeleyfencing.com
SUMMARY:Open Bouting
DESCRIPTION:Open floor time for electric bouting.\nFor ages 12+ with their own equipment and prior fencing experience.\nNon-Members: $25
URL:https://westberkeleyfencing.com/event/open-bouting-2/2026-07-02
LOCATION:West Berkeley Fencing Club\, 1111 Addison Street\, Berkeley\, CA\, 94706\, United States
CATEGORIES:Open Fencing
GEO:37.8684577;-122.2913141
X-APPLE-STRUCTURED-LOCATION;VALUE=URI;X-ADDRESS=West Berkeley Fencing Club 1111 Addison Street Berkeley CA 94706 United States;X-APPLE-RADIUS=500;X-TITLE=1111 Addison Street:geo:-122.2913141,37.8684577
END:VEVENT
BEGIN:VEVENT
DTSTART;TZID=America/Los_Angeles:20260707T203000
DTEND;TZID=America/Los_Angeles:20260707T220000
DTSTAMP:20260425T052636
CREATED:20240902T024222Z
LAST-MODIFIED:20251121T052336Z
UID:10003069-1783456200-1783461600@westberkeleyfencing.com
SUMMARY:Open Bouting
DESCRIPTION:Open floor time for electric bouting.\nFor ages 12+ with their own equipment and prior fencing experience.\nNon-Members: $25
URL:https://westberkeleyfencing.com/event/open-bouting-2/2026-07-07
LOCATION:West Berkeley Fencing Club\, 1111 Addison Street\, Berkeley\, CA\, 94706\, United States
CATEGORIES:Open Fencing
GEO:37.8684577;-122.2913141
X-APPLE-STRUCTURED-LOCATION;VALUE=URI;X-ADDRESS=West Berkeley Fencing Club 1111 Addison Street Berkeley CA 94706 United States;X-APPLE-RADIUS=500;X-TITLE=1111 Addison Street:geo:-122.2913141,37.8684577
END:VEVENT
BEGIN:VEVENT
DTSTART;TZID=America/Los_Angeles:20260709T203000
DTEND;TZID=America/Los_Angeles:20260709T220000
DTSTAMP:20260425T052636
CREATED:20240902T024222Z
LAST-MODIFIED:20251121T052336Z
UID:10003070-1783629000-1783634400@westberkeleyfencing.com
SUMMARY:Open Bouting
DESCRIPTION:Open floor time for electric bouting.\nFor ages 12+ with their own equipment and prior fencing experience.\nNon-Members: $25
URL:https://westberkeleyfencing.com/event/open-bouting-2/2026-07-09
LOCATION:West Berkeley Fencing Club\, 1111 Addison Street\, Berkeley\, CA\, 94706\, United States
CATEGORIES:Open Fencing
GEO:37.8684577;-122.2913141
X-APPLE-STRUCTURED-LOCATION;VALUE=URI;X-ADDRESS=West Berkeley Fencing Club 1111 Addison Street Berkeley CA 94706 United States;X-APPLE-RADIUS=500;X-TITLE=1111 Addison Street:geo:-122.2913141,37.8684577
END:VEVENT
END:VCALENDAR