BEGIN:VCALENDAR
VERSION:2.0
PRODID:-//West Berkeley Fencing Club - ECPv6.15.18//NONSGML v1.0//EN
CALSCALE:GREGORIAN
METHOD:PUBLISH
X-ORIGINAL-URL:https://westberkeleyfencing.com
X-WR-CALDESC:Events for West Berkeley Fencing Club
REFRESH-INTERVAL;VALUE=DURATION:PT1H
X-Robots-Tag:noindex
X-PUBLISHED-TTL:PT1H
BEGIN:VTIMEZONE
TZID:America/Los_Angeles
BEGIN:DAYLIGHT
TZOFFSETFROM:-0800
TZOFFSETTO:-0700
TZNAME:PDT
DTSTART:20230312T100000
END:DAYLIGHT
BEGIN:STANDARD
TZOFFSETFROM:-0700
TZOFFSETTO:-0800
TZNAME:PST
DTSTART:20231105T090000
END:STANDARD
BEGIN:DAYLIGHT
TZOFFSETFROM:-0800
TZOFFSETTO:-0700
TZNAME:PDT
DTSTART:20240310T100000
END:DAYLIGHT
BEGIN:STANDARD
TZOFFSETFROM:-0700
TZOFFSETTO:-0800
TZNAME:PST
DTSTART:20241103T090000
END:STANDARD
BEGIN:DAYLIGHT
TZOFFSETFROM:-0800
TZOFFSETTO:-0700
TZNAME:PDT
DTSTART:20250309T100000
END:DAYLIGHT
BEGIN:STANDARD
TZOFFSETFROM:-0700
TZOFFSETTO:-0800
TZNAME:PST
DTSTART:20251102T090000
END:STANDARD
END:VTIMEZONE
BEGIN:VEVENT
DTSTART;TZID=America/Los_Angeles:20241028T180000
DTEND;TZID=America/Los_Angeles:20241028T203000
DTSTAMP:20260425T155212
CREATED:20240902T060322Z
LAST-MODIFIED:20250518T220402Z
UID:10003510-1730138400-1730147400@westberkeleyfencing.com
SUMMARY:Foil Team
DESCRIPTION:Foil-specific training for our experienced Junior+ Team Members.\nAthletes must have coach approval to join and their own electric gear
URL:https://westberkeleyfencing.com/event/jr-foil-team-2-2/2024-10-28
LOCATION:West Berkeley Fencing Club\, 1111 Addison Street\, Berkeley\, CA\, 94706\, United States
CATEGORIES:Jr. Team
GEO:37.8684577;-122.2913141
X-APPLE-STRUCTURED-LOCATION;VALUE=URI;X-ADDRESS=West Berkeley Fencing Club 1111 Addison Street Berkeley CA 94706 United States;X-APPLE-RADIUS=500;X-TITLE=1111 Addison Street:geo:-122.2913141,37.8684577
END:VEVENT
BEGIN:VEVENT
DTSTART;TZID=America/Los_Angeles:20241028T180000
DTEND;TZID=America/Los_Angeles:20241028T203000
DTSTAMP:20260425T155212
CREATED:20241011T002226Z
LAST-MODIFIED:20250823T081855Z
UID:10001722-1730138400-1730147400@westberkeleyfencing.com
SUMMARY:Foil Team
DESCRIPTION:Foil-specific training for our experienced Junior+ Team Members.\nAthletes must have coach approval to join and their own electric gear
URL:https://westberkeleyfencing.com/event/jr-foil-team-2-2-2/2024-10-28
LOCATION:West Berkeley Fencing Club\, 1111 Addison Street\, Berkeley\, CA\, 94706\, United States
CATEGORIES:Jr. Team
GEO:37.8684577;-122.2913141
X-APPLE-STRUCTURED-LOCATION;VALUE=URI;X-ADDRESS=West Berkeley Fencing Club 1111 Addison Street Berkeley CA 94706 United States;X-APPLE-RADIUS=500;X-TITLE=1111 Addison Street:geo:-122.2913141,37.8684577
END:VEVENT
BEGIN:VEVENT
DTSTART;TZID=America/Los_Angeles:20241029T183000
DTEND;TZID=America/Los_Angeles:20241029T193000
DTSTAMP:20260425T155212
CREATED:20240902T061204Z
LAST-MODIFIED:20241227T232808Z
UID:10001776-1730226600-1730230200@westberkeleyfencing.com
SUMMARY:Team Bouting
DESCRIPTION:Electric bouting & lesson time for Youth Team & Junior+ Team Members.
URL:https://westberkeleyfencing.com/event/team-bouting-2-2/2024-10-29
LOCATION:West Berkeley Fencing Club\, 1111 Addison Street\, Berkeley\, CA\, 94706\, United States
CATEGORIES:Jr. Team
GEO:37.8684577;-122.2913141
X-APPLE-STRUCTURED-LOCATION;VALUE=URI;X-ADDRESS=West Berkeley Fencing Club 1111 Addison Street Berkeley CA 94706 United States;X-APPLE-RADIUS=500;X-TITLE=1111 Addison Street:geo:-122.2913141,37.8684577
END:VEVENT
BEGIN:VEVENT
DTSTART;TZID=America/Los_Angeles:20241030T170000
DTEND;TZID=America/Los_Angeles:20241030T183000
DTSTAMP:20260425T155212
CREATED:20240902T055659Z
LAST-MODIFIED:20250823T084148Z
UID:10001693-1730307600-1730313000@westberkeleyfencing.com
SUMMARY:Youth Team - Epée
DESCRIPTION:Youth Team program for our Youth Team Members ages 8-14 with prior experience.\nAthletes need full set of electric épée gear for participation.
URL:https://westberkeleyfencing.com/event/youth-epee-2/2024-10-30
LOCATION:West Berkeley Fencing Club\, 1111 Addison Street\, Berkeley\, CA\, 94706\, United States
CATEGORIES:Jr. Team,Youth Classes
GEO:37.8684577;-122.2913141
X-APPLE-STRUCTURED-LOCATION;VALUE=URI;X-ADDRESS=West Berkeley Fencing Club 1111 Addison Street Berkeley CA 94706 United States;X-APPLE-RADIUS=500;X-TITLE=1111 Addison Street:geo:-122.2913141,37.8684577
END:VEVENT
BEGIN:VEVENT
DTSTART;TZID=America/Los_Angeles:20241030T180000
DTEND;TZID=America/Los_Angeles:20241030T203000
DTSTAMP:20260425T155212
CREATED:20240902T060055Z
LAST-MODIFIED:20241227T231630Z
UID:10001708-1730311200-1730320200@westberkeleyfencing.com
SUMMARY:Epée Team
DESCRIPTION:Epée-specific training for our experienced Junior+ Team Members.\nAthletes must have coach approval to join and their own electric gear.
URL:https://westberkeleyfencing.com/event/jr-epee-team-3/2024-10-30
LOCATION:West Berkeley Fencing Club\, 1111 Addison Street\, Berkeley\, CA\, 94706\, United States
CATEGORIES:Jr. Team
GEO:37.8684577;-122.2913141
X-APPLE-STRUCTURED-LOCATION;VALUE=URI;X-ADDRESS=West Berkeley Fencing Club 1111 Addison Street Berkeley CA 94706 United States;X-APPLE-RADIUS=500;X-TITLE=1111 Addison Street:geo:-122.2913141,37.8684577
END:VEVENT
BEGIN:VEVENT
DTSTART;TZID=America/Los_Angeles:20241031T170000
DTEND;TZID=America/Los_Angeles:20241031T183000
DTSTAMP:20260425T155212
CREATED:20240902T063624Z
LAST-MODIFIED:20241227T235423Z
UID:10001807-1730394000-1730399400@westberkeleyfencing.com
SUMMARY:Youth Team - Foil & Epee
DESCRIPTION:Youth Team program for our Youth Team Members ages 8-14 with prior experience\nAthletes need full set of electric gear for participation.
URL:https://westberkeleyfencing.com/event/mixed-team-training/2024-10-31
LOCATION:West Berkeley Fencing Club\, 1111 Addison Street\, Berkeley\, CA\, 94706\, United States
CATEGORIES:Jr. Team
GEO:37.8684577;-122.2913141
X-APPLE-STRUCTURED-LOCATION;VALUE=URI;X-ADDRESS=West Berkeley Fencing Club 1111 Addison Street Berkeley CA 94706 United States;X-APPLE-RADIUS=500;X-TITLE=1111 Addison Street:geo:-122.2913141,37.8684577
END:VEVENT
END:VCALENDAR