BEGIN:VCALENDAR
VERSION:2.0
PRODID:-//West Berkeley Fencing Club - ECPv6.15.18//NONSGML v1.0//EN
CALSCALE:GREGORIAN
METHOD:PUBLISH
X-WR-CALNAME:West Berkeley Fencing Club
X-ORIGINAL-URL:https://westberkeleyfencing.com
X-WR-CALDESC:Events for West Berkeley Fencing Club
REFRESH-INTERVAL;VALUE=DURATION:PT1H
X-Robots-Tag:noindex
X-PUBLISHED-TTL:PT1H
BEGIN:VTIMEZONE
TZID:America/Los_Angeles
BEGIN:DAYLIGHT
TZOFFSETFROM:-0800
TZOFFSETTO:-0700
TZNAME:PDT
DTSTART:20200308T100000
END:DAYLIGHT
BEGIN:STANDARD
TZOFFSETFROM:-0700
TZOFFSETTO:-0800
TZNAME:PST
DTSTART:20201101T090000
END:STANDARD
BEGIN:DAYLIGHT
TZOFFSETFROM:-0800
TZOFFSETTO:-0700
TZNAME:PDT
DTSTART:20210314T100000
END:DAYLIGHT
BEGIN:STANDARD
TZOFFSETFROM:-0700
TZOFFSETTO:-0800
TZNAME:PST
DTSTART:20211107T090000
END:STANDARD
BEGIN:DAYLIGHT
TZOFFSETFROM:-0800
TZOFFSETTO:-0700
TZNAME:PDT
DTSTART:20220313T100000
END:DAYLIGHT
BEGIN:STANDARD
TZOFFSETFROM:-0700
TZOFFSETTO:-0800
TZNAME:PST
DTSTART:20221106T090000
END:STANDARD
BEGIN:DAYLIGHT
TZOFFSETFROM:-0800
TZOFFSETTO:-0700
TZNAME:PDT
DTSTART:20230312T100000
END:DAYLIGHT
BEGIN:STANDARD
TZOFFSETFROM:-0700
TZOFFSETTO:-0800
TZNAME:PST
DTSTART:20231105T090000
END:STANDARD
BEGIN:DAYLIGHT
TZOFFSETFROM:-0800
TZOFFSETTO:-0700
TZNAME:PDT
DTSTART:20240310T100000
END:DAYLIGHT
BEGIN:STANDARD
TZOFFSETFROM:-0700
TZOFFSETTO:-0800
TZNAME:PST
DTSTART:20241103T090000
END:STANDARD
BEGIN:DAYLIGHT
TZOFFSETFROM:-0800
TZOFFSETTO:-0700
TZNAME:PDT
DTSTART:20250309T100000
END:DAYLIGHT
BEGIN:STANDARD
TZOFFSETFROM:-0700
TZOFFSETTO:-0800
TZNAME:PST
DTSTART:20251102T090000
END:STANDARD
BEGIN:DAYLIGHT
TZOFFSETFROM:-0800
TZOFFSETTO:-0700
TZNAME:PDT
DTSTART:20260308T100000
END:DAYLIGHT
BEGIN:STANDARD
TZOFFSETFROM:-0700
TZOFFSETTO:-0800
TZNAME:PST
DTSTART:20261101T090000
END:STANDARD
BEGIN:DAYLIGHT
TZOFFSETFROM:-0800
TZOFFSETTO:-0700
TZNAME:PDT
DTSTART:20270314T100000
END:DAYLIGHT
BEGIN:STANDARD
TZOFFSETFROM:-0700
TZOFFSETTO:-0800
TZNAME:PST
DTSTART:20271107T090000
END:STANDARD
END:VTIMEZONE
BEGIN:VEVENT
DTSTART;VALUE=DATE:20260216
DTEND;VALUE=DATE:20260217
DTSTAMP:20260424T180524
CREATED:20220217T061315Z
LAST-MODIFIED:20260118T200049Z
UID:10000236-1771200000-1771286399@westberkeleyfencing.com
SUMMARY:Presidents Day
DESCRIPTION:WBFC is CLOSED
URL:https://westberkeleyfencing.com/event/presidents-day
LOCATION:West Berkeley Fencing Club\, 1111 Addison Street\, Berkeley\, CA\, 94706\, United States
CATEGORIES:Closure
GEO:37.8684577;-122.2913141
X-APPLE-STRUCTURED-LOCATION;VALUE=URI;X-ADDRESS=West Berkeley Fencing Club 1111 Addison Street Berkeley CA 94706 United States;X-APPLE-RADIUS=500;X-TITLE=1111 Addison Street:geo:-122.2913141,37.8684577
END:VEVENT
BEGIN:VEVENT
DTSTART;VALUE=DATE:20260119
DTEND;VALUE=DATE:20260120
DTSTAMP:20260424T180524
CREATED:20171128T040418Z
LAST-MODIFIED:20260118T200011Z
UID:10000588-1768780800-1768867199@westberkeleyfencing.com
SUMMARY:MLK Jr. Day
DESCRIPTION:WBFC is CLOSED
URL:https://westberkeleyfencing.com/event/mlk-jr-day
LOCATION:West Berkeley Fencing Club\, 1111 Addison Street\, Berkeley\, CA\, 94706\, United States
CATEGORIES:Closure
ATTACH;FMTTYPE=image/jpeg:https://westberkeleyfencing.com/wp-content/uploads/MLK.jpg
GEO:37.8684577;-122.2913141
X-APPLE-STRUCTURED-LOCATION;VALUE=URI;X-ADDRESS=West Berkeley Fencing Club 1111 Addison Street Berkeley CA 94706 United States;X-APPLE-RADIUS=500;X-TITLE=1111 Addison Street:geo:-122.2913141,37.8684577
END:VEVENT
BEGIN:VEVENT
DTSTART;VALUE=DATE:20251126
DTEND;VALUE=DATE:20251128
DTSTAMP:20260424T180524
CREATED:20240902T063229Z
LAST-MODIFIED:20251121T052417Z
UID:10000401-1764115200-1764287999@westberkeleyfencing.com
SUMMARY:CLOSED
DESCRIPTION:Happy Thanksgiving!
URL:https://westberkeleyfencing.com/event/closed-3-2
LOCATION:West Berkeley Fencing Club\, 1111 Addison Street\, Berkeley\, CA\, 94706\, United States
CATEGORIES:Closure
GEO:37.8684577;-122.2913141
X-APPLE-STRUCTURED-LOCATION;VALUE=URI;X-ADDRESS=West Berkeley Fencing Club 1111 Addison Street Berkeley CA 94706 United States;X-APPLE-RADIUS=500;X-TITLE=1111 Addison Street:geo:-122.2913141,37.8684577
END:VEVENT
BEGIN:VEVENT
DTSTART;VALUE=DATE:20251013
DTEND;VALUE=DATE:20251014
DTSTAMP:20260424T180524
CREATED:20171012T194246Z
LAST-MODIFIED:20250923T233920Z
UID:10000402-1760313600-1760399999@westberkeleyfencing.com
SUMMARY:CLOSED
DESCRIPTION:West Berkeley is CLOSED for Indigenous Peoples Day
URL:https://westberkeleyfencing.com/event/closed
LOCATION:West Berkeley Fencing Club\, 1111 Addison Street\, Berkeley\, CA\, 94706\, United States
CATEGORIES:Closure
GEO:37.8684577;-122.2913141
X-APPLE-STRUCTURED-LOCATION;VALUE=URI;X-ADDRESS=West Berkeley Fencing Club 1111 Addison Street Berkeley CA 94706 United States;X-APPLE-RADIUS=500;X-TITLE=1111 Addison Street:geo:-122.2913141,37.8684577
END:VEVENT
BEGIN:VEVENT
DTSTART;VALUE=DATE:20250901
DTEND;VALUE=DATE:20250902
DTSTAMP:20260424T180524
CREATED:20231031T222118Z
LAST-MODIFIED:20250823T084327Z
UID:10001333-1756684800-1756771199@westberkeleyfencing.com
SUMMARY:CLOSED
DESCRIPTION:West Berkeley is observing Labor Day
URL:https://westberkeleyfencing.com/event/closed-4
LOCATION:West Berkeley Fencing Club\, 1111 Addison Street\, Berkeley\, CA\, 94706\, United States
CATEGORIES:Closure
ATTACH;FMTTYPE=image/gif:https://westberkeleyfencing.com/wp-content/uploads/Honor-Labor.gif
GEO:37.8684577;-122.2913141
X-APPLE-STRUCTURED-LOCATION;VALUE=URI;X-ADDRESS=West Berkeley Fencing Club 1111 Addison Street Berkeley CA 94706 United States;X-APPLE-RADIUS=500;X-TITLE=1111 Addison Street:geo:-122.2913141,37.8684577
END:VEVENT
BEGIN:VEVENT
DTSTART;VALUE=DATE:20250630
DTEND;VALUE=DATE:20250711
DTSTAMP:20260424T180524
CREATED:20250518T164517Z
LAST-MODIFIED:20250518T164518Z
UID:10000190-1751241600-1752191999@westberkeleyfencing.com
SUMMARY:CLOSED
DESCRIPTION:We’re in Milwaukee Wisconsin for the Summer National Championships. Join us for classes and bouting when we return July 12th.
URL:https://westberkeleyfencing.com/event/closed-summer-nationals-2
LOCATION:West Berkeley Fencing Club\, 1111 Addison Street\, Berkeley\, CA\, 94706\, United States
CATEGORIES:Closure
GEO:37.8684577;-122.2913141
X-APPLE-STRUCTURED-LOCATION;VALUE=URI;X-ADDRESS=West Berkeley Fencing Club 1111 Addison Street Berkeley CA 94706 United States;X-APPLE-RADIUS=500;X-TITLE=1111 Addison Street:geo:-122.2913141,37.8684577
END:VEVENT
BEGIN:VEVENT
DTSTART;VALUE=DATE:20250526
DTEND;VALUE=DATE:20250527
DTSTAMP:20260424T180524
CREATED:20250518T215404Z
LAST-MODIFIED:20250518T215404Z
UID:10004880-1748217600-1748303999@westberkeleyfencing.com
SUMMARY:CLOSED
DESCRIPTION:WBFC will be closed for Memorial Day.
URL:https://westberkeleyfencing.com/event/closed-9
LOCATION:West Berkeley Fencing Club\, 1111 Addison Street\, Berkeley\, CA\, 94706\, United States
CATEGORIES:Closure
GEO:37.8684577;-122.2913141
X-APPLE-STRUCTURED-LOCATION;VALUE=URI;X-ADDRESS=West Berkeley Fencing Club 1111 Addison Street Berkeley CA 94706 United States;X-APPLE-RADIUS=500;X-TITLE=1111 Addison Street:geo:-122.2913141,37.8684577
END:VEVENT
BEGIN:VEVENT
DTSTART;VALUE=DATE:20241224
DTEND;VALUE=DATE:20250104
DTSTAMP:20260424T180524
CREATED:20241227T211458Z
LAST-MODIFIED:20251121T055210Z
UID:10000628-1734998400-1735948799@westberkeleyfencing.com
SUMMARY:Winter Break
DESCRIPTION:CLOSED December 22-27th
URL:https://westberkeleyfencing.com/event/winter-break-2
LOCATION:West Berkeley Fencing Club\, 1111 Addison Street\, Berkeley\, CA\, 94706\, United States
CATEGORIES:Closure
GEO:37.8684577;-122.2913141
X-APPLE-STRUCTURED-LOCATION;VALUE=URI;X-ADDRESS=West Berkeley Fencing Club 1111 Addison Street Berkeley CA 94706 United States;X-APPLE-RADIUS=500;X-TITLE=1111 Addison Street:geo:-122.2913141,37.8684577
END:VEVENT
BEGIN:VEVENT
DTSTART;VALUE=DATE:20240711
DTEND;VALUE=DATE:20240712
DTSTAMP:20260424T180524
CREATED:20220620T170948Z
LAST-MODIFIED:20240228T234812Z
UID:10000189-1720656000-1720742399@westberkeleyfencing.com
SUMMARY:CLOSED
DESCRIPTION:We’re in Columbus Ohio for the Summer National Championships. Join us for classes and bouting when we return July 13th.
URL:https://westberkeleyfencing.com/event/closed-summer-nationals/2024-07-11
LOCATION:West Berkeley Fencing Club\, 1111 Addison Street\, Berkeley\, CA\, 94706\, United States
CATEGORIES:Closure
GEO:37.8684577;-122.2913141
X-APPLE-STRUCTURED-LOCATION;VALUE=URI;X-ADDRESS=West Berkeley Fencing Club 1111 Addison Street Berkeley CA 94706 United States;X-APPLE-RADIUS=500;X-TITLE=1111 Addison Street:geo:-122.2913141,37.8684577
END:VEVENT
BEGIN:VEVENT
DTSTART;VALUE=DATE:20240710
DTEND;VALUE=DATE:20240711
DTSTAMP:20260424T180524
CREATED:20220620T170948Z
LAST-MODIFIED:20240228T234812Z
UID:10000188-1720569600-1720655999@westberkeleyfencing.com
SUMMARY:CLOSED
DESCRIPTION:We’re in Columbus Ohio for the Summer National Championships. Join us for classes and bouting when we return July 13th.
URL:https://westberkeleyfencing.com/event/closed-summer-nationals/2024-07-10
LOCATION:West Berkeley Fencing Club\, 1111 Addison Street\, Berkeley\, CA\, 94706\, United States
CATEGORIES:Closure
GEO:37.8684577;-122.2913141
X-APPLE-STRUCTURED-LOCATION;VALUE=URI;X-ADDRESS=West Berkeley Fencing Club 1111 Addison Street Berkeley CA 94706 United States;X-APPLE-RADIUS=500;X-TITLE=1111 Addison Street:geo:-122.2913141,37.8684577
END:VEVENT
BEGIN:VEVENT
DTSTART;VALUE=DATE:20240709
DTEND;VALUE=DATE:20240710
DTSTAMP:20260424T180524
CREATED:20220620T170948Z
LAST-MODIFIED:20240228T234812Z
UID:10000187-1720483200-1720569599@westberkeleyfencing.com
SUMMARY:CLOSED
DESCRIPTION:We’re in Columbus Ohio for the Summer National Championships. Join us for classes and bouting when we return July 13th.
URL:https://westberkeleyfencing.com/event/closed-summer-nationals/2024-07-09
LOCATION:West Berkeley Fencing Club\, 1111 Addison Street\, Berkeley\, CA\, 94706\, United States
CATEGORIES:Closure
GEO:37.8684577;-122.2913141
X-APPLE-STRUCTURED-LOCATION;VALUE=URI;X-ADDRESS=West Berkeley Fencing Club 1111 Addison Street Berkeley CA 94706 United States;X-APPLE-RADIUS=500;X-TITLE=1111 Addison Street:geo:-122.2913141,37.8684577
END:VEVENT
BEGIN:VEVENT
DTSTART;VALUE=DATE:20240708
DTEND;VALUE=DATE:20240709
DTSTAMP:20260424T180524
CREATED:20220620T170948Z
LAST-MODIFIED:20240228T234812Z
UID:10000186-1720396800-1720483199@westberkeleyfencing.com
SUMMARY:CLOSED
DESCRIPTION:We’re in Columbus Ohio for the Summer National Championships. Join us for classes and bouting when we return July 13th.
URL:https://westberkeleyfencing.com/event/closed-summer-nationals/2024-07-08
LOCATION:West Berkeley Fencing Club\, 1111 Addison Street\, Berkeley\, CA\, 94706\, United States
CATEGORIES:Closure
GEO:37.8684577;-122.2913141
X-APPLE-STRUCTURED-LOCATION;VALUE=URI;X-ADDRESS=West Berkeley Fencing Club 1111 Addison Street Berkeley CA 94706 United States;X-APPLE-RADIUS=500;X-TITLE=1111 Addison Street:geo:-122.2913141,37.8684577
END:VEVENT
BEGIN:VEVENT
DTSTART;VALUE=DATE:20240707
DTEND;VALUE=DATE:20240708
DTSTAMP:20260424T180524
CREATED:20220620T170948Z
LAST-MODIFIED:20240228T234812Z
UID:10000185-1720310400-1720396799@westberkeleyfencing.com
SUMMARY:CLOSED
DESCRIPTION:We’re in Columbus Ohio for the Summer National Championships. Join us for classes and bouting when we return July 13th.
URL:https://westberkeleyfencing.com/event/closed-summer-nationals/2024-07-07
LOCATION:West Berkeley Fencing Club\, 1111 Addison Street\, Berkeley\, CA\, 94706\, United States
CATEGORIES:Closure
GEO:37.8684577;-122.2913141
X-APPLE-STRUCTURED-LOCATION;VALUE=URI;X-ADDRESS=West Berkeley Fencing Club 1111 Addison Street Berkeley CA 94706 United States;X-APPLE-RADIUS=500;X-TITLE=1111 Addison Street:geo:-122.2913141,37.8684577
END:VEVENT
BEGIN:VEVENT
DTSTART;VALUE=DATE:20240706
DTEND;VALUE=DATE:20240707
DTSTAMP:20260424T180524
CREATED:20220620T170948Z
LAST-MODIFIED:20240228T234812Z
UID:10000184-1720224000-1720310399@westberkeleyfencing.com
SUMMARY:CLOSED
DESCRIPTION:We’re in Columbus Ohio for the Summer National Championships. Join us for classes and bouting when we return July 13th.
URL:https://westberkeleyfencing.com/event/closed-summer-nationals/2024-07-06
LOCATION:West Berkeley Fencing Club\, 1111 Addison Street\, Berkeley\, CA\, 94706\, United States
CATEGORIES:Closure
GEO:37.8684577;-122.2913141
X-APPLE-STRUCTURED-LOCATION;VALUE=URI;X-ADDRESS=West Berkeley Fencing Club 1111 Addison Street Berkeley CA 94706 United States;X-APPLE-RADIUS=500;X-TITLE=1111 Addison Street:geo:-122.2913141,37.8684577
END:VEVENT
BEGIN:VEVENT
DTSTART;VALUE=DATE:20240705
DTEND;VALUE=DATE:20240706
DTSTAMP:20260424T180524
CREATED:20220620T170948Z
LAST-MODIFIED:20240228T234812Z
UID:10000183-1720137600-1720223999@westberkeleyfencing.com
SUMMARY:CLOSED
DESCRIPTION:We’re in Columbus Ohio for the Summer National Championships. Join us for classes and bouting when we return July 13th.
URL:https://westberkeleyfencing.com/event/closed-summer-nationals/2024-07-05
LOCATION:West Berkeley Fencing Club\, 1111 Addison Street\, Berkeley\, CA\, 94706\, United States
CATEGORIES:Closure
GEO:37.8684577;-122.2913141
X-APPLE-STRUCTURED-LOCATION;VALUE=URI;X-ADDRESS=West Berkeley Fencing Club 1111 Addison Street Berkeley CA 94706 United States;X-APPLE-RADIUS=500;X-TITLE=1111 Addison Street:geo:-122.2913141,37.8684577
END:VEVENT
BEGIN:VEVENT
DTSTART;VALUE=DATE:20240704
DTEND;VALUE=DATE:20240705
DTSTAMP:20260424T180524
CREATED:20220620T170948Z
LAST-MODIFIED:20240228T234812Z
UID:10000182-1720051200-1720137599@westberkeleyfencing.com
SUMMARY:CLOSED
DESCRIPTION:We’re in Columbus Ohio for the Summer National Championships. Join us for classes and bouting when we return July 13th.
URL:https://westberkeleyfencing.com/event/closed-summer-nationals/2024-07-04
LOCATION:West Berkeley Fencing Club\, 1111 Addison Street\, Berkeley\, CA\, 94706\, United States
CATEGORIES:Closure
GEO:37.8684577;-122.2913141
X-APPLE-STRUCTURED-LOCATION;VALUE=URI;X-ADDRESS=West Berkeley Fencing Club 1111 Addison Street Berkeley CA 94706 United States;X-APPLE-RADIUS=500;X-TITLE=1111 Addison Street:geo:-122.2913141,37.8684577
END:VEVENT
BEGIN:VEVENT
DTSTART;VALUE=DATE:20240703
DTEND;VALUE=DATE:20240704
DTSTAMP:20260424T180524
CREATED:20220620T170948Z
LAST-MODIFIED:20240228T234812Z
UID:10000181-1719964800-1720051199@westberkeleyfencing.com
SUMMARY:CLOSED
DESCRIPTION:We’re in Columbus Ohio for the Summer National Championships. Join us for classes and bouting when we return July 13th.
URL:https://westberkeleyfencing.com/event/closed-summer-nationals/2024-07-03
LOCATION:West Berkeley Fencing Club\, 1111 Addison Street\, Berkeley\, CA\, 94706\, United States
CATEGORIES:Closure
GEO:37.8684577;-122.2913141
X-APPLE-STRUCTURED-LOCATION;VALUE=URI;X-ADDRESS=West Berkeley Fencing Club 1111 Addison Street Berkeley CA 94706 United States;X-APPLE-RADIUS=500;X-TITLE=1111 Addison Street:geo:-122.2913141,37.8684577
END:VEVENT
BEGIN:VEVENT
DTSTART;VALUE=DATE:20240702
DTEND;VALUE=DATE:20240703
DTSTAMP:20260424T180524
CREATED:20220620T170948Z
LAST-MODIFIED:20240228T234812Z
UID:10000180-1719878400-1719964799@westberkeleyfencing.com
SUMMARY:CLOSED
DESCRIPTION:We’re in Columbus Ohio for the Summer National Championships. Join us for classes and bouting when we return July 13th.
URL:https://westberkeleyfencing.com/event/closed-summer-nationals/2024-07-02
LOCATION:West Berkeley Fencing Club\, 1111 Addison Street\, Berkeley\, CA\, 94706\, United States
CATEGORIES:Closure
GEO:37.8684577;-122.2913141
X-APPLE-STRUCTURED-LOCATION;VALUE=URI;X-ADDRESS=West Berkeley Fencing Club 1111 Addison Street Berkeley CA 94706 United States;X-APPLE-RADIUS=500;X-TITLE=1111 Addison Street:geo:-122.2913141,37.8684577
END:VEVENT
BEGIN:VEVENT
DTSTART;VALUE=DATE:20240701
DTEND;VALUE=DATE:20240702
DTSTAMP:20260424T180524
CREATED:20220620T170948Z
LAST-MODIFIED:20240228T234812Z
UID:10000179-1719792000-1719878399@westberkeleyfencing.com
SUMMARY:CLOSED
DESCRIPTION:We’re in Columbus Ohio for the Summer National Championships. Join us for classes and bouting when we return July 13th.
URL:https://westberkeleyfencing.com/event/closed-summer-nationals/2024-07-01
LOCATION:West Berkeley Fencing Club\, 1111 Addison Street\, Berkeley\, CA\, 94706\, United States
CATEGORIES:Closure
GEO:37.8684577;-122.2913141
X-APPLE-STRUCTURED-LOCATION;VALUE=URI;X-ADDRESS=West Berkeley Fencing Club 1111 Addison Street Berkeley CA 94706 United States;X-APPLE-RADIUS=500;X-TITLE=1111 Addison Street:geo:-122.2913141,37.8684577
END:VEVENT
BEGIN:VEVENT
DTSTART;VALUE=DATE:20240401
DTEND;VALUE=DATE:20240402
DTSTAMP:20260424T180524
CREATED:20240329T165427Z
LAST-MODIFIED:20240329T165440Z
UID:10000178-1711929600-1712015999@westberkeleyfencing.com
SUMMARY:César Chávez + Dolores Huerta Day
DESCRIPTION:CLOSED for all classes
URL:https://westberkeleyfencing.com/event/cesar-chavez-dolores-huerta-day
LOCATION:West Berkeley Fencing Club\, 1111 Addison Street\, Berkeley\, CA\, 94706\, United States
CATEGORIES:Closure
GEO:37.8684577;-122.2913141
X-APPLE-STRUCTURED-LOCATION;VALUE=URI;X-ADDRESS=West Berkeley Fencing Club 1111 Addison Street Berkeley CA 94706 United States;X-APPLE-RADIUS=500;X-TITLE=1111 Addison Street:geo:-122.2913141,37.8684577
END:VEVENT
BEGIN:VEVENT
DTSTART;VALUE=DATE:20231231
DTEND;VALUE=DATE:20240110
DTSTAMP:20260424T180524
CREATED:20171216T185538Z
LAST-MODIFIED:20231212T052858Z
UID:10000627-1703980800-1704844799@westberkeleyfencing.com
SUMMARY:Winter Break
DESCRIPTION:Classes resume January 2nd 2024
URL:https://westberkeleyfencing.com/event/winter-break/2023-12-31
LOCATION:West Berkeley Fencing Club\, 1111 Addison Street\, Berkeley\, CA\, 94706\, United States
CATEGORIES:Closure
GEO:37.8684577;-122.2913141
X-APPLE-STRUCTURED-LOCATION;VALUE=URI;X-ADDRESS=West Berkeley Fencing Club 1111 Addison Street Berkeley CA 94706 United States;X-APPLE-RADIUS=500;X-TITLE=1111 Addison Street:geo:-122.2913141,37.8684577
END:VEVENT
BEGIN:VEVENT
DTSTART;VALUE=DATE:20231230
DTEND;VALUE=DATE:20240109
DTSTAMP:20260424T180524
CREATED:20171216T185538Z
LAST-MODIFIED:20231212T052858Z
UID:10000626-1703894400-1704758399@westberkeleyfencing.com
SUMMARY:Winter Break
DESCRIPTION:Classes resume January 2nd 2024
URL:https://westberkeleyfencing.com/event/winter-break/2023-12-30
LOCATION:West Berkeley Fencing Club\, 1111 Addison Street\, Berkeley\, CA\, 94706\, United States
CATEGORIES:Closure
GEO:37.8684577;-122.2913141
X-APPLE-STRUCTURED-LOCATION;VALUE=URI;X-ADDRESS=West Berkeley Fencing Club 1111 Addison Street Berkeley CA 94706 United States;X-APPLE-RADIUS=500;X-TITLE=1111 Addison Street:geo:-122.2913141,37.8684577
END:VEVENT
BEGIN:VEVENT
DTSTART;VALUE=DATE:20231229
DTEND;VALUE=DATE:20240108
DTSTAMP:20260424T180524
CREATED:20171216T185538Z
LAST-MODIFIED:20231212T052858Z
UID:10000625-1703808000-1704671999@westberkeleyfencing.com
SUMMARY:Winter Break
DESCRIPTION:Classes resume January 2nd 2024
URL:https://westberkeleyfencing.com/event/winter-break/2023-12-29
LOCATION:West Berkeley Fencing Club\, 1111 Addison Street\, Berkeley\, CA\, 94706\, United States
CATEGORIES:Closure
GEO:37.8684577;-122.2913141
X-APPLE-STRUCTURED-LOCATION;VALUE=URI;X-ADDRESS=West Berkeley Fencing Club 1111 Addison Street Berkeley CA 94706 United States;X-APPLE-RADIUS=500;X-TITLE=1111 Addison Street:geo:-122.2913141,37.8684577
END:VEVENT
BEGIN:VEVENT
DTSTART;VALUE=DATE:20231228
DTEND;VALUE=DATE:20240107
DTSTAMP:20260424T180524
CREATED:20171216T185538Z
LAST-MODIFIED:20231212T052858Z
UID:10000624-1703721600-1704585599@westberkeleyfencing.com
SUMMARY:Winter Break
DESCRIPTION:Classes resume January 2nd 2024
URL:https://westberkeleyfencing.com/event/winter-break/2023-12-28
LOCATION:West Berkeley Fencing Club\, 1111 Addison Street\, Berkeley\, CA\, 94706\, United States
CATEGORIES:Closure
GEO:37.8684577;-122.2913141
X-APPLE-STRUCTURED-LOCATION;VALUE=URI;X-ADDRESS=West Berkeley Fencing Club 1111 Addison Street Berkeley CA 94706 United States;X-APPLE-RADIUS=500;X-TITLE=1111 Addison Street:geo:-122.2913141,37.8684577
END:VEVENT
BEGIN:VEVENT
DTSTART;VALUE=DATE:20231227
DTEND;VALUE=DATE:20240106
DTSTAMP:20260424T180524
CREATED:20171216T185538Z
LAST-MODIFIED:20231212T052858Z
UID:10000623-1703635200-1704499199@westberkeleyfencing.com
SUMMARY:Winter Break
DESCRIPTION:Classes resume January 2nd 2024
URL:https://westberkeleyfencing.com/event/winter-break/2023-12-27
LOCATION:West Berkeley Fencing Club\, 1111 Addison Street\, Berkeley\, CA\, 94706\, United States
CATEGORIES:Closure
GEO:37.8684577;-122.2913141
X-APPLE-STRUCTURED-LOCATION;VALUE=URI;X-ADDRESS=West Berkeley Fencing Club 1111 Addison Street Berkeley CA 94706 United States;X-APPLE-RADIUS=500;X-TITLE=1111 Addison Street:geo:-122.2913141,37.8684577
END:VEVENT
BEGIN:VEVENT
DTSTART;VALUE=DATE:20231226
DTEND;VALUE=DATE:20240105
DTSTAMP:20260424T180524
CREATED:20171216T185538Z
LAST-MODIFIED:20231212T052858Z
UID:10000622-1703548800-1704412799@westberkeleyfencing.com
SUMMARY:Winter Break
DESCRIPTION:Classes resume January 2nd 2024
URL:https://westberkeleyfencing.com/event/winter-break/2023-12-26
LOCATION:West Berkeley Fencing Club\, 1111 Addison Street\, Berkeley\, CA\, 94706\, United States
CATEGORIES:Closure
GEO:37.8684577;-122.2913141
X-APPLE-STRUCTURED-LOCATION;VALUE=URI;X-ADDRESS=West Berkeley Fencing Club 1111 Addison Street Berkeley CA 94706 United States;X-APPLE-RADIUS=500;X-TITLE=1111 Addison Street:geo:-122.2913141,37.8684577
END:VEVENT
BEGIN:VEVENT
DTSTART;VALUE=DATE:20231225
DTEND;VALUE=DATE:20240104
DTSTAMP:20260424T180524
CREATED:20171216T185538Z
LAST-MODIFIED:20231212T052858Z
UID:10000621-1703462400-1704326399@westberkeleyfencing.com
SUMMARY:Winter Break
DESCRIPTION:Classes resume January 2nd 2024
URL:https://westberkeleyfencing.com/event/winter-break/2023-12-25
LOCATION:West Berkeley Fencing Club\, 1111 Addison Street\, Berkeley\, CA\, 94706\, United States
CATEGORIES:Closure
GEO:37.8684577;-122.2913141
X-APPLE-STRUCTURED-LOCATION;VALUE=URI;X-ADDRESS=West Berkeley Fencing Club 1111 Addison Street Berkeley CA 94706 United States;X-APPLE-RADIUS=500;X-TITLE=1111 Addison Street:geo:-122.2913141,37.8684577
END:VEVENT
BEGIN:VEVENT
DTSTART;VALUE=DATE:20231223
DTEND;VALUE=DATE:20240102
DTSTAMP:20260424T180524
CREATED:20171216T185538Z
LAST-MODIFIED:20231212T052858Z
UID:10000620-1703289600-1704153599@westberkeleyfencing.com
SUMMARY:Winter Break
DESCRIPTION:Classes resume January 2nd 2024
URL:https://westberkeleyfencing.com/event/winter-break/2023-12-23
LOCATION:West Berkeley Fencing Club\, 1111 Addison Street\, Berkeley\, CA\, 94706\, United States
CATEGORIES:Closure
GEO:37.8684577;-122.2913141
X-APPLE-STRUCTURED-LOCATION;VALUE=URI;X-ADDRESS=West Berkeley Fencing Club 1111 Addison Street Berkeley CA 94706 United States;X-APPLE-RADIUS=500;X-TITLE=1111 Addison Street:geo:-122.2913141,37.8684577
END:VEVENT
BEGIN:VEVENT
DTSTART;VALUE=DATE:20231122
DTEND;VALUE=DATE:20231123
DTSTAMP:20260424T180524
CREATED:20221027T175526Z
LAST-MODIFIED:20231120T232000Z
UID:10000400-1700611200-1700697599@westberkeleyfencing.com
SUMMARY:CLOSED
DESCRIPTION:No Programming Nov 22-23\nHappy Thanksgiving!
URL:https://westberkeleyfencing.com/event/closed-3/2023-11-22
LOCATION:West Berkeley Fencing Club\, 1111 Addison Street\, Berkeley\, CA\, 94706\, United States
CATEGORIES:Closure
GEO:37.8684577;-122.2913141
X-APPLE-STRUCTURED-LOCATION;VALUE=URI;X-ADDRESS=West Berkeley Fencing Club 1111 Addison Street Berkeley CA 94706 United States;X-APPLE-RADIUS=500;X-TITLE=1111 Addison Street:geo:-122.2913141,37.8684577
END:VEVENT
BEGIN:VEVENT
DTSTART;VALUE=DATE:20211125
DTEND;VALUE=DATE:20211128
DTSTAMP:20260424T180524
CREATED:20171025T010153Z
LAST-MODIFIED:20211125T024805Z
UID:10000550-1637798400-1638057599@westberkeleyfencing.com
SUMMARY:CLOSED
DESCRIPTION:Thanksgiving Break
URL:https://westberkeleyfencing.com/event/closed-5/2021-11-25
LOCATION:West Berkeley Fencing Club\, 1111 Addison Street\, Berkeley\, CA\, 94706\, United States
CATEGORIES:Closure
ATTACH;FMTTYPE=image/jpeg:https://westberkeleyfencing.com/wp-content/uploads/umcqm4M.jpg
GEO:37.8684577;-122.2913141
X-APPLE-STRUCTURED-LOCATION;VALUE=URI;X-ADDRESS=West Berkeley Fencing Club 1111 Addison Street Berkeley CA 94706 United States;X-APPLE-RADIUS=500;X-TITLE=1111 Addison Street:geo:-122.2913141,37.8684577
END:VEVENT
END:VCALENDAR