BEGIN:VCALENDAR
VERSION:2.0
PRODID:-//West Berkeley Fencing Club - ECPv6.15.18//NONSGML v1.0//EN
CALSCALE:GREGORIAN
METHOD:PUBLISH
X-ORIGINAL-URL:https://westberkeleyfencing.com
X-WR-CALDESC:Events for West Berkeley Fencing Club
REFRESH-INTERVAL;VALUE=DURATION:PT1H
X-Robots-Tag:noindex
X-PUBLISHED-TTL:PT1H
BEGIN:VTIMEZONE
TZID:America/Los_Angeles
BEGIN:DAYLIGHT
TZOFFSETFROM:-0800
TZOFFSETTO:-0700
TZNAME:PDT
DTSTART:20250309T100000
END:DAYLIGHT
BEGIN:STANDARD
TZOFFSETFROM:-0700
TZOFFSETTO:-0800
TZNAME:PST
DTSTART:20251102T090000
END:STANDARD
BEGIN:DAYLIGHT
TZOFFSETFROM:-0800
TZOFFSETTO:-0700
TZNAME:PDT
DTSTART:20260308T100000
END:DAYLIGHT
BEGIN:STANDARD
TZOFFSETFROM:-0700
TZOFFSETTO:-0800
TZNAME:PST
DTSTART:20261101T090000
END:STANDARD
BEGIN:DAYLIGHT
TZOFFSETFROM:-0800
TZOFFSETTO:-0700
TZNAME:PDT
DTSTART:20270314T100000
END:DAYLIGHT
BEGIN:STANDARD
TZOFFSETFROM:-0700
TZOFFSETTO:-0800
TZNAME:PST
DTSTART:20271107T090000
END:STANDARD
END:VTIMEZONE
BEGIN:VEVENT
DTSTART;TZID=America/Los_Angeles:20260502T120000
DTEND;TZID=America/Los_Angeles:20260502T130000
DTSTAMP:20260424T151818
CREATED:20250518T171406Z
LAST-MODIFIED:20251121T054429Z
UID:10002460-1777723200-1777726800@westberkeleyfencing.com
SUMMARY:Drill Class
DESCRIPTION:Footwork followed by partner drills. Open to our General & Team Members ages 13+ with prior fencing experience.
URL:https://westberkeleyfencing.com/event/3-weapon-drill-class-3-2/2026-05-02
LOCATION:West Berkeley Fencing Club\, 1111 Addison Street\, Berkeley\, CA\, 94706\, United States
CATEGORIES:Adult Classes
GEO:37.8684577;-122.2913141
X-APPLE-STRUCTURED-LOCATION;VALUE=URI;X-ADDRESS=West Berkeley Fencing Club 1111 Addison Street Berkeley CA 94706 United States;X-APPLE-RADIUS=500;X-TITLE=1111 Addison Street:geo:-122.2913141,37.8684577
END:VEVENT
BEGIN:VEVENT
DTSTART;TZID=America/Los_Angeles:20260505T193000
DTEND;TZID=America/Los_Angeles:20260505T203000
DTSTAMP:20260424T151818
CREATED:20250518T170448Z
LAST-MODIFIED:20251121T054543Z
UID:10004303-1778009400-1778013000@westberkeleyfencing.com
SUMMARY:Drill Class
DESCRIPTION:Footwork followed by partner drills. Open to our General & Team Members ages 13+ with prior fencing experience.
URL:https://westberkeleyfencing.com/event/3-weapon-drill-class-4-2/2026-05-05
LOCATION:West Berkeley Fencing Club\, 1111 Addison Street\, Berkeley\, CA\, 94706\, United States
CATEGORIES:Adult Classes
GEO:37.8684577;-122.2913141
X-APPLE-STRUCTURED-LOCATION;VALUE=URI;X-ADDRESS=West Berkeley Fencing Club 1111 Addison Street Berkeley CA 94706 United States;X-APPLE-RADIUS=500;X-TITLE=1111 Addison Street:geo:-122.2913141,37.8684577
END:VEVENT
BEGIN:VEVENT
DTSTART;TZID=America/Los_Angeles:20260507T193000
DTEND;TZID=America/Los_Angeles:20260507T203000
DTSTAMP:20260424T151818
CREATED:20250518T170448Z
LAST-MODIFIED:20251121T054543Z
UID:10004304-1778182200-1778185800@westberkeleyfencing.com
SUMMARY:Drill Class
DESCRIPTION:Footwork followed by partner drills. Open to our General & Team Members ages 13+ with prior fencing experience.
URL:https://westberkeleyfencing.com/event/3-weapon-drill-class-4-2/2026-05-07
LOCATION:West Berkeley Fencing Club\, 1111 Addison Street\, Berkeley\, CA\, 94706\, United States
CATEGORIES:Adult Classes
GEO:37.8684577;-122.2913141
X-APPLE-STRUCTURED-LOCATION;VALUE=URI;X-ADDRESS=West Berkeley Fencing Club 1111 Addison Street Berkeley CA 94706 United States;X-APPLE-RADIUS=500;X-TITLE=1111 Addison Street:geo:-122.2913141,37.8684577
END:VEVENT
BEGIN:VEVENT
DTSTART;TZID=America/Los_Angeles:20260509T120000
DTEND;TZID=America/Los_Angeles:20260509T130000
DTSTAMP:20260424T151818
CREATED:20250518T171406Z
LAST-MODIFIED:20251121T054429Z
UID:10002461-1778328000-1778331600@westberkeleyfencing.com
SUMMARY:Drill Class
DESCRIPTION:Footwork followed by partner drills. Open to our General & Team Members ages 13+ with prior fencing experience.
URL:https://westberkeleyfencing.com/event/3-weapon-drill-class-3-2/2026-05-09
LOCATION:West Berkeley Fencing Club\, 1111 Addison Street\, Berkeley\, CA\, 94706\, United States
CATEGORIES:Adult Classes
GEO:37.8684577;-122.2913141
X-APPLE-STRUCTURED-LOCATION;VALUE=URI;X-ADDRESS=West Berkeley Fencing Club 1111 Addison Street Berkeley CA 94706 United States;X-APPLE-RADIUS=500;X-TITLE=1111 Addison Street:geo:-122.2913141,37.8684577
END:VEVENT
BEGIN:VEVENT
DTSTART;TZID=America/Los_Angeles:20260512T193000
DTEND;TZID=America/Los_Angeles:20260512T203000
DTSTAMP:20260424T151818
CREATED:20250518T170448Z
LAST-MODIFIED:20251121T054543Z
UID:10004305-1778614200-1778617800@westberkeleyfencing.com
SUMMARY:Drill Class
DESCRIPTION:Footwork followed by partner drills. Open to our General & Team Members ages 13+ with prior fencing experience.
URL:https://westberkeleyfencing.com/event/3-weapon-drill-class-4-2/2026-05-12
LOCATION:West Berkeley Fencing Club\, 1111 Addison Street\, Berkeley\, CA\, 94706\, United States
CATEGORIES:Adult Classes
GEO:37.8684577;-122.2913141
X-APPLE-STRUCTURED-LOCATION;VALUE=URI;X-ADDRESS=West Berkeley Fencing Club 1111 Addison Street Berkeley CA 94706 United States;X-APPLE-RADIUS=500;X-TITLE=1111 Addison Street:geo:-122.2913141,37.8684577
END:VEVENT
BEGIN:VEVENT
DTSTART;TZID=America/Los_Angeles:20260514T193000
DTEND;TZID=America/Los_Angeles:20260514T203000
DTSTAMP:20260424T151818
CREATED:20250518T170448Z
LAST-MODIFIED:20251121T054543Z
UID:10004306-1778787000-1778790600@westberkeleyfencing.com
SUMMARY:Drill Class
DESCRIPTION:Footwork followed by partner drills. Open to our General & Team Members ages 13+ with prior fencing experience.
URL:https://westberkeleyfencing.com/event/3-weapon-drill-class-4-2/2026-05-14
LOCATION:West Berkeley Fencing Club\, 1111 Addison Street\, Berkeley\, CA\, 94706\, United States
CATEGORIES:Adult Classes
GEO:37.8684577;-122.2913141
X-APPLE-STRUCTURED-LOCATION;VALUE=URI;X-ADDRESS=West Berkeley Fencing Club 1111 Addison Street Berkeley CA 94706 United States;X-APPLE-RADIUS=500;X-TITLE=1111 Addison Street:geo:-122.2913141,37.8684577
END:VEVENT
BEGIN:VEVENT
DTSTART;TZID=America/Los_Angeles:20260516T120000
DTEND;TZID=America/Los_Angeles:20260516T130000
DTSTAMP:20260424T151818
CREATED:20250518T171406Z
LAST-MODIFIED:20251121T054429Z
UID:10002462-1778932800-1778936400@westberkeleyfencing.com
SUMMARY:Drill Class
DESCRIPTION:Footwork followed by partner drills. Open to our General & Team Members ages 13+ with prior fencing experience.
URL:https://westberkeleyfencing.com/event/3-weapon-drill-class-3-2/2026-05-16
LOCATION:West Berkeley Fencing Club\, 1111 Addison Street\, Berkeley\, CA\, 94706\, United States
CATEGORIES:Adult Classes
GEO:37.8684577;-122.2913141
X-APPLE-STRUCTURED-LOCATION;VALUE=URI;X-ADDRESS=West Berkeley Fencing Club 1111 Addison Street Berkeley CA 94706 United States;X-APPLE-RADIUS=500;X-TITLE=1111 Addison Street:geo:-122.2913141,37.8684577
END:VEVENT
BEGIN:VEVENT
DTSTART;TZID=America/Los_Angeles:20260519T193000
DTEND;TZID=America/Los_Angeles:20260519T203000
DTSTAMP:20260424T151818
CREATED:20250518T170448Z
LAST-MODIFIED:20251121T054543Z
UID:10004307-1779219000-1779222600@westberkeleyfencing.com
SUMMARY:Drill Class
DESCRIPTION:Footwork followed by partner drills. Open to our General & Team Members ages 13+ with prior fencing experience.
URL:https://westberkeleyfencing.com/event/3-weapon-drill-class-4-2/2026-05-19
LOCATION:West Berkeley Fencing Club\, 1111 Addison Street\, Berkeley\, CA\, 94706\, United States
CATEGORIES:Adult Classes
GEO:37.8684577;-122.2913141
X-APPLE-STRUCTURED-LOCATION;VALUE=URI;X-ADDRESS=West Berkeley Fencing Club 1111 Addison Street Berkeley CA 94706 United States;X-APPLE-RADIUS=500;X-TITLE=1111 Addison Street:geo:-122.2913141,37.8684577
END:VEVENT
BEGIN:VEVENT
DTSTART;TZID=America/Los_Angeles:20260521T193000
DTEND;TZID=America/Los_Angeles:20260521T203000
DTSTAMP:20260424T151818
CREATED:20250518T170448Z
LAST-MODIFIED:20251121T054543Z
UID:10004308-1779391800-1779395400@westberkeleyfencing.com
SUMMARY:Drill Class
DESCRIPTION:Footwork followed by partner drills. Open to our General & Team Members ages 13+ with prior fencing experience.
URL:https://westberkeleyfencing.com/event/3-weapon-drill-class-4-2/2026-05-21
LOCATION:West Berkeley Fencing Club\, 1111 Addison Street\, Berkeley\, CA\, 94706\, United States
CATEGORIES:Adult Classes
GEO:37.8684577;-122.2913141
X-APPLE-STRUCTURED-LOCATION;VALUE=URI;X-ADDRESS=West Berkeley Fencing Club 1111 Addison Street Berkeley CA 94706 United States;X-APPLE-RADIUS=500;X-TITLE=1111 Addison Street:geo:-122.2913141,37.8684577
END:VEVENT
BEGIN:VEVENT
DTSTART;TZID=America/Los_Angeles:20260523T120000
DTEND;TZID=America/Los_Angeles:20260523T130000
DTSTAMP:20260424T151818
CREATED:20250518T171406Z
LAST-MODIFIED:20251121T054429Z
UID:10002463-1779537600-1779541200@westberkeleyfencing.com
SUMMARY:Drill Class
DESCRIPTION:Footwork followed by partner drills. Open to our General & Team Members ages 13+ with prior fencing experience.
URL:https://westberkeleyfencing.com/event/3-weapon-drill-class-3-2/2026-05-23
LOCATION:West Berkeley Fencing Club\, 1111 Addison Street\, Berkeley\, CA\, 94706\, United States
CATEGORIES:Adult Classes
GEO:37.8684577;-122.2913141
X-APPLE-STRUCTURED-LOCATION;VALUE=URI;X-ADDRESS=West Berkeley Fencing Club 1111 Addison Street Berkeley CA 94706 United States;X-APPLE-RADIUS=500;X-TITLE=1111 Addison Street:geo:-122.2913141,37.8684577
END:VEVENT
BEGIN:VEVENT
DTSTART;TZID=America/Los_Angeles:20260526T193000
DTEND;TZID=America/Los_Angeles:20260526T203000
DTSTAMP:20260424T151818
CREATED:20250518T170448Z
LAST-MODIFIED:20251121T054543Z
UID:10004309-1779823800-1779827400@westberkeleyfencing.com
SUMMARY:Drill Class
DESCRIPTION:Footwork followed by partner drills. Open to our General & Team Members ages 13+ with prior fencing experience.
URL:https://westberkeleyfencing.com/event/3-weapon-drill-class-4-2/2026-05-26
LOCATION:West Berkeley Fencing Club\, 1111 Addison Street\, Berkeley\, CA\, 94706\, United States
CATEGORIES:Adult Classes
GEO:37.8684577;-122.2913141
X-APPLE-STRUCTURED-LOCATION;VALUE=URI;X-ADDRESS=West Berkeley Fencing Club 1111 Addison Street Berkeley CA 94706 United States;X-APPLE-RADIUS=500;X-TITLE=1111 Addison Street:geo:-122.2913141,37.8684577
END:VEVENT
BEGIN:VEVENT
DTSTART;TZID=America/Los_Angeles:20260528T193000
DTEND;TZID=America/Los_Angeles:20260528T203000
DTSTAMP:20260424T151818
CREATED:20250518T170448Z
LAST-MODIFIED:20251121T054543Z
UID:10004310-1779996600-1780000200@westberkeleyfencing.com
SUMMARY:Drill Class
DESCRIPTION:Footwork followed by partner drills. Open to our General & Team Members ages 13+ with prior fencing experience.
URL:https://westberkeleyfencing.com/event/3-weapon-drill-class-4-2/2026-05-28
LOCATION:West Berkeley Fencing Club\, 1111 Addison Street\, Berkeley\, CA\, 94706\, United States
CATEGORIES:Adult Classes
GEO:37.8684577;-122.2913141
X-APPLE-STRUCTURED-LOCATION;VALUE=URI;X-ADDRESS=West Berkeley Fencing Club 1111 Addison Street Berkeley CA 94706 United States;X-APPLE-RADIUS=500;X-TITLE=1111 Addison Street:geo:-122.2913141,37.8684577
END:VEVENT
BEGIN:VEVENT
DTSTART;TZID=America/Los_Angeles:20260530T120000
DTEND;TZID=America/Los_Angeles:20260530T130000
DTSTAMP:20260424T151818
CREATED:20250518T171406Z
LAST-MODIFIED:20251121T054429Z
UID:10002464-1780142400-1780146000@westberkeleyfencing.com
SUMMARY:Drill Class
DESCRIPTION:Footwork followed by partner drills. Open to our General & Team Members ages 13+ with prior fencing experience.
URL:https://westberkeleyfencing.com/event/3-weapon-drill-class-3-2/2026-05-30
LOCATION:West Berkeley Fencing Club\, 1111 Addison Street\, Berkeley\, CA\, 94706\, United States
CATEGORIES:Adult Classes
GEO:37.8684577;-122.2913141
X-APPLE-STRUCTURED-LOCATION;VALUE=URI;X-ADDRESS=West Berkeley Fencing Club 1111 Addison Street Berkeley CA 94706 United States;X-APPLE-RADIUS=500;X-TITLE=1111 Addison Street:geo:-122.2913141,37.8684577
END:VEVENT
END:VCALENDAR