BEGIN:VCALENDAR
VERSION:2.0
PRODID:-//West Berkeley Fencing Club - ECPv6.15.18//NONSGML v1.0//EN
CALSCALE:GREGORIAN
METHOD:PUBLISH
X-ORIGINAL-URL:https://westberkeleyfencing.com
X-WR-CALDESC:Events for West Berkeley Fencing Club
REFRESH-INTERVAL;VALUE=DURATION:PT1H
X-Robots-Tag:noindex
X-PUBLISHED-TTL:PT1H
BEGIN:VTIMEZONE
TZID:America/Los_Angeles
BEGIN:DAYLIGHT
TZOFFSETFROM:-0800
TZOFFSETTO:-0700
TZNAME:PDT
DTSTART:20230312T100000
END:DAYLIGHT
BEGIN:STANDARD
TZOFFSETFROM:-0700
TZOFFSETTO:-0800
TZNAME:PST
DTSTART:20231105T090000
END:STANDARD
BEGIN:DAYLIGHT
TZOFFSETFROM:-0800
TZOFFSETTO:-0700
TZNAME:PDT
DTSTART:20240310T100000
END:DAYLIGHT
BEGIN:STANDARD
TZOFFSETFROM:-0700
TZOFFSETTO:-0800
TZNAME:PST
DTSTART:20241103T090000
END:STANDARD
BEGIN:DAYLIGHT
TZOFFSETFROM:-0800
TZOFFSETTO:-0700
TZNAME:PDT
DTSTART:20250309T100000
END:DAYLIGHT
BEGIN:STANDARD
TZOFFSETFROM:-0700
TZOFFSETTO:-0800
TZNAME:PST
DTSTART:20251102T090000
END:STANDARD
END:VTIMEZONE
BEGIN:VEVENT
DTSTART;TZID=America/Los_Angeles:20240601T113000
DTEND;TZID=America/Los_Angeles:20240601T123000
DTSTAMP:20260425T213631
CREATED:20240523T020824Z
LAST-MODIFIED:20240523T020824Z
UID:10000147-1717241400-1717245000@westberkeleyfencing.com
SUMMARY:3-Weapon Drill
DESCRIPTION:Footwork followed by partner drills in all weapons. Open to WBFC members ages 13+ with prior fencing experience & equipment.
URL:https://westberkeleyfencing.com/event/3-weapon-drill-class/2024-06-01
LOCATION:West Berkeley Fencing Club\, 1111 Addison Street\, Berkeley\, CA\, 94706\, United States
CATEGORIES:Adult Classes
GEO:37.8684577;-122.2913141
X-APPLE-STRUCTURED-LOCATION;VALUE=URI;X-ADDRESS=West Berkeley Fencing Club 1111 Addison Street Berkeley CA 94706 United States;X-APPLE-RADIUS=500;X-TITLE=1111 Addison Street:geo:-122.2913141,37.8684577
END:VEVENT
BEGIN:VEVENT
DTSTART;TZID=America/Los_Angeles:20240604T193000
DTEND;TZID=America/Los_Angeles:20240604T203000
DTSTAMP:20260425T213631
CREATED:20170726T205846Z
LAST-MODIFIED:20240516T011104Z
UID:10000099-1717529400-1717533000@westberkeleyfencing.com
SUMMARY:3-Weapon Drill
DESCRIPTION:Footwork followed by partner drills in all weapons. Open to WBFC members ages 13+ with prior fencing experience & equipment.
URL:https://westberkeleyfencing.com/event/3-weapon-drill-class/2024-06-04
LOCATION:West Berkeley Fencing Club\, 1111 Addison Street\, Berkeley\, CA\, 94706\, United States
CATEGORIES:Adult Classes
GEO:37.8684577;-122.2913141
X-APPLE-STRUCTURED-LOCATION;VALUE=URI;X-ADDRESS=West Berkeley Fencing Club 1111 Addison Street Berkeley CA 94706 United States;X-APPLE-RADIUS=500;X-TITLE=1111 Addison Street:geo:-122.2913141,37.8684577
END:VEVENT
BEGIN:VEVENT
DTSTART;TZID=America/Los_Angeles:20240606T193000
DTEND;TZID=America/Los_Angeles:20240606T200000
DTSTAMP:20260425T213631
CREATED:20170902T090226Z
LAST-MODIFIED:20240516T011345Z
UID:10000651-1717702200-1717704000@westberkeleyfencing.com
SUMMARY:Footwork & Functional
DESCRIPTION:Group footwork and functional warm-up class for teen & adult members.\nOffered in-person and online over Zoom.
URL:https://westberkeleyfencing.com/event/3-weapon-drill-class-2/2024-06-06
LOCATION:West Berkeley Fencing Club\, 1111 Addison Street\, Berkeley\, CA\, 94706\, United States
CATEGORIES:Adult Classes
GEO:37.8684577;-122.2913141
X-APPLE-STRUCTURED-LOCATION;VALUE=URI;X-ADDRESS=West Berkeley Fencing Club 1111 Addison Street Berkeley CA 94706 United States;X-APPLE-RADIUS=500;X-TITLE=1111 Addison Street:geo:-122.2913141,37.8684577
END:VEVENT
BEGIN:VEVENT
DTSTART;TZID=America/Los_Angeles:20240608T113000
DTEND;TZID=America/Los_Angeles:20240608T123000
DTSTAMP:20260425T213631
CREATED:20240523T020824Z
LAST-MODIFIED:20240523T020824Z
UID:10000148-1717846200-1717849800@westberkeleyfencing.com
SUMMARY:3-Weapon Drill
DESCRIPTION:Footwork followed by partner drills in all weapons. Open to WBFC members ages 13+ with prior fencing experience & equipment.
URL:https://westberkeleyfencing.com/event/3-weapon-drill-class/2024-06-08
LOCATION:West Berkeley Fencing Club\, 1111 Addison Street\, Berkeley\, CA\, 94706\, United States
CATEGORIES:Adult Classes
GEO:37.8684577;-122.2913141
X-APPLE-STRUCTURED-LOCATION;VALUE=URI;X-ADDRESS=West Berkeley Fencing Club 1111 Addison Street Berkeley CA 94706 United States;X-APPLE-RADIUS=500;X-TITLE=1111 Addison Street:geo:-122.2913141,37.8684577
END:VEVENT
BEGIN:VEVENT
DTSTART;TZID=America/Los_Angeles:20240611T193000
DTEND;TZID=America/Los_Angeles:20240611T203000
DTSTAMP:20260425T213631
CREATED:20170726T205846Z
LAST-MODIFIED:20240516T011104Z
UID:10000100-1718134200-1718137800@westberkeleyfencing.com
SUMMARY:3-Weapon Drill
DESCRIPTION:Footwork followed by partner drills in all weapons. Open to WBFC members ages 13+ with prior fencing experience & equipment.
URL:https://westberkeleyfencing.com/event/3-weapon-drill-class/2024-06-11
LOCATION:West Berkeley Fencing Club\, 1111 Addison Street\, Berkeley\, CA\, 94706\, United States
CATEGORIES:Adult Classes
GEO:37.8684577;-122.2913141
X-APPLE-STRUCTURED-LOCATION;VALUE=URI;X-ADDRESS=West Berkeley Fencing Club 1111 Addison Street Berkeley CA 94706 United States;X-APPLE-RADIUS=500;X-TITLE=1111 Addison Street:geo:-122.2913141,37.8684577
END:VEVENT
BEGIN:VEVENT
DTSTART;TZID=America/Los_Angeles:20240613T193000
DTEND;TZID=America/Los_Angeles:20240613T200000
DTSTAMP:20260425T213631
CREATED:20170902T090226Z
LAST-MODIFIED:20240516T011345Z
UID:10000652-1718307000-1718308800@westberkeleyfencing.com
SUMMARY:Footwork & Functional
DESCRIPTION:Group footwork and functional warm-up class for teen & adult members.\nOffered in-person and online over Zoom.
URL:https://westberkeleyfencing.com/event/3-weapon-drill-class-2/2024-06-13
LOCATION:West Berkeley Fencing Club\, 1111 Addison Street\, Berkeley\, CA\, 94706\, United States
CATEGORIES:Adult Classes
GEO:37.8684577;-122.2913141
X-APPLE-STRUCTURED-LOCATION;VALUE=URI;X-ADDRESS=West Berkeley Fencing Club 1111 Addison Street Berkeley CA 94706 United States;X-APPLE-RADIUS=500;X-TITLE=1111 Addison Street:geo:-122.2913141,37.8684577
END:VEVENT
BEGIN:VEVENT
DTSTART;TZID=America/Los_Angeles:20240615T113000
DTEND;TZID=America/Los_Angeles:20240615T123000
DTSTAMP:20260425T213631
CREATED:20240523T020824Z
LAST-MODIFIED:20240523T020824Z
UID:10000149-1718451000-1718454600@westberkeleyfencing.com
SUMMARY:3-Weapon Drill
DESCRIPTION:Footwork followed by partner drills in all weapons. Open to WBFC members ages 13+ with prior fencing experience & equipment.
URL:https://westberkeleyfencing.com/event/3-weapon-drill-class/2024-06-15
LOCATION:West Berkeley Fencing Club\, 1111 Addison Street\, Berkeley\, CA\, 94706\, United States
CATEGORIES:Adult Classes
GEO:37.8684577;-122.2913141
X-APPLE-STRUCTURED-LOCATION;VALUE=URI;X-ADDRESS=West Berkeley Fencing Club 1111 Addison Street Berkeley CA 94706 United States;X-APPLE-RADIUS=500;X-TITLE=1111 Addison Street:geo:-122.2913141,37.8684577
END:VEVENT
BEGIN:VEVENT
DTSTART;TZID=America/Los_Angeles:20240618T193000
DTEND;TZID=America/Los_Angeles:20240618T203000
DTSTAMP:20260425T213631
CREATED:20170726T205846Z
LAST-MODIFIED:20240516T011104Z
UID:10000101-1718739000-1718742600@westberkeleyfencing.com
SUMMARY:3-Weapon Drill
DESCRIPTION:Footwork followed by partner drills in all weapons. Open to WBFC members ages 13+ with prior fencing experience & equipment.
URL:https://westberkeleyfencing.com/event/3-weapon-drill-class/2024-06-18
LOCATION:West Berkeley Fencing Club\, 1111 Addison Street\, Berkeley\, CA\, 94706\, United States
CATEGORIES:Adult Classes
GEO:37.8684577;-122.2913141
X-APPLE-STRUCTURED-LOCATION;VALUE=URI;X-ADDRESS=West Berkeley Fencing Club 1111 Addison Street Berkeley CA 94706 United States;X-APPLE-RADIUS=500;X-TITLE=1111 Addison Street:geo:-122.2913141,37.8684577
END:VEVENT
BEGIN:VEVENT
DTSTART;TZID=America/Los_Angeles:20240620T193000
DTEND;TZID=America/Los_Angeles:20240620T200000
DTSTAMP:20260425T213631
CREATED:20170902T090226Z
LAST-MODIFIED:20240516T011345Z
UID:10000653-1718911800-1718913600@westberkeleyfencing.com
SUMMARY:Footwork & Functional
DESCRIPTION:Group footwork and functional warm-up class for teen & adult members.\nOffered in-person and online over Zoom.
URL:https://westberkeleyfencing.com/event/3-weapon-drill-class-2/2024-06-20
LOCATION:West Berkeley Fencing Club\, 1111 Addison Street\, Berkeley\, CA\, 94706\, United States
CATEGORIES:Adult Classes
GEO:37.8684577;-122.2913141
X-APPLE-STRUCTURED-LOCATION;VALUE=URI;X-ADDRESS=West Berkeley Fencing Club 1111 Addison Street Berkeley CA 94706 United States;X-APPLE-RADIUS=500;X-TITLE=1111 Addison Street:geo:-122.2913141,37.8684577
END:VEVENT
BEGIN:VEVENT
DTSTART;TZID=America/Los_Angeles:20240622T113000
DTEND;TZID=America/Los_Angeles:20240622T123000
DTSTAMP:20260425T213631
CREATED:20240523T020824Z
LAST-MODIFIED:20240523T020824Z
UID:10000150-1719055800-1719059400@westberkeleyfencing.com
SUMMARY:3-Weapon Drill
DESCRIPTION:Footwork followed by partner drills in all weapons. Open to WBFC members ages 13+ with prior fencing experience & equipment.
URL:https://westberkeleyfencing.com/event/3-weapon-drill-class/2024-06-22
LOCATION:West Berkeley Fencing Club\, 1111 Addison Street\, Berkeley\, CA\, 94706\, United States
CATEGORIES:Adult Classes
GEO:37.8684577;-122.2913141
X-APPLE-STRUCTURED-LOCATION;VALUE=URI;X-ADDRESS=West Berkeley Fencing Club 1111 Addison Street Berkeley CA 94706 United States;X-APPLE-RADIUS=500;X-TITLE=1111 Addison Street:geo:-122.2913141,37.8684577
END:VEVENT
BEGIN:VEVENT
DTSTART;TZID=America/Los_Angeles:20240625T193000
DTEND;TZID=America/Los_Angeles:20240625T203000
DTSTAMP:20260425T213631
CREATED:20170726T205846Z
LAST-MODIFIED:20240516T011104Z
UID:10000102-1719343800-1719347400@westberkeleyfencing.com
SUMMARY:3-Weapon Drill
DESCRIPTION:Footwork followed by partner drills in all weapons. Open to WBFC members ages 13+ with prior fencing experience & equipment.
URL:https://westberkeleyfencing.com/event/3-weapon-drill-class/2024-06-25
LOCATION:West Berkeley Fencing Club\, 1111 Addison Street\, Berkeley\, CA\, 94706\, United States
CATEGORIES:Adult Classes
GEO:37.8684577;-122.2913141
X-APPLE-STRUCTURED-LOCATION;VALUE=URI;X-ADDRESS=West Berkeley Fencing Club 1111 Addison Street Berkeley CA 94706 United States;X-APPLE-RADIUS=500;X-TITLE=1111 Addison Street:geo:-122.2913141,37.8684577
END:VEVENT
BEGIN:VEVENT
DTSTART;TZID=America/Los_Angeles:20240627T193000
DTEND;TZID=America/Los_Angeles:20240627T200000
DTSTAMP:20260425T213631
CREATED:20170902T090226Z
LAST-MODIFIED:20240516T011345Z
UID:10000654-1719516600-1719518400@westberkeleyfencing.com
SUMMARY:Footwork & Functional
DESCRIPTION:Group footwork and functional warm-up class for teen & adult members.\nOffered in-person and online over Zoom.
URL:https://westberkeleyfencing.com/event/3-weapon-drill-class-2/2024-06-27
LOCATION:West Berkeley Fencing Club\, 1111 Addison Street\, Berkeley\, CA\, 94706\, United States
CATEGORIES:Adult Classes
GEO:37.8684577;-122.2913141
X-APPLE-STRUCTURED-LOCATION;VALUE=URI;X-ADDRESS=West Berkeley Fencing Club 1111 Addison Street Berkeley CA 94706 United States;X-APPLE-RADIUS=500;X-TITLE=1111 Addison Street:geo:-122.2913141,37.8684577
END:VEVENT
BEGIN:VEVENT
DTSTART;TZID=America/Los_Angeles:20240629T113000
DTEND;TZID=America/Los_Angeles:20240629T123000
DTSTAMP:20260425T213631
CREATED:20240523T020824Z
LAST-MODIFIED:20240523T020824Z
UID:10000151-1719660600-1719664200@westberkeleyfencing.com
SUMMARY:3-Weapon Drill
DESCRIPTION:Footwork followed by partner drills in all weapons. Open to WBFC members ages 13+ with prior fencing experience & equipment.
URL:https://westberkeleyfencing.com/event/3-weapon-drill-class/2024-06-29
LOCATION:West Berkeley Fencing Club\, 1111 Addison Street\, Berkeley\, CA\, 94706\, United States
CATEGORIES:Adult Classes
GEO:37.8684577;-122.2913141
X-APPLE-STRUCTURED-LOCATION;VALUE=URI;X-ADDRESS=West Berkeley Fencing Club 1111 Addison Street Berkeley CA 94706 United States;X-APPLE-RADIUS=500;X-TITLE=1111 Addison Street:geo:-122.2913141,37.8684577
END:VEVENT
END:VCALENDAR